{"text_format":"1","workbook":"xlsx","n_sheets":7,"sheets":["GC","Contents","Examples_SC","Normal Distributions","Simulation Example","Required_List_SC","Lookups"],"not_rendered":{"charts":2,"images":1,"macros":0,"external_links":0,"defined_names":31,"comments":0,"pivot_tables":0},"unopened":[],"bounds":{"document_bytes":16777216,"sheet_cells":100000,"rows_first":2000,"rows_last":500,"rows_between":2000,"halvings":0,"cell_chars":16384,"cell_head_chars":4096},"cells_cut":0,"cells_raw":0,"read":"whole","date_system":"1900"}

{"sheet":"GC","index":0,"n_rows":26,"n_cols":7,"rows_kept":26,"cut":false,"hidden":false,"merged":[[24,6,24,8],[25,6,25,8],[10,2,10,5],[23,6,23,8]]}
["GC"]
[]
[]
[]
[]
[]
[]
[]
[null,null,"SumProduct Pty Ltd"]
[null,null,"Simulation Example"]
[null,null,"Go to Table of Contents"]
[]
[]
[]
[]
[]
[]
[]
[null,null,"Primary Developer:  Liam Bastick"]
[]
[null,null,"General Cover Notes:"]
[null,null,"Simple illustration of how to construct simulations analysis using the NORMINV function."]
[]
[null,null,"Any queries, please e-mail:",null,null,null,"liam.bastick@sumproduct.com"]
[null,null,"Website:",null,null,null,"www.sumproduct.com"]
[null,null,"For past articles visit:",null,null,null,"www.sumproduct.com"]

{"sheet":"Contents","index":1,"n_rows":14,"n_cols":17,"rows_kept":14,"cut":false,"hidden":false,"merged":[[11,5,11,6],[11,7,11,15],[7,1,7,2],[7,3,7,15],[8,5,8,6],[8,7,8,15],[2,1,2,8],[10,1,10,2],[10,3,10,15],[9,5,9,6],[9,7,9,15]]}
["C","Table of Contents"]
[null,{"$f":"Model_Name","v":"Simulation Example"}]
[null,"Go to Cover Sheet"]
[]
[]
["é","Section & Sheet Titles",null,null,null,null,null,null,null,null,null,null,null,null,null,null,"  Page  "]
[]
[null,1,null,{"$f":"Examples_SC!C9","v":"Examples"},null,null,null,null,null,null,null,null,null,null,null,null,3]
[null,null,null,null,null,"a.",null,{"$f":"'Normal Distributions'!B1","v":"Normal Distributions"},null,null,null,null,null,null,null,null,4]
[null,null,null,null,null,"b.",null,{"$f":"'Simulation Example'!B1","v":"Simulation Example"},null,null,null,null,null,null,null,null,5]
[null,2,null,{"$f":"Required_List_SC!C9","v":"Required List"},null,null,null,null,null,null,null,null,null,null,null,null,6]
[null,null,null,null,null,"a.",null,{"$f":"Lookups!B1","v":"Lookups"},null,null,null,null,null,null,null,null,7]
[]
[null,"Total Pages:",null,null,null,null,null,null,null,null,null,null,null,null,null,null,7]

{"sheet":"Examples_SC","index":2,"n_rows":18,"n_cols":4,"rows_kept":18,"cut":false,"hidden":false,"merged":[[11,2,11,5]]}
["SC"]
[]
[]
[]
[]
[]
[]
[]
[null,null,"Examples"]
[null,null,"Section 1."]
[null,null,{"$f":"Model_Name","v":"Simulation Example"}]
[null,null,"Go to Table of Contents"]
[null,null,"ç","è"]
[]
[]
[]
[null,null,"Section Cover Notes:"]
[null,null,"Construction of simple exampls using the NORM.INV function."]

{"sheet":"Normal Distributions","index":3,"n_rows":80,"n_cols":13,"rows_kept":80,"cut":false,"hidden":false,"merged":[[2,1,2,5]]}
[null,"Normal Distributions"]
[null,{"$f":"Model_Name","v":"Simulation Example"}]
[null,"Go to Table of Contents"]
["é","ç","è"]
[]
[]
[null,{"$f":"B1","v":"Normal Distributions"}]
[]
[null,null,"Assumptions"]
[]
[null,null,null,null,null,"Mean",null,null,0]
[null,null,null,null,null,"Standard Deviation",null,null,1]
[]
[]
[null,null,"Calculations"]
[]
[null,null,null,null,null,"Value","Cum Probability",null,"Incorrect Probability","Correct Probability",null,"Value","NORMINV"]
[null,null,null,null,null,{"$f":"-3*I12","v":-3},{"$f":"NORMDIST($F18,Mean,Standard_Deviation,TRUE)","v":1.3498980316301035E-3},null,{"$f":"NORMDIST($F18,Mean,Standard_Deviation,FALSE)","v":4.4318484119380067E-3},null,null,{"$f":"G18","v":1.3498980316301035E-3},{"$f":"NORMINV($L18,Mean,Standard_Deviation)","v":-2.999999999999952}]
[null,null,null,null,null,{"$f":"ROUND(F18+(0.1*$I$12),1)","v":-2.9},{"$f":"NORMDIST($F19,Mean,Standard_Deviation,TRUE)","v":1.8658133003837118E-3},null,{"$f":"NORMDIST($F19,Mean,Standard_Deviation,FALSE)","v":5.9525324197758529E-3},{"$f":"G19-G18","v":5.1591526875360838E-4},null,{"$f":"G19","v":1.8658133003837118E-3},{"$f":"NORMINV($L19,Mean,Standard_Deviation)","v":-2.9000000000000545}]
[null,null,null,null,null,{"$f":"ROUND(F19+(0.1*$I$12),1)","v":-2.8},{"$f":"NORMDIST($F20,Mean,Standard_Deviation,TRUE)","v":2.5551303304278683E-3},null,{"$f":"NORMDIST($F20,Mean,Standard_Deviation,FALSE)","v":7.9154515829799668E-3},{"$f":"G20-G19","v":6.8931703004415645E-4},null,2.5551303304278683E-3,{"$f":"NORMINV($L20,Mean,Standard_Deviation)","v":-2.8000000000000282}]
[null,null,null,null,null,-2.7,{"$f":"NORMDIST($F21,Mean,Standard_Deviation,TRUE)","v":3.4669738030406183E-3},null,{"$f":"NORMDIST($F21,Mean,Standard_Deviation,FALSE)","v":1.042093481442259E-2},9.1184347261275001E-4,null,3.4669738030406183E-3,{"$f":"NORMINV($L21,Mean,Standard_Deviation)","v":-2.7000000000000126}]
[null,null,null,null,null,-2.6,{"$f":"NORMDIST($F22,Mean,Standard_Deviation,TRUE)","v":4.661188023718732E-3},null,{"$f":"NORMDIST($F22,Mean,Standard_Deviation,FALSE)","v":1.3582969233685611E-2},1.1942142206781137E-3,null,4.661188023718732E-3,{"$f":"NORMINV($L22,Mean,Standard_Deviation)","v":-2.6000000000000005}]
[null,null,null,null,null,-2.5,{"$f":"NORMDIST($F23,Mean,Standard_Deviation,TRUE)","v":6.2096653257759371E-3},null,{"$f":"NORMDIST($F23,Mean,Standard_Deviation,FALSE)","v":1.7528300493568537E-2},1.5484773020572051E-3,null,6.2096653257759371E-3,{"$f":"NORMINV($L23,Mean,Standard_Deviation)","v":-2.5000000000000187}]
[null,null,null,null,null,-2.4,{"$f":"NORMDIST($F24,Mean,Standard_Deviation,TRUE)","v":8.1975359245960444E-3},null,{"$f":"NORMDIST($F24,Mean,Standard_Deviation,FALSE)","v":2.2394530294842896E-2},1.9878705988201073E-3,null,8.1975359245960444E-3,{"$f":"NORMINV($L24,Mean,Standard_Deviation)","v":-2.4000000000000057}]
[null,null,null,null,null,-2.2999999999999998,{"$f":"NORMDIST($F25,Mean,Standard_Deviation,TRUE)","v":1.0724110021675948E-2},null,{"$f":"NORMDIST($F25,Mean,Standard_Deviation,FALSE)","v":2.8327037741601183E-2},2.5265740970799033E-3,null,1.0724110021675948E-2,{"$f":"NORMINV($L25,Mean,Standard_Deviation)","v":-2.3000000000000016}]
[null,null,null,null,null,-2.2000000000000002,{"$f":"NORMDIST($F26,Mean,Standard_Deviation,TRUE)","v":1.390344751349859E-2},null,{"$f":"NORMDIST($F26,Mean,Standard_Deviation,FALSE)","v":3.5474592846231418E-2},3.1793374918226425E-3,null,1.390344751349859E-2,{"$f":"NORMINV($L26,Mean,Standard_Deviation)","v":-2.2000000000000011}]
[null,null,null,null,null,-2.1,{"$f":"NORMDIST($F27,Mean,Standard_Deviation,TRUE)","v":1.7864420562816452E-2},null,{"$f":"NORMDIST($F27,Mean,Standard_Deviation,FALSE)","v":4.3983595980427184E-2},3.9609730493178619E-3,null,1.7864420562816452E-2,{"$f":"NORMINV($L27,Mean,Standard_Deviation)","v":-2.1000000000000032}]
[null,null,null,null,null,-2,{"$f":"NORMDIST($F28,Mean,Standard_Deviation,TRUE)","v":2.275013194817932E-2},null,{"$f":"NORMDIST($F28,Mean,Standard_Deviation,FALSE)","v":5.3990966513188049E-2},4.8857113853628675E-3,null,2.275013194817932E-2,{"$f":"NORMINV($L28,Mean,Standard_Deviation)","v":-1.9999999999999996}]
[null,null,null,null,null,-1.9,{"$f":"NORMDIST($F29,Mean,Standard_Deviation,TRUE)","v":2.8716559816001963E-2},null,{"$f":"NORMDIST($F29,Mean,Standard_Deviation,FALSE)","v":6.5615814774676581E-2},5.9664278678226434E-3,null,2.8716559816001963E-2,{"$f":"NORMINV($L29,Mean,Standard_Deviation)","v":-1.9000000000000008}]
[null,null,null,null,null,-1.8,{"$f":"NORMDIST($F30,Mean,Standard_Deviation,TRUE)","v":3.5930319112925879E-2},null,{"$f":"NORMDIST($F30,Mean,Standard_Deviation,FALSE)","v":7.8950158300894135E-2},7.2137592969239162E-3,null,3.5930319112925879E-2,{"$f":"NORMINV($L30,Mean,Standard_Deviation)","v":-1.8000000000000012}]
[null,null,null,null,null,-1.7,{"$f":"NORMDIST($F31,Mean,Standard_Deviation,TRUE)","v":4.4565462758543117E-2},null,{"$f":"NORMDIST($F31,Mean,Standard_Deviation,FALSE)","v":9.4049077376886933E-2},8.6351436456172381E-3,null,4.4565462758543117E-2,{"$f":"NORMINV($L31,Mean,Standard_Deviation)","v":-1.7000000000000002}]
[null,null,null,null,null,-1.6,{"$f":"NORMDIST($F32,Mean,Standard_Deviation,TRUE)","v":5.4799291699557995E-2},null,{"$f":"NORMDIST($F32,Mean,Standard_Deviation,FALSE)","v":0.11092083467945553},1.0233828941014878E-2,null,5.4799291699557995E-2,{"$f":"NORMINV($L32,Mean,Standard_Deviation)","v":-1.6}]
[null,null,null,null,null,-1.5,{"$f":"NORMDIST($F33,Mean,Standard_Deviation,TRUE)","v":6.6807201268858085E-2},null,{"$f":"NORMDIST($F33,Mean,Standard_Deviation,FALSE)","v":0.12951759566589172},1.200790956930009E-2,null,6.6807201268858085E-2,{"$f":"NORMINV($L33,Mean,Standard_Deviation)","v":-1.5000000000000004}]
[null,null,null,null,null,-1.4,{"$f":"NORMDIST($F34,Mean,Standard_Deviation,TRUE)","v":8.0756659233771177E-2},null,{"$f":"NORMDIST($F34,Mean,Standard_Deviation,FALSE)","v":0.14972746563574485},1.3949457964913092E-2,null,8.0756659233771177E-2,{"$f":"NORMINV($L34,Mean,Standard_Deviation)","v":-1.4}]
[null,null,null,null,null,-1.3,{"$f":"NORMDIST($F35,Mean,Standard_Deviation,TRUE)","v":9.6800484585610302E-2},null,{"$f":"NORMDIST($F35,Mean,Standard_Deviation,FALSE)","v":0.17136859204780733},1.6043825351839125E-2,null,9.6800484585610302E-2,{"$f":"NORMINV($L35,Mean,Standard_Deviation)","v":-1.3000000000000012}]
[null,null,null,null,null,-1.2,{"$f":"NORMDIST($F36,Mean,Standard_Deviation,TRUE)","v":0.11506967022170822},null,{"$f":"NORMDIST($F36,Mean,Standard_Deviation,FALSE)","v":0.19418605498321292},1.8269185636097918E-2,null,0.11506967022170822,{"$f":"NORMINV($L36,Mean,Standard_Deviation)","v":-1.2000000000000006}]
[null,null,null,null,null,-1.1000000000000001,{"$f":"NORMDIST($F37,Mean,Standard_Deviation,TRUE)","v":0.13566606094638267},null,{"$f":"NORMDIST($F37,Mean,Standard_Deviation,FALSE)","v":0.2178521770325505},2.0596390724674452E-2,null,0.13566606094638267,{"$f":"NORMINV($L37,Mean,Standard_Deviation)","v":-1.1000000000000005}]
[null,null,null,null,null,-1,{"$f":"NORMDIST($F38,Mean,Standard_Deviation,TRUE)","v":0.15865525393145707},null,{"$f":"NORMDIST($F38,Mean,Standard_Deviation,FALSE)","v":0.24197072451914334},2.2989192985074403E-2,null,0.15865525393145707,{"$f":"NORMINV($L38,Mean,Standard_Deviation)","v":-1}]
[null,null,null,null,null,-0.9,{"$f":"NORMDIST($F39,Mean,Standard_Deviation,TRUE)","v":0.18406012534675953},null,{"$f":"NORMDIST($F39,Mean,Standard_Deviation,FALSE)","v":0.26608524989875482},2.5404871415302455E-2,null,0.18406012534675953,{"$f":"NORMINV($L39,Mean,Standard_Deviation)","v":-0.90000000000000036}]
[null,null,null,null,null,-0.8,{"$f":"NORMDIST($F40,Mean,Standard_Deviation,TRUE)","v":0.21185539858339675},null,{"$f":"NORMDIST($F40,Mean,Standard_Deviation,FALSE)","v":0.28969155276148267},2.7795273236637219E-2,null,0.21185539858339675,{"$f":"NORMINV($L40,Mean,Standard_Deviation)","v":-0.8}]
[null,null,null,null,null,-0.7,{"$f":"NORMDIST($F41,Mean,Standard_Deviation,TRUE)","v":0.24196365222307303},null,{"$f":"NORMDIST($F41,Mean,Standard_Deviation,FALSE)","v":0.31225393336676122},3.0108253639676286E-2,null,0.24196365222307303,{"$f":"NORMINV($L41,Mean,Standard_Deviation)","v":-0.70000000000000018}]
[null,null,null,null,null,-0.6,{"$f":"NORMDIST($F42,Mean,Standard_Deviation,TRUE)","v":0.27425311775007366},null,{"$f":"NORMDIST($F42,Mean,Standard_Deviation,FALSE)","v":0.33322460289179962},3.2289465527000627E-2,null,0.27425311775007366,{"$f":"NORMINV($L42,Mean,Standard_Deviation)","v":-0.60000000000000009}]
[null,null,null,null,null,-0.5,{"$f":"NORMDIST($F43,Mean,Standard_Deviation,TRUE)","v":0.30853753872598688},null,{"$f":"NORMDIST($F43,Mean,Standard_Deviation,FALSE)","v":0.35206532676429947},3.4284420975913221E-2,null,0.30853753872598688,{"$f":"NORMINV($L43,Mean,Standard_Deviation)","v":-0.50000000000000022}]
[null,null,null,null,null,-0.4,{"$f":"NORMDIST($F44,Mean,Standard_Deviation,TRUE)","v":0.34457825838967582},null,{"$f":"NORMDIST($F44,Mean,Standard_Deviation,FALSE)","v":0.36827014030332328},3.6040719663688936E-2,null,0.34457825838967582,{"$f":"NORMINV($L44,Mean,Standard_Deviation)","v":-0.40000000000000013}]
[null,null,null,null,null,-0.3,{"$f":"NORMDIST($F45,Mean,Standard_Deviation,TRUE)","v":0.38208857781104744},null,{"$f":"NORMDIST($F45,Mean,Standard_Deviation,FALSE)","v":0.38138781546052408},3.7510319421371618E-2,null,0.38208857781104744,{"$f":"NORMINV($L45,Mean,Standard_Deviation)","v":-0.30000000000000004}]
[null,null,null,null,null,-0.2,{"$f":"NORMDIST($F46,Mean,Standard_Deviation,TRUE)","v":0.42074029056089701},null,{"$f":"NORMDIST($F46,Mean,Standard_Deviation,FALSE)","v":0.39104269397545582},3.8651712749849576E-2,null,0.42074029056089701,{"$f":"NORMINV($L46,Mean,Standard_Deviation)","v":-0.20000000000000012}]
[null,null,null,null,null,-0.1,{"$f":"NORMDIST($F47,Mean,Standard_Deviation,TRUE)","v":0.46017216272297101},null,{"$f":"NORMDIST($F47,Mean,Standard_Deviation,FALSE)","v":0.39695254747701175},3.9431872162074E-2,null,0.46017216272297101,{"$f":"NORMINV($L47,Mean,Standard_Deviation)","v":-0.10000000000000014}]
[null,null,null,null,null,0,{"$f":"NORMDIST($F48,Mean,Standard_Deviation,TRUE)","v":0.5},null,{"$f":"NORMDIST($F48,Mean,Standard_Deviation,FALSE)","v":0.39894228040143265},3.9827837277028988E-2,null,0.5,{"$f":"NORMINV($L48,Mean,Standard_Deviation)","v":-1.392137635291833E-16}]
[null,null,null,null,null,0.1,{"$f":"NORMDIST($F49,Mean,Standard_Deviation,TRUE)","v":0.53982783727702899},null,{"$f":"NORMDIST($F49,Mean,Standard_Deviation,FALSE)","v":0.39695254747701175},3.9827837277028988E-2,null,0.53982783727702899,{"$f":"NORMINV($L49,Mean,Standard_Deviation)","v":9.9999999999999895E-2}]
[null,null,null,null,null,0.2,{"$f":"NORMDIST($F50,Mean,Standard_Deviation,TRUE)","v":0.57925970943910299},null,{"$f":"NORMDIST($F50,Mean,Standard_Deviation,FALSE)","v":0.39104269397545582},3.9431872162074E-2,null,0.57925970943910299,{"$f":"NORMINV($L50,Mean,Standard_Deviation)","v":0.19999999999999979}]
[null,null,null,null,null,0.3,{"$f":"NORMDIST($F51,Mean,Standard_Deviation,TRUE)","v":0.61791142218895256},null,{"$f":"NORMDIST($F51,Mean,Standard_Deviation,FALSE)","v":0.38138781546052408},3.8651712749849576E-2,null,0.61791142218895256,{"$f":"NORMINV($L51,Mean,Standard_Deviation)","v":0.29999999999999971}]
[null,null,null,null,null,0.4,{"$f":"NORMDIST($F52,Mean,Standard_Deviation,TRUE)","v":0.65542174161032418},null,{"$f":"NORMDIST($F52,Mean,Standard_Deviation,FALSE)","v":0.36827014030332328},3.7510319421371618E-2,null,0.65542174161032418,{"$f":"NORMINV($L52,Mean,Standard_Deviation)","v":0.3999999999999998}]
[null,null,null,null,null,0.5,{"$f":"NORMDIST($F53,Mean,Standard_Deviation,TRUE)","v":0.69146246127401312},null,{"$f":"NORMDIST($F53,Mean,Standard_Deviation,FALSE)","v":0.35206532676429947},3.6040719663688936E-2,null,0.69146246127401312,{"$f":"NORMINV($L53,Mean,Standard_Deviation)","v":0.5}]
[null,null,null,null,null,0.6,{"$f":"NORMDIST($F54,Mean,Standard_Deviation,TRUE)","v":0.72574688224992634},null,{"$f":"NORMDIST($F54,Mean,Standard_Deviation,FALSE)","v":0.33322460289179962},3.4284420975913221E-2,null,0.72574688224992634,{"$f":"NORMINV($L54,Mean,Standard_Deviation)","v":0.59999999999999964}]
[null,null,null,null,null,0.7,{"$f":"NORMDIST($F55,Mean,Standard_Deviation,TRUE)","v":0.75803634777692697},null,{"$f":"NORMDIST($F55,Mean,Standard_Deviation,FALSE)","v":0.31225393336676122},3.2289465527000627E-2,null,0.75803634777692697,{"$f":"NORMINV($L55,Mean,Standard_Deviation)","v":0.69999999999999973}]
[null,null,null,null,null,0.8,{"$f":"NORMDIST($F56,Mean,Standard_Deviation,TRUE)","v":0.78814460141660325},null,{"$f":"NORMDIST($F56,Mean,Standard_Deviation,FALSE)","v":0.28969155276148267},3.0108253639676286E-2,null,0.78814460141660325,{"$f":"NORMINV($L56,Mean,Standard_Deviation)","v":0.8}]
[null,null,null,null,null,0.9,{"$f":"NORMDIST($F57,Mean,Standard_Deviation,TRUE)","v":0.81593987465324047},null,{"$f":"NORMDIST($F57,Mean,Standard_Deviation,FALSE)","v":0.26608524989875482},2.7795273236637219E-2,null,0.81593987465324047,{"$f":"NORMINV($L57,Mean,Standard_Deviation)","v":0.89999999999999969}]
[null,null,null,null,null,1,{"$f":"NORMDIST($F58,Mean,Standard_Deviation,TRUE)","v":0.84134474606854293},null,{"$f":"NORMDIST($F58,Mean,Standard_Deviation,FALSE)","v":0.24197072451914334},2.5404871415302455E-2,null,0.84134474606854293,{"$f":"NORMINV($L58,Mean,Standard_Deviation)","v":0.99999999999999978}]
[null,null,null,null,null,1.1000000000000001,{"$f":"NORMDIST($F59,Mean,Standard_Deviation,TRUE)","v":0.86433393905361733},null,{"$f":"NORMDIST($F59,Mean,Standard_Deviation,FALSE)","v":0.2178521770325505},2.2989192985074403E-2,null,0.86433393905361733,{"$f":"NORMINV($L59,Mean,Standard_Deviation)","v":1.0999999999999996}]
[null,null,null,null,null,1.2,{"$f":"NORMDIST($F60,Mean,Standard_Deviation,TRUE)","v":0.88493032977829178},null,{"$f":"NORMDIST($F60,Mean,Standard_Deviation,FALSE)","v":0.19418605498321292},2.0596390724674452E-2,null,0.88493032977829178,{"$f":"NORMINV($L60,Mean,Standard_Deviation)","v":1.1999999999999997}]
[null,null,null,null,null,1.3,{"$f":"NORMDIST($F61,Mean,Standard_Deviation,TRUE)","v":0.9031995154143897},null,{"$f":"NORMDIST($F61,Mean,Standard_Deviation,FALSE)","v":0.17136859204780733},1.8269185636097918E-2,null,0.9031995154143897,{"$f":"NORMINV($L61,Mean,Standard_Deviation)","v":1.2999999999999998}]
[null,null,null,null,null,1.4,{"$f":"NORMDIST($F62,Mean,Standard_Deviation,TRUE)","v":0.91924334076622882},null,{"$f":"NORMDIST($F62,Mean,Standard_Deviation,FALSE)","v":0.14972746563574485},1.6043825351839125E-2,null,0.91924334076622882,{"$f":"NORMINV($L62,Mean,Standard_Deviation)","v":1.399999999999999}]
[null,null,null,null,null,1.5,{"$f":"NORMDIST($F63,Mean,Standard_Deviation,TRUE)","v":0.93319279873114191},null,{"$f":"NORMDIST($F63,Mean,Standard_Deviation,FALSE)","v":0.12951759566589172},1.3949457964913092E-2,null,0.93319279873114191,{"$f":"NORMINV($L63,Mean,Standard_Deviation)","v":1.4999999999999996}]
[null,null,null,null,null,1.6,{"$f":"NORMDIST($F64,Mean,Standard_Deviation,TRUE)","v":0.94520070830044201},null,{"$f":"NORMDIST($F64,Mean,Standard_Deviation,FALSE)","v":0.11092083467945553},1.200790956930009E-2,null,0.94520070830044201,{"$f":"NORMINV($L64,Mean,Standard_Deviation)","v":1.5999999999999996}]
[null,null,null,null,null,1.7,{"$f":"NORMDIST($F65,Mean,Standard_Deviation,TRUE)","v":0.95543453724145688},null,{"$f":"NORMDIST($F65,Mean,Standard_Deviation,FALSE)","v":9.4049077376886933E-2},1.0233828941014878E-2,null,0.95543453724145688,{"$f":"NORMINV($L65,Mean,Standard_Deviation)","v":1.6999999999999997}]
[null,null,null,null,null,1.8,{"$f":"NORMDIST($F66,Mean,Standard_Deviation,TRUE)","v":0.96406968088707412},null,{"$f":"NORMDIST($F66,Mean,Standard_Deviation,FALSE)","v":7.8950158300894135E-2},8.6351436456172381E-3,null,0.96406968088707412,{"$f":"NORMINV($L66,Mean,Standard_Deviation)","v":1.7999999999999989}]
[null,null,null,null,null,1.9,{"$f":"NORMDIST($F67,Mean,Standard_Deviation,TRUE)","v":0.97128344018399804},null,{"$f":"NORMDIST($F67,Mean,Standard_Deviation,FALSE)","v":6.5615814774676581E-2},7.2137592969239162E-3,null,0.97128344018399804,{"$f":"NORMINV($L67,Mean,Standard_Deviation)","v":1.8999999999999986}]
[null,null,null,null,null,2,{"$f":"NORMDIST($F68,Mean,Standard_Deviation,TRUE)","v":0.97724986805182068},null,{"$f":"NORMDIST($F68,Mean,Standard_Deviation,FALSE)","v":5.3990966513188049E-2},5.9664278678226434E-3,null,0.97724986805182068,{"$f":"NORMINV($L68,Mean,Standard_Deviation)","v":1.999999999999996}]
[null,null,null,null,null,2.1,{"$f":"NORMDIST($F69,Mean,Standard_Deviation,TRUE)","v":0.98213557943718355},null,{"$f":"NORMDIST($F69,Mean,Standard_Deviation,FALSE)","v":4.3983595980427184E-2},4.8857113853628675E-3,null,0.98213557943718355,{"$f":"NORMINV($L69,Mean,Standard_Deviation)","v":2.1000000000000023}]
[null,null,null,null,null,2.2000000000000002,{"$f":"NORMDIST($F70,Mean,Standard_Deviation,TRUE)","v":0.98609655248650141},null,{"$f":"NORMDIST($F70,Mean,Standard_Deviation,FALSE)","v":3.5474592846231418E-2},3.9609730493178619E-3,null,0.98609655248650141,{"$f":"NORMINV($L70,Mean,Standard_Deviation)","v":2.1999999999999993}]
[null,null,null,null,null,2.2999999999999998,{"$f":"NORMDIST($F71,Mean,Standard_Deviation,TRUE)","v":0.98927588997832405},null,{"$f":"NORMDIST($F71,Mean,Standard_Deviation,FALSE)","v":2.8327037741601183E-2},3.1793374918226425E-3,null,0.98927588997832405,{"$f":"NORMINV($L71,Mean,Standard_Deviation)","v":2.2999999999999972}]
[null,null,null,null,null,2.4,{"$f":"NORMDIST($F72,Mean,Standard_Deviation,TRUE)","v":0.99180246407540396},null,{"$f":"NORMDIST($F72,Mean,Standard_Deviation,FALSE)","v":2.2394530294842896E-2},2.5265740970799033E-3,null,0.99180246407540396,{"$f":"NORMINV($L72,Mean,Standard_Deviation)","v":2.400000000000003}]
[null,null,null,null,null,2.5,{"$f":"NORMDIST($F73,Mean,Standard_Deviation,TRUE)","v":0.99379033467422406},null,{"$f":"NORMDIST($F73,Mean,Standard_Deviation,FALSE)","v":1.7528300493568537E-2},1.9878705988201073E-3,null,0.99379033467422406,{"$f":"NORMINV($L73,Mean,Standard_Deviation)","v":2.5000000000000036}]
[null,null,null,null,null,2.6,{"$f":"NORMDIST($F74,Mean,Standard_Deviation,TRUE)","v":0.99533881197628127},null,{"$f":"NORMDIST($F74,Mean,Standard_Deviation,FALSE)","v":1.3582969233685611E-2},1.5484773020572051E-3,null,0.99533881197628127,{"$f":"NORMINV($L74,Mean,Standard_Deviation)","v":2.599999999999997}]
[null,null,null,null,null,2.7,{"$f":"NORMDIST($F75,Mean,Standard_Deviation,TRUE)","v":0.99653302619695938},null,{"$f":"NORMDIST($F75,Mean,Standard_Deviation,FALSE)","v":1.042093481442259E-2},1.1942142206781137E-3,null,0.99653302619695938,{"$f":"NORMINV($L75,Mean,Standard_Deviation)","v":2.6999999999999869}]
[null,null,null,null,null,2.8,{"$f":"NORMDIST($F76,Mean,Standard_Deviation,TRUE)","v":0.99744486966957213},null,{"$f":"NORMDIST($F76,Mean,Standard_Deviation,FALSE)","v":7.9154515829799668E-3},9.1184347261275001E-4,null,0.99744486966957213,{"$f":"NORMINV($L76,Mean,Standard_Deviation)","v":2.8000000000000185}]
[null,null,null,null,null,2.9,{"$f":"NORMDIST($F77,Mean,Standard_Deviation,TRUE)","v":0.99813418669961629},null,{"$f":"NORMDIST($F77,Mean,Standard_Deviation,FALSE)","v":5.9525324197758529E-3},6.8931703004415645E-4,null,0.99813418669961629,{"$f":"NORMINV($L77,Mean,Standard_Deviation)","v":2.8999999999999959}]
[null,null,null,null,null,3,{"$f":"NORMDIST($F78,Mean,Standard_Deviation,TRUE)","v":0.9986501019683699},null,{"$f":"NORMDIST($F78,Mean,Standard_Deviation,FALSE)","v":4.4318484119380067E-3},5.1591526875360838E-4,null,0.9986501019683699,{"$f":"NORMINV($L78,Mean,Standard_Deviation)","v":2.999999999999952}]
[]
[null,null,null,null,null,"ANALYSIS",{"$f":"G78-G18","v":0.99730020393673979},null,{"$f":"SUM(I18:I78)","v":9.9772125168981116},{"$f":"SUM(J18:J78)","v":0.99730020393673979}]

{"sheet":"Simulation Example","index":4,"n_rows":1146,"n_cols":18,"rows_kept":1146,"cut":false,"hidden":false,"merged":[[1044,14,1044,15],[2,1,2,5],[1044,5,1044,6],[1044,7,1044,8],[1044,9,1044,10],[1044,11,1044,12]]}
[null,"Simulation Example"]
[null,{"$f":"Model_Name","v":"Simulation Example"}]
[null,"Go to Table of Contents"]
["é","ç","è"]
[]
[]
[null,{"$f":"B1","v":"Simulation Example"}]
[]
[null,null,"Assumptions"]
[null,null,null,null,null,null,null,"Mean","Standard Deviation",null,"Value Used"]
[null,null,null,"Sales (US$)",null,null,null,1000,175,null,{"$f":"NORMINV(RAND(),Mean_Sales,SD_Sales)","v":981.30219924482799}]
[null,null,null,"Foreign Exchange (US$:A$)",null,null,null,0.92,0.05,null,{"$f":"NORMINV(RAND(),Mean_FX,SD_FX)","v":0.90705444085923148}]
[null,null,null,"Gross Margin (%)",null,null,null,0.4,0.02,null,{"$f":"NORMINV(RAND(),Mean_GM,SD_GM)","v":0.38324165872954002}]
[]
[]
[null,null,"Calculations"]
[]
[null,null,null,null,null,{"$f":"D11","v":"Sales (US$)"},null,{"$f":"K11","v":981.30219924482799}]
[null,null,null,null,null,{"$f":"D12","v":"Foreign Exchange (US$:A$)"},null,{"$f":"K12","v":0.90705444085923148}]
[null,null,null,null,null,"Sales (A$)",null,{"$f":"H18/H19","v":1081.8559008600005}]
[null,null,null,null,null,{"$f":"D13","v":"Gross Margin (%)"},null,{"$f":"K13","v":0.38324165872954002}]
[]
[null,null,null,null,null,"Gross Profit (A$)",null,{"$f":"H20*H21","v":414.61224995192737}]
[]
[]
[null,null,"Data Table"]
[]
[null,null,null,null,null,"Data Table Switch",true]
[]
[null,null,null,null,null,{"$f":"IF(Data_Switch,H18,)","v":981.30219924482799},{"$f":"IF(Data_Switch,H19,)","v":0.90705444085923148},{"$f":"IF(Data_Switch,H21,)","v":0.38324165872954002},{"$f":"IF(Data_Switch,H23,)","v":414.61224995192737}]
[null,null,null,null,1,1051.9406484673741,0.84915531770812525,0.40657884961012791,503.67325010264659]
[null,null,null,null,2,918.58843954627946,0.90947631885223024,0.41887400318427853,423.07073749554854]
[null,null,null,null,3,1086.9615547723763,0.88644225144089439,0.40280603546084487,493.92351714341828]
[null,null,null,null,4,981.61506911911044,0.89952035213350579,0.400100501330102,436.61567004706092]
[null,null,null,null,5,1067.4056760206067,0.8524074946804332,0.41452754638351258,519.08161136304636]
[null,null,null,null,6,1171.260052906217,0.94270303659519006,0.38962404131486816,484.08783840583948]
[null,null,null,null,7,963.95803606835614,0.93543576507394099,0.40281155552970282,415.09363921247922]
[null,null,null,null,8,766.36374740088195,0.95021703700251192,0.39430481332460421,318.01251986692176]
[null,null,null,null,9,1150.9190592379773,0.90518379180242747,0.40479298650351209,514.68438501872879]
[null,null,null,null,10,1126.3291848113229,0.93982583479329374,0.40385655729670555,483.99970518021718]
[null,null,null,null,11,919.16605009655007,0.90459949811796991,0.37553374755225438,381.58087875762402]
[null,null,null,null,12,921.0958908827406,0.90877470459573262,0.42640288381677877,432.18406295639966]
[null,null,null,null,13,792.92069762980032,0.92922038537726415,0.39330782468560782,335.61673811789569]
[null,null,null,null,14,931.05597163623975,0.9489504338661553,0.37217651677910302,365.15834345340903]
[null,null,null,null,15,1359.4514889509774,0.93826008272204531,0.38496274434127592,557.77516876462732]
[null,null,null,null,16,1227.0818187507073,1.0054301659719325,0.38966082456065948,475.5633255101103]
[null,null,null,null,17,750.64384827499316,0.88776143986027445,0.36809314008228516,311.23997820684895]
[null,null,null,null,18,925.02024277337443,0.94184055971469083,0.39276258746733811,385.74824609527678]
[null,null,null,null,19,1229.0311548092327,0.83291851708262454,0.40132708380627102,592.18696565214407]
[null,null,null,null,20,1040.5033537162221,0.93963085001913182,0.4048347112558292,448.29506689127118]
[null,null,null,null,21,1172.48295154017,0.96755213134168072,0.41513761209097882,503.06516512429795]
[null,null,null,null,22,1116.0311166325237,0.86711654598302546,0.36756036914818707,473.0722889681129]
[null,null,null,null,23,1253.5935766726359,0.99614729709828498,0.39629045713295469,498.708547426314]
[null,null,null,null,24,707.37929028976373,0.87452068095514357,0.38342908747095916,310.14680576269973]
[null,null,null,null,25,923.42369391856698,0.83299581713461868,0.42985099458271381,476.5145095416388]
[null,null,null,null,26,963.21166301209041,0.80692061524990488,0.40747148541991884,486.39392733791362]
[null,null,null,null,27,1181.24381804268,0.83539464181212453,0.38079721865900373,538.44535020366516]
[null,null,null,null,28,933.85811181488418,0.95275717013173866,0.38619418790023202,378.53357226010252]
[null,null,null,null,29,981.79292489975376,0.95515670119864282,0.38079338517715211,391.41247812677324]
[null,null,null,null,30,880.17658774202107,0.96604799088794635,0.43182865951293137,393.44367940763078]
[null,null,null,null,31,1103.9437138782316,0.95236915060372362,0.39089235435882724,453.10493008298232]
[null,null,null,null,32,881.2679084876836,0.84496464154593687,0.4056945056417709,423.12486332888898]
[null,null,null,null,33,1079.4980471593449,1.0235384641148473,0.42597740435476827,449.26672739421531]
[null,null,null,null,34,990.3953233474374,0.94099391776655728,0.35981157887106313,378.70139038301801]
[null,null,null,null,35,1374.4353124714698,0.80962685982393001,0.44129420184932977,749.14798941148513]
[null,null,null,null,36,896.4755754302787,0.87665154124666356,0.41994936550956891,429.44583039390631]
[null,null,null,null,37,1303.2772983619966,0.957836786693125,0.40899282715520668,556.49467031281097]
[null,null,null,null,38,1053.0278213549163,0.98764298984214316,0.41628421547335548,443.84343836066893]
[null,null,null,null,39,902.37795831767721,0.92532397458707027,0.40272476530951473,392.73806954600826]
[null,null,null,null,40,1230.8658180593654,0.88951428054714754,0.39320500084874516,544.09761104343659]
[null,null,null,null,41,1050.2786746555157,0.96793366373764189,0.39822048102844992,432.09828803785342]
[null,null,null,null,42,821.08929575841091,0.90518296685496158,0.41340013170278056,374.99426683385548]
[null,null,null,null,43,898.74204761221858,0.90544192278305757,0.38513069501608793,382.28089591120983]
[null,null,null,null,44,1327.7472574029516,0.79941119735550792,0.39257860314476606,652.03635546368366]
[null,null,null,null,45,706.15959745417183,0.9202096771551006,0.41751695499322555,320.39828768135607]
[null,null,null,null,46,908.25609461129091,0.88292469052015976,0.38780168274235627,398.92784246836851]
[null,null,null,null,47,934.51486423479219,0.95802262060327081,0.37646258964546347,367.22503027169904]
[null,null,null,null,48,806.16425744364767,0.96810275898040032,0.40526325903447574,337.47321888929264]
[null,null,null,null,49,1277.9243664620744,0.93914923639485803,0.4277386968823057,582.03497595648639]
[null,null,null,null,50,857.24689151019845,0.90373678132705804,0.39031604738800518,370.23746874459192]
[null,null,null,null,51,646.9255979243934,0.85509390895630255,0.4224383738896117,319.59787662188938]
[null,null,null,null,52,1115.3229523545549,0.89518472476653677,0.36433949451017722,453.93558383431332]
[null,null,null,null,53,1254.1835593371686,0.76861053726228779,0.43749206152363884,713.87955837538959]
[null,null,null,null,54,1246.908808108655,0.90408268427104599,0.38842955443817306,535.72116929680431]
[null,null,null,null,55,895.01928480234812,0.86781331971203324,0.42272899659878532,435.98155917520057]
[null,null,null,null,56,1074.237705459602,0.90478849042436194,0.35220002064326972,418.1602065486037]
[null,null,null,null,57,919.92264026037856,0.96479605978183158,0.43314304951417676,412.99722742401775]
[null,null,null,null,58,934.68375457806428,0.90494422755530102,0.40455217161300183,417.84712380282309]
[null,null,null,null,59,917.4585501847597,0.92848534665316373,0.42614844911173622,421.08746217142595]
[null,null,null,null,60,1177.6003476501487,0.88865227280686077,0.39287900665661168,520.62484841449793]
[null,null,null,null,61,897.85499132131463,0.84339202147281778,0.39422146451437851,419.67875031841413]
[null,null,null,null,62,1257.3048030050677,0.96014359682961969,0.3519787022989499,460.91492399390688]
[null,null,null,null,63,1039.4934479974804,0.9306098238504521,0.39781988362815796,444.36578243240666]
[null,null,null,null,64,1184.08940839808,0.88918686403645775,0.38980457545424929,519.08489408539219]
[null,null,null,null,65,1075.6187865215115,0.88162138891283437,0.40238377580215734,490.92677887270764]
[null,null,null,null,66,1052.7863296407556,0.92083653593829062,0.40217609054276765,459.80526804397226]
[null,null,null,null,67,831.7361473348825,0.96511294899973199,0.39155755211721538,337.44503189537107]
[null,null,null,null,68,899.18903981173833,0.9411205549724404,0.39259033409051264,375.0985181282702]
[null,null,null,null,69,1345.8577905034267,0.89562411051877933,0.41932202045691763,630.11681053861798]
[null,null,null,null,70,759.10304929229426,0.9060784354487319,0.38686624977198897,324.11250326772375]
[null,null,null,null,71,676.93385103629271,0.89075825022766852,0.36001217888679304,273.59211167734367]
[null,null,null,null,72,912.18083781125631,1.0284292042287015,0.4144562584387656,367.60824712511686]
[null,null,null,null,73,1101.1059716255913,0.89514873568290021,0.39497926711183945,485.85672117757537]
[null,null,null,null,74,1204.6034918563694,0.82255265117180631,0.39715753494551603,581.62520384668937]
[null,null,null,null,75,1008.3173033519334,1.00892434993842,0.41188184071468203,411.63402088016534]
[null,null,null,null,76,855.79538500078854,0.88554896914740966,0.39817987337300698,384.80141686675518]
[null,null,null,null,77,1116.0669064894887,0.86993269400722584,0.42354442897386646,543.37987738830032]
[null,null,null,null,78,950.31993493553807,0.97079497388080394,0.41122456053767747,402.55142242016126]
[null,null,null,null,79,1209.7287091565306,0.92086641692132765,0.39271101922898849,515.89870760160068]
[null,null,null,null,80,714.2474261970483,0.94317680433000095,0.39648522998426949,300.24970264464497]
[null,null,null,null,81,1042.7269242997641,0.99615036815484126,0.40805211032400113,427.13121989835588]
[null,null,null,null,82,899.66633378454674,0.97329970560741186,0.40506551841049504,374.42095974279488]
[null,null,null,null,83,859.36928353806638,0.85551533281077097,0.41672935219384261,418.60664688205839]
[null,null,null,null,84,1048.0836710070664,0.93091605714909975,0.43028523218455123,484.44209578810842]
[null,null,null,null,85,1017.7573231273798,0.92755164552107439,0.36210501659520355,397.32022918669549]
[null,null,null,null,86,1195.9927999837278,0.91544005066142509,0.38580742773636195,504.04491852802738]
[null,null,null,null,87,1124.8756218644128,0.96478861979036123,0.3904768168079531,455.26848381143276]
[null,null,null,null,88,1048.4075152218654,0.92453876298948501,0.36453745074274507,413.37780333052541]
[null,null,null,null,89,669.61920406464969,0.88784271635999801,0.38234814435421743,288.37051358346002]
[null,null,null,null,90,850.81155215575563,0.86070592186481676,0.43183682831406517,426.87258544691917]
[null,null,null,null,91,965.18555054743319,0.92175186207141901,0.40182043025200714,420.75453183509825]
[null,null,null,null,92,852.17177199754587,1.0061853002136978,0.3873737307892251,328.07968723240577]
[null,null,null,null,93,1218.9454764958011,0.8829419342984508,0.36483272511963422,503.66981416004813]
[null,null,null,null,94,1158.0661825001271,0.8878689686714516,0.40965743969443952,534.32482050768363]
[null,null,null,null,95,1212.5040360227185,0.86700352245230405,0.43666092681861579,610.67010967088549]
[null,null,null,null,96,1048.5478874462401,0.94924634712146927,0.38142506076491745,421.32628995298069]
[null,null,null,null,97,853.72811064023631,0.86865750077534398,0.41741401791798816,410.24003195021817]
[null,null,null,null,98,1056.3236283121473,0.8260790013385686,0.42861042198278487,548.0726605416952]
[null,null,null,null,99,1215.2345430604864,0.91264324681201647,0.42663368183863465,568.08614890258093]
[null,null,null,null,100,1083.1144310146278,0.87872991966505276,0.38130477543378472,469.99276529078116]
[null,null,null,null,101,1212.5228869041273,0.92256513658143713,0.38084742500800395,500.54592454236439]
[null,null,null,null,102,757.42015962209632,0.8538750669151941,0.41895366425481778,371.62807950412082]
[null,null,null,null,103,882.69756521046179,0.88989421832442439,0.44060437536797831,437.04116888261882]
[null,null,null,null,104,1004.5955038391886,0.95482034571228491,0.39608800722706766,416.73622998481596]
[null,null,null,null,105,1045.3798600413613,0.85591481522084678,0.37810083848181003,461.79712581753773]
[null,null,null,null,106,1250.6445372912438,0.91551720259775238,0.40827226274920603,557.72133356534209]
[null,null,null,null,107,1105.3284785035248,0.80619397116809177,0.39394042850789079,540.11018444203364]
[null,null,null,null,108,834.8853330484709,0.88823878832547332,0.42295164517862482,397.54639156668327]
[null,null,null,null,109,972.60211251276473,0.89849973792592452,0.37063345709390172,401.20087755346361]
[null,null,null,null,110,1428.9267849762998,0.84598551332198879,0.3720476107593147,628.41359329291402]
[null,null,null,null,111,1122.6802558957022,0.94645169419735864,0.41611105357656242,493.59060475510222]
[null,null,null,null,112,1185.8872893923185,0.89623636195155221,0.39713440209437595,525.48262893354581]
[null,null,null,null,113,1148.23904120105,0.86452542385794895,0.36888983569108458,489.94939830981957]
[null,null,null,null,114,931.92259369995941,0.88041300888020479,0.37799143290611525,400.10626035418102]
[null,null,null,null,115,1104.2126729221095,0.90903260896108939,0.35594282211145017,432.36796033127462]
[null,null,null,null,116,1163.0031654629104,0.91894556016990681,0.42644320697427329,539.69987026166848]
[null,null,null,null,117,617.0559121701076,0.9473089578887105,0.39946430806373001,260.20213462461902]
[null,null,null,null,118,954.56919841999172,0.90726924379573082,0.39918133116227811,419.99241781593184]
[null,null,null,null,119,1227.649084576836,0.94532588975810794,0.36225434379245502,470.44222353265508]
[null,null,null,null,120,998.26970300810899,0.82074950927510015,0.38631834058444336,469.8752673789964]
[null,null,null,null,121,1132.1656544694108,0.95396999511809644,0.42202185768768991,500.85291482383678]
[null,null,null,null,122,1235.0120414533778,0.86241058821588801,0.39154927326771261,560.71675593446241]
[null,null,null,null,123,1176.1935430064104,0.92367555624459485,0.41844387043257564,532.83966993176182]
[null,null,null,null,124,1216.3456048093158,0.89848402320815413,0.37048995939691565,501.5602081930603]
[null,null,null,null,125,1129.5404480993511,0.9148936185852502,0.4029914742707244,497.538906361447]
[null,null,null,null,126,1089.4570341770923,0.98672164022246656,0.3900197656724752,430.62780814676273]
[null,null,null,null,127,1151.2560065116363,0.91546679529991004,0.4107939291606672,516.59872407474984]
[null,null,null,null,128,985.13651922101837,0.83018688870862134,0.39740176817708339,471.574533347824]
[null,null,null,null,129,1099.7304657254542,0.93775492943461625,0.39587010402332734,464.24753440308314]
[null,null,null,null,130,978.48119881749994,0.87236568820044802,0.37879052648595418,424.86701789161231]
[null,null,null,null,131,940.02186514171046,0.8619385645990586,0.3869598424110906,422.01466292138684]
[null,null,null,null,132,1023.5014237805141,0.80836241890522698,0.41128179613641719,520.74106128130427]
[null,null,null,null,133,915.40491676966803,0.88522030881340963,0.41419006912712625,428.31329329121746]
[null,null,null,null,134,765.10021995219938,0.99400605068565795,0.37696481993144532,290.15504125436956]
[null,null,null,null,135,929.21652128499557,0.90641614704110296,0.3703054283196735,379.62024732173467]
[null,null,null,null,136,1062.6788661717451,0.92098058628370694,0.44843833563183921,517.43321103012704]
[null,null,null,null,137,944.08692174658063,0.87269125969134931,0.42614113745265148,461.00412971885322]
[null,null,null,null,138,820.01734019364903,0.94857802042680517,0.4185141325948219,361.79295582818048]
[null,null,null,null,139,1207.2450644333426,0.88290923740152571,0.42130469108557445,576.07054880587532]
[null,null,null,null,140,649.20585287872302,0.84343859711178837,0.39239514425555061,302.03173670759895]
[null,null,null,null,141,1196.4184882484976,0.91980116235107368,0.43339508960841211,563.73259694328033]
[null,null,null,null,142,1273.8621871435878,0.92768316042344989,0.38488825173588259,528.5151343464546]
[null,null,null,null,143,985.65124300787875,0.87747424208239688,0.39928754121234755,448.5126086203154]
[null,null,null,null,144,1075.4517064370079,0.97319577892958076,0.38996943959939745,430.94442901997263]
[null,null,null,null,145,1162.1375260596928,0.88460198959006542,0.41075032218398727,539.61936426610271]
[null,null,null,null,146,1305.7955708957647,1.0084794506770709,0.39494625002791689,511.38281864058087]
[null,null,null,null,147,1001.4475814982567,0.95157988712178165,0.41964043184127109,441.63175499372687]
[null,null,null,null,148,943.45751449678573,0.9718183100554173,0.39692257871072456,385.33909649913937]
[null,null,null,null,149,1113.4564290139292,0.8988991741039466,0.3688531630513342,456.89431873272423]
[null,null,null,null,150,851.9040077913271,0.91328131172981919,0.38025253512137086,354.69756632723113]
[null,null,null,null,151,1340.8390703765183,0.97632350685256075,0.40086176102409976,550.52562724193126]
[null,null,null,null,152,1134.313728476375,0.87759642909990521,0.37544521945715836,485.27164947317601]
[null,null,null,null,153,974.13679557623516,0.94537011518650194,0.41411955630827652,426.72080604960996]
[null,null,null,null,154,807.68990998998356,0.88656917594950935,0.38852117804788378,353.95392016716016]
[null,null,null,null,155,1025.8935821303905,0.9146231097671591,0.3745247208881608,420.08834393672134]
[null,null,null,null,156,827.28915866028274,0.85512018988063843,0.3794927653962728,367.14166536772944]
[null,null,null,null,157,1235.8219824733205,0.97794925608222061,0.42799525357385904,540.85213468003178]
[null,null,null,null,158,1157.645267935261,0.9762992417502756,0.39179770335364383,464.57350152409958]
[null,null,null,null,159,1064.388832322709,0.96551408271193517,0.4263473711252424,470.00803886901593]
[null,null,null,null,160,853.02114383797721,0.91935450117353967,0.3935037728247735,365.1116495008996]
[null,null,null,null,161,903.45665346139367,0.89465739759005269,0.37238621827529361,376.04876175438613]
[null,null,null,null,162,869.56337694028912,0.92862209013557284,0.37852768370889517,354.45399631107011]
[null,null,null,null,163,1236.0636623525122,0.85420451021574051,0.41131796542209231,595.19141452742804]
[null,null,null,null,164,1153.5650940052528,0.94943721128704017,0.40327073103593747,489.97346346518549]
[null,null,null,null,165,1033.4228289816699,0.90039446897942133,0.41180159794016463,472.64303256423437]
[null,null,null,null,166,898.19906338602709,0.92602625968620167,0.39290820366571416,381.10126666258878]
[null,null,null,null,167,1099.6827725661735,0.91064241904843801,0.39091147111685942,472.06082364898481]
[null,null,null,null,168,744.21998972587494,0.87821307661474757,0.43014194013250945,364.51316746506802]
[null,null,null,null,169,1076.8371126087659,0.88757934661675486,0.38191735320058445,463.35325561972257]
[null,null,null,null,170,1033.9688531520028,1.0170917809462079,0.37688180044059705,383.13557367743175]
[null,null,null,null,171,1227.7910643458654,0.86567820881911961,0.38414202215051813,544.82847948723918]
[null,null,null,null,172,1136.7890989490397,0.8530514490589155,0.41350415957951497,551.0418175816402]
[null,null,null,null,173,984.69647101952432,0.80901618668923092,0.38505475475380524,468.67054626807948]
[null,null,null,null,174,1059.2742702848896,0.97611815876992014,0.41163429900966247,446.701680314165]
[null,null,null,null,175,1009.0273792256941,0.9030207395735329,0.39225336962155488,438.30044227844172]
[null,null,null,null,176,1015.5562220544684,1.0609663933061884,0.41084800526487031,393.26339712345009]
[null,null,null,null,177,1047.7104938679852,1.005657988883379,0.41892214816873452,436.43975944290958]
[null,null,null,null,178,1084.3413725356691,0.87869073394425345,0.39722478485680424,490.1921139914279]
[null,null,null,null,179,789.69847280994111,0.86088904512409969,0.39817689631950409,365.24995725365193]
[null,null,null,null,180,1230.1030920595008,0.83624646288112214,0.4294743601456335,631.74884657242535]
[null,null,null,null,181,901.01050913395034,0.86265832871544268,0.38392882253189281,400.99758194621876]
[null,null,null,null,182,1123.5402547131357,0.89615099437284507,0.38334084233792903,480.60970790276428]
[null,null,null,null,183,828.24584919493157,0.89807755953525736,0.38211638745350773,352.40420880965701]
[null,null,null,null,184,1114.2960841260517,0.93859363333054857,0.38999030807485913,462.99554749045006]
[null,null,null,null,185,1030.4120516640319,0.93311592344665772,0.38429943766591135,424.37039393348465]
[null,null,null,null,186,874.54225511870402,0.96583594186712729,0.42486089584521924,384.70177993784705]
[null,null,null,null,187,705.35716212615182,1.0001040981638445,0.35853817249018438,252.87114443974775]
[null,null,null,null,188,995.11823672822902,0.95909859131946196,0.3569473821284419,370.35280076863216]
[null,null,null,null,189,1040.3380615142951,0.90639991117455421,0.39277611069287593,450.81639193658179]
[null,null,null,null,190,901.11042284302232,0.97666152801172712,0.41676950221853304,384.52967747871486]
[null,null,null,null,191,985.31152122561912,0.93745336041937466,0.40206786845544401,422.59393355478556]
[null,null,null,null,192,889.14914514753991,0.8623822251695259,0.38740546058695818,399.4298862533596]
[null,null,null,null,193,1001.4531709951965,0.91548904626999028,0.41609194802630545,455.16284708623647]
[null,null,null,null,194,996.55029425288069,0.85326666251846039,0.41233326798832393,481.57376538208075]
[null,null,null,null,195,750.1322889255041,0.83687040229399834,0.40655197615054151,364.41456598420285]
[null,null,null,null,196,1131.6728465163058,0.88846587890822004,0.40649982504354826,517.77431754690247]
[null,null,null,null,197,1123.2553733953807,0.89092643713921127,0.37422899454371172,471.81755022484811]
[null,null,null,null,198,954.93904325402684,0.85367781672090759,0.36726475691598442,410.82882642706892]
[null,null,null,null,199,1180.3608913022556,0.90442005964920114,0.42188513660888088,550.6033513542186]
[null,null,null,null,200,1228.5694682886863,0.91762725914954579,0.42422750790345282,567.97894637678871]
[null,null,null,null,201,1321.6077953441954,0.9604767920603976,0.39180644099775097,539.12228902260813]
[null,null,null,null,202,665.97767611560221,0.93105687703523865,0.38370018239480802,274.45772873739855]
[null,null,null,null,203,984.91653271285099,0.92031769741452341,0.40260950360920272,430.86942416300457]
[null,null,null,null,204,963.09534172709436,0.93942868019387882,0.39675651808816026,406.75185080756552]
[null,null,null,null,205,1046.3152431433437,0.91406612169997903,0.43283177237264397,495.45483679887894]
[null,null,null,null,206,921.51180955787049,0.94425506553615102,0.4002072376567663,390.56787644749363]
[null,null,null,null,207,832.15753904927396,0.95609653754685009,0.38646432520634461,336.36687213532684]
[null,null,null,null,208,1566.0758793121699,0.90807540831988487,0.38854571415149791,670.08980241917368]
[null,null,null,null,209,952.34613721705853,0.9275078626768074,0.38967530117720045,400.11064356261261]
[null,null,null,null,210,1060.1294480769604,0.84517540623946452,0.36828440474904794,461.95043047826141]
[null,null,null,null,211,1264.7875545214176,0.83275229361050362,0.38886980388941988,590.61703229431851]
[null,null,null,null,212,951.07145676879361,0.91987723075254413,0.39325988515757593,406.59583622867029]
[null,null,null,null,213,916.71452141848204,0.92589017008802821,0.40702337307599978,402.98973756253071]
[null,null,null,null,214,837.74229287132084,0.96972228870762256,0.39961297340590934,345.22532120856386]
[null,null,null,null,215,885.56237292503056,0.91707228605183222,0.41993318196509388,405.50459407291368]
[null,null,null,null,216,768.83805015801613,0.86251267776523799,0.40427902119214426,360.37162396094197]
[null,null,null,null,217,997.55886449750517,0.92588627043023897,0.37518385503922741,404.22673103988694]
[null,null,null,null,218,852.21296906535656,0.92300781815525024,0.38474653033084061,355.23640916299303]
[null,null,null,null,219,1104.6205604088336,0.90786656150485601,0.38574424927069728,469.34323486657382]
[null,null,null,null,220,924.21623510969994,0.9324803090990994,0.41255802333845698,408.90174234622526]
[null,null,null,null,221,1090.7800319561406,0.86847486283125519,0.42666489358807042,535.8791211818708]
[null,null,null,null,222,724.07130786679261,0.85272701371139159,0.39402896624918571,334.5796067696885]
[null,null,null,null,223,831.15518966626496,0.98731461795690123,0.3828915886434624,322.33122572329478]
[null,null,null,null,224,899.32741036423818,0.86958275167823029,0.40394252174787776,417.75964543733414]
[null,null,null,null,225,1228.7180456951312,0.89102317025877886,0.37109475285125526,511.73845384815866]
[null,null,null,null,226,1461.4206991546455,0.95674918311568369,0.39360369184188754,601.22401217861204]
[null,null,null,null,227,1090.9800536032253,0.89230093599044746,0.3652763943723657,446.60858712426887]
[null,null,null,null,228,1020.2497933497403,0.79671003468761936,0.43273603725795029,554.15249383737932]
[null,null,null,null,229,1080.8631323598927,0.84830828588889229,0.38770031283020567,493.98429970947126]
[null,null,null,null,230,844.61454704033281,0.91293442666714975,0.41618565231498028,385.04020217310006]
[null,null,null,null,231,1136.5364820953616,0.9082763661021489,0.40143695000934443,502.32259252180097]
[null,null,null,null,232,898.14891662825721,0.9415551555362941,0.40374326093583374,385.1304623773587]
[null,null,null,null,233,1248.7225776238922,0.9140390435541792,0.41590375623115344,568.19061963149136]
[null,null,null,null,234,713.35410380508245,0.94061213961721135,0.41082677936065037,311.56834646978928]
[null,null,null,null,235,924.88157579432323,0.98189338016540251,0.40760937723398427,383.94230039640871]
[null,null,null,null,236,1107.8589653916026,0.90966207708473978,0.41339420787000392,503.46440834103299]
[null,null,null,null,237,899.21467179905551,0.83281710175693657,0.37837056757248944,408.53671835069827]
[null,null,null,null,238,1141.0732557594263,0.90443089221635564,0.40686353395000047,513.31848716093339]
[null,null,null,null,239,1245.093381640733,0.97136918451498955,0.37673830306824746,482.90019411625377]
[null,null,null,null,240,1013.2585984402976,0.84611433950073467,0.39508436625678695,473.1306544872445]
[null,null,null,null,241,1177.5082837181051,0.90882117267573292,0.40249719096147202,521.49288636732092]
[null,null,null,null,242,792.7490946297446,0.79249562974878662,0.40649468390227028,406.6246936118481]
[null,null,null,null,243,902.11368684197009,0.96872676258545787,0.41993765994960808,391.06126236242102]
[null,null,null,null,244,951.90198466654397,0.93316715079308388,0.37299671612329316,380.48522609278473]
[null,null,null,null,245,763.79657066101583,1.0067542829027936,0.38550395823779648,292.47116826689131]
[null,null,null,null,246,744.63214754352839,0.92662695885807966,0.41568719471225407,334.04386257699872]
[null,null,null,null,247,1006.6984636506697,0.89973857827600678,0.40765965307446622,456.12176286669956]
[null,null,null,null,248,987.97898835449382,0.9296034053561345,0.41546231721448679,441.55178164792829]
[null,null,null,null,249,841.61124986070774,0.92232227753673823,0.41523447507034633,378.89793411749076]
[null,null,null,null,250,1319.3628762967653,1.0029978684852559,0.37904357266923672,498.60127722299103]
[null,null,null,null,251,788.75366537758396,0.87378868902296858,0.41461467757008008,374.26536960373659]
[null,null,null,null,252,925.12121510421571,0.94208162984775512,0.40536560147134509,398.06775327444376]
[null,null,null,null,253,1189.4137106342284,0.94022304645330423,0.39266856188758292,496.7389099915153]
[null,null,null,null,254,863.13624128288711,0.88155247577813967,0.40105884929114727,392.68045547128719]
[null,null,null,null,255,1147.0253570529489,0.91481248029284368,0.3745397967466213,469.61170004623176]
[null,null,null,null,256,1105.8902126827093,0.97695313993480348,0.35162469075518099,398.03168457976324]
[null,null,null,null,257,1043.0761569724366,0.93241829436509227,0.38142968053208448,426.69712480871493]
[null,null,null,null,258,1107.6431912468406,0.90898236991023573,0.4187108122218498,510.22131518872686]
[null,null,null,null,259,846.47175315130391,0.97798557141146381,0.37367391165584823,323.42441478940168]
[null,null,null,null,260,1105.7161802895057,0.87323104874571933,0.41211170614762932,521.83048487415761]
[null,null,null,null,261,1148.435686766664,0.95221929015645035,0.39115514288926984,471.75743003751228]
[null,null,null,null,262,1056.4294207610924,0.87322658944987297,0.37913586337471122,458.67852098621307]
[null,null,null,null,263,1312.0784295180115,0.93482267977976641,0.40159852105031735,563.66706563066577]
[null,null,null,null,264,1014.5250704500817,0.96883192148229091,0.41171510718067394,431.13288162385459]
[null,null,null,null,265,852.34181642391627,0.95185210001208098,0.40415817872723092,361.90592653478166]
[null,null,null,null,266,1290.810821230162,1.020315962345375,0.42912697238652775,542.89235891691897]
[null,null,null,null,267,1446.0846947453138,0.94733853314904581,0.39158167608838895,597.73802998578742]
[null,null,null,null,268,951.57261106120188,0.8745633463211876,0.42395946854272137,461.29102044159526]
[null,null,null,null,269,1171.0306445653564,0.86569298549762408,0.43119905538149916,583.28681902061646]
[null,null,null,null,270,1143.5866464266121,0.96331396544126047,0.40185325341903949,477.05528095670991]
[null,null,null,null,271,1301.1658761156364,0.91101657028325045,0.39629205912705623,566.00694337689595]
[null,null,null,null,272,892.98894792021179,0.85068702589225775,0.37912054399095085,397.97298584438045]
[null,null,null,null,273,925.73104589333434,0.96333791665715895,0.38893896207008027,373.75552848081458]
[null,null,null,null,274,1242.5982559685892,0.91378722667454593,0.37808292598720367,514.12973472272677]
[null,null,null,null,275,862.19413155944676,0.90347736355987318,0.37254651208754574,355.52348006728573]
[null,null,null,null,276,1080.0540467917972,0.91100376862245402,0.41809629616294341,495.68027287337259]
[null,null,null,null,277,1302.3908343260009,0.89375162922373752,0.423083883281683,616.52538996287035]
[null,null,null,null,278,846.97711897713839,0.90197941345612509,0.42002008706208444,394.40745314712854]
[null,null,null,null,279,986.44941159694906,1.0338352274955236,0.42253664358152088,403.16968541386427]
[null,null,null,null,280,1094.6838883541911,0.92879223619321893,0.37784901185072384,445.33665268223854]
[null,null,null,null,281,1098.0261539464752,0.86230265020336738,0.39787274560461866,506.63729319784676]
[null,null,null,null,282,1071.5796948688039,0.92205741955296083,0.40296812428628398,468.31406646443469]
[null,null,null,null,283,1055.7633317054733,0.93978055174228514,0.40262024296917398,452.30951879260545]
[null,null,null,null,284,985.64529555211448,0.87037421735718712,0.41240411060740989,467.02230302823074]
[null,null,null,null,285,931.29934063050894,0.82495631807604086,0.37657035867894473,425.11308666208618]
[null,null,null,null,286,1309.5632104664853,0.88420573647595224,0.38139452102146304,564.86880009828849]
[null,null,null,null,287,513.32329130566973,0.83236190011109001,0.38609035553219012,238.104569679017]
[null,null,null,null,288,874.80259534981576,0.93779361415258444,0.39533410586578643,368.77975774467018]
[null,null,null,null,289,869.32268184462691,0.92155400186827918,0.42540439766893018,401.2935661939768]
[null,null,null,null,290,960.26230800346946,0.84749578213401111,0.41647177494946469,471.88688871614511]
[null,null,null,null,291,1021.0039091321552,0.93182042712612223,0.39776655476078027,435.83634304447105]
[null,null,null,null,292,990.09372420363275,0.94506055149875556,0.41912617407675234,439.09799636094345]
[null,null,null,null,293,1119.0948178636168,0.9361461119744483,0.43989578347055353,525.86352214149747]
[null,null,null,null,294,883.17852193109729,0.89941114716100246,0.39593397165129457,388.788132067373]
[null,null,null,null,295,969.66023647252518,0.91925950794425937,0.40896068002486974,431.38298410172706]
[null,null,null,null,296,940.59172758539682,0.91459571537417395,0.36272625080386156,373.03620074865279]
[null,null,null,null,297,875.43439095070437,0.80778177973660292,0.40119586249015965,434.7964565944277]
[null,null,null,null,298,1255.688440564337,0.96658650864607254,0.44214476913015094,574.38839740314427]
[null,null,null,null,299,1074.8375518851137,0.8452340831192332,0.39531629941567575,502.70192834177135]
[null,null,null,null,300,626.75950135665744,0.93313560319081301,0.39643520894228301,266.27376881479796]
[null,null,null,null,301,862.90786875440881,0.99032658676346996,0.43122832890791957,375.74505543728583]
[null,null,null,null,302,892.44442390488985,0.87997573163489229,0.42020430559925787,426.15833136234448]
[null,null,null,null,303,1260.26570102409,0.88565939675002225,0.41216458995297051,586.49735756261418]
[null,null,null,null,304,922.46960821002244,0.84051733700838893,0.38389403094094515,421.32453516866065]
[null,null,null,null,305,1073.5125998934611,0.81459503025487567,0.42902593966300495,565.39106525762031]
[null,null,null,null,306,922.83610684787345,0.92374085887140611,0.41403755247170942,413.63202606263081]
[null,null,null,null,307,1042.3421192856915,0.96105234961232677,0.40046424053200758,434.33715691205441]
[null,null,null,null,308,1281.1493333394826,0.86850343231285587,0.42914312635578145,633.03886868219172]
[null,null,null,null,309,1134.5845603037719,0.97122200198112718,0.4315770531333763,504.16965438149589]
[null,null,null,null,310,992.02765493501761,0.90837270207048093,0.37557444949085328,410.16230401099477]
[null,null,null,null,311,868.25612470585588,1.0041568681921746,0.39323276995105805,340.01337018163287]
[null,null,null,null,312,1155.8929047363174,0.97441157873304896,0.39856925342527222,472.80161908517118]
[null,null,null,null,313,1216.6020686051656,0.91605677493350623,0.38733006184050084,514.40758625722185]
[null,null,null,null,314,910.10364267194564,1.0070178105459016,0.45227920582915065,408.75240578589774]
[null,null,null,null,315,512.4415844993664,0.93024586814914845,0.39834999239572977,219.43779411213629]
[null,null,null,null,316,841.65036393936111,0.89276924992829032,0.39741460392328365,374.6591250244287]
[null,null,null,null,317,1246.3313033940512,0.90763785230027716,0.40255007413203708,552.76535382789541]
[null,null,null,null,318,1248.0491679283975,0.85639460122237065,0.39735722246870736,579.08042643491501]
[null,null,null,null,319,854.67143153472716,0.9621900665944334,0.42791337149754638,380.09676724797663]
[null,null,null,null,320,620.01766271941278,0.86519802972882931,0.43528003729994674,311.93010395518132]
[null,null,null,null,321,715.68848863234393,0.99912324625312421,0.40783591721601897,292.13960569622333]
[null,null,null,null,322,1147.7437611381076,0.89858300692833759,0.37920995172155864,484.35798684607465]
[null,null,null,null,323,1105.1715659581869,0.9238875926003649,0.37575028750055289,449.47950050656516]
[null,null,null,null,324,1024.6008626567489,0.87375397736173066,0.37908989180939218,444.53683786958516]
[null,null,null,null,325,1070.8609942200967,1.0013799043845897,0.39761004695697699,425.19835711893899]
[null,null,null,null,326,1111.0191626772539,0.95073627955190165,0.37374093406163311,436.74923167450493]
[null,null,null,null,327,841.42097389758874,0.98002011862937177,0.37622946140271668,323.02128681315361]
[null,null,null,null,328,817.3003554560438,0.88163996816704238,0.40027374197395993,371.06288667377544]
[null,null,null,null,329,899.01185418881789,0.87391587634596413,0.42191707461173422,434.03313960445445]
[null,null,null,null,330,1375.4260766496152,0.91596465293789997,0.4156473766557604,624.14225124263248]
[null,null,null,null,331,1142.6415261824145,0.91206894857900012,0.39462005357427343,494.38067262437647]
[null,null,null,null,332,995.98263818234818,0.87935440725857017,0.41769669165064027,473.09554540950302]
[null,null,null,null,333,980.84113697841133,0.91727254357173849,0.38174931876239515,408.20521499274292]
[null,null,null,null,334,660.81114335305529,0.93066595179709821,0.38219489733163303,271.37411291530981]
[null,null,null,null,335,1083.4988971085452,0.96150679790474569,0.3686231772244068,415.39259716275086]
[null,null,null,null,336,1004.8079841105842,0.83786359808079736,0.38214974823205039,458.29311480886776]
[null,null,null,null,337,736.3769710211277,0.86329923539521336,0.38291248224153379,326.61668431817702]
[null,null,null,null,338,1216.0148604277574,0.94510401670303501,0.40537903989399421,521.57955939777219]
[null,null,null,null,339,1105.6691450186572,0.90735659193563567,0.40950633803504782,499.00835755106402]
[null,null,null,null,340,1171.9491995922708,0.8745856056650243,0.37383616856072194,500.94238423949412]
[null,null,null,null,341,789.56901850583495,0.99996529551269686,0.3809116078328631,300.7664422792505]
[null,null,null,null,342,1272.3395150188612,0.87912882530680547,0.40234623176217565,582.30488485154456]
[null,null,null,null,343,1202.6909803316757,0.96699287609565132,0.36767246160104561,457.29018715147345]
[null,null,null,null,344,1073.2520180477072,0.88226240466750172,0.42563395960188721,517.77396801184182]
[null,null,null,null,345,1172.4441638387059,0.97128050816391143,0.35731417015326083,431.31815158630059]
[null,null,null,null,346,1075.9773148447264,0.94502324759619327,0.42810759522421049,487.43145943305626]
[null,null,null,null,347,842.10311588768104,0.94960509436013152,0.43456329282280404,385.36767031886939]
[null,null,null,null,348,1161.1773947260469,0.86840672636723992,0.39921583881638756,533.80563919555777]
[null,null,null,null,349,1090.1092025272324,0.94501991721528777,0.36772594668274761,424.18305813927105]
[null,null,null,null,350,921.65578151563159,0.97454350881613083,0.39334177069298487,371.99541507508394]
[null,null,null,null,351,1121.1435833292189,0.93486070789437303,0.40990341045641404,491.58187368154529]
[null,null,null,null,352,761.44018455446349,0.93194506420591627,0.37167367760091702,303.67377277503027]
[null,null,null,null,353,885.09256096692377,1.0007290840887832,0.42779229188121431,378.35991898628748]
[null,null,null,null,354,1275.7785988206069,0.93776243863795483,0.39547712355550546,538.0267216589134]
[null,null,null,null,355,1025.2302724949343,0.93847539524894408,0.40292786016973142,440.17546114571866]
[null,null,null,null,356,867.83195285613306,0.93993958648197717,0.35458374055724906,327.38178543002584]
[null,null,null,null,357,967.8646352365754,0.87816961418808037,0.38675797428746123,426.26089500336451]
[null,null,null,null,358,1252.9398534058355,0.86273965677852993,0.39840724648318687,578.59901661227229]
[null,null,null,null,359,1031.2765441328816,0.93077603437519196,0.39940411370835405,442.52975891682041]
[null,null,null,null,360,552.3683129103872,0.8607309301452174,0.40891679767781103,262.41961772641622]
[null,null,null,null,361,607.06673977644414,0.92260691935532324,0.39805887249501182,261.91902195301896]
[null,null,null,null,362,1063.8833196077917,0.98449263279680965,0.42163764540605364,455.63901945296396]
[null,null,null,null,363,1130.9866915331008,0.91648899694596353,0.40056181625140735,494.31044434391595]
[null,null,null,null,364,1144.9335982002401,0.85934731234431749,0.41625460963915689,554.58821030284651]
[null,null,null,null,365,882.61120293116642,0.94875839140209028,0.41881387068268616,389.61427646635008]
[null,null,null,null,366,1178.8079808648492,0.96026963945322752,0.38524904832228141,472.92409769559634]
[null,null,null,null,367,847.64181862724058,0.88941553547423347,0.42712472442773652,407.06369942317491]
[null,null,null,null,368,1195.7032112324846,0.92789564075403785,0.41042845187534616,528.88557326309774]
[null,null,null,null,369,1290.6671096082484,0.92711174876909963,0.41440641068436013,576.91073917597475]
[null,null,null,null,370,932.83831867320271,0.89287718419710604,0.37264276706762212,389.32056776618572]
[null,null,null,null,371,662.63121969621363,0.9079588888125506,0.40783228923886178,297.6372725457594]
[null,null,null,null,372,956.07583837374864,0.90190322166574544,0.4351517233098724,461.28901492876111]
[null,null,null,null,373,1391.4990330395165,0.88323148028275045,0.34729415957999243,547.14930120145209]
[null,null,null,null,374,1243.0357981267343,0.99552644644214128,0.40971056033581843,511.57344457105245]
[null,null,null,null,375,722.14015470705624,0.90660449643108409,0.40039391925230272,318.92686163685005]
[null,null,null,null,376,1135.662518989446,0.85759173263446731,0.37557073137552321,497.34808140277659]
[null,null,null,null,377,1160.6540688866869,0.94519733767655256,0.40637698600330524,499.01018920140893]
[null,null,null,null,378,1126.9917402665078,1.009589253875222,0.41677507589328155,465.24075635488788]
[null,null,null,null,379,1254.3706415563752,0.95330044058394536,0.39203560293797574,515.84781652783249]
[null,null,null,null,380,899.26143279226767,0.95649804994505994,0.39206356854384894,368.60257730231871]
[null,null,null,null,381,906.57676731116669,0.93882956608440216,0.40014916626194552,386.40233616098106]
[null,null,null,null,382,1060.477393079178,0.8388548744152351,0.41538348077500187,525.12634098657929]
[null,null,null,null,383,942.92989907702076,0.95752651769128105,0.40914143662209057,402.90444850810843]
[null,null,null,null,384,1076.3186267547496,1.0218466198002529,0.40721740123976374,428.92511028582442]
[null,null,null,null,385,1128.3935625731631,0.90017103731538517,0.39427145975296268,494.23204996507076]
[null,null,null,null,386,919.55542938285294,0.90640168123610487,0.40064616989718799,406.46036786690036]
[null,null,null,null,387,1192.9066619869252,0.95063980439284212,0.41103742918463948,515.78871969652118]
[null,null,null,null,388,1088.317433688313,0.83424647780034245,0.42516969106204761,554.65572750004674]
[null,null,null,null,389,888.35375324460222,0.8403106272594234,0.39351403611916819,416.01243587863331]
[null,null,null,null,390,979.99748236739754,0.96143439711238887,0.38894824250463789,396.45793781727127]
[null,null,null,null,391,560.999860334603,0.95978868672727446,0.42996675983611893,251.3170821371904]
[null,null,null,null,392,589.82172547957384,0.84033812154305232,0.40315281845062234,282.9673971875344]
[null,null,null,null,393,1175.0922748897274,1.1069886827867901,0.40668353032252941,431.70330667141064]
[null,null,null,null,394,1113.9434867947571,0.87339855604869987,0.37788147445111059,481.95477806782969]
[null,null,null,null,395,1090.2177720025052,0.99035472308606765,0.37154365563461483,409.00849665805396]
[null,null,null,null,396,863.07724108323293,0.94578460480136783,0.40870229975425981,372.96193182417181]
[null,null,null,null,397,549.78367667411476,0.94176880861644641,0.36195269844092659,211.29993211743181]
[null,null,null,null,398,1050.8420571575289,0.81249150409732951,0.3792818151861137,490.54701606439528]
[null,null,null,null,399,1153.1992763886408,0.96474782675048054,0.399322652743966,477.32535012907169]
[null,null,null,null,400,938.20227142792453,0.87372019946794599,0.40596871339934082,435.92991128266459]
[null,null,null,null,401,1178.8516759918034,0.90701271401177874,0.39327284105558735,511.13985574673728]
[null,null,null,null,402,793.26601958178969,0.91525302735541525,0.42376443730775576,367.28414807296986]
[null,null,null,null,403,981.05804030248044,0.92567101463241397,0.38389097897876112,406.86088855905302]
[null,null,null,null,404,1235.6576003310038,0.88095360753316354,0.42435024152649098,595.20909689306927]
[null,null,null,null,405,1032.7983955192494,0.91727147580153212,0.41477503718831654,467.01440545199915]
[null,null,null,null,406,975.90746543750288,0.87998318399230346,0.39075781270473708,433.35312939334278]
[null,null,null,null,407,1027.7333283432658,0.87884928289233544,0.4185842757084276,489.4957750323145]
[null,null,null,null,408,1134.8617218200766,0.88056081447407109,0.42484927708832454,547.54330897456487]
[null,null,null,null,409,921.44664590837294,0.8828698236645901,0.40196807718691158,419.53199277862376]
[null,null,null,null,410,878.82597939793106,0.8722859722309021,0.39512255538148944,398.08500625919964]
[null,null,null,null,411,851.87589871111629,0.86063891157092354,0.41188446315194022,407.69066154846968]
[null,null,null,null,412,986.15097641775719,0.85257792565246104,0.36967089097486378,427.58708514427025]
[null,null,null,null,413,1112.5461803987548,0.89114909398453446,0.38470795880567121,480.2848064677255]
[null,null,null,null,414,1042.2705035364868,0.88687392738774096,0.42457001713728609,498.96247018061882]
[null,null,null,null,415,717.35356960271963,0.91580634205750489,0.36459063131029323,285.5848215972776]
[null,null,null,null,416,1036.5440241987706,0.95073607730177567,0.3852456554631255,420.01570315090783]
[null,null,null,null,417,769.42199889610674,0.91233324626389511,0.40527031270812791,341.78727496130512]
[null,null,null,null,418,907.92982779673707,0.93638252662384658,0.41980862828728904,407.05242222186075]
[null,null,null,null,419,1026.2665837018246,0.98594693668083289,0.38300918151894059,398.67208834497166]
[null,null,null,null,420,1134.218173225637,0.98640062823932384,0.38944389567931126,447.80419971923794]
[null,null,null,null,421,1001.9106911170805,0.90265544684031174,0.37607449240699548,417.42733167781603]
[null,null,null,null,422,870.61940285319861,0.88495613952436813,0.41827747965231094,411.50117310622755]
[null,null,null,null,423,1006.6016991397032,0.87403825057560625,0.38397426721123656,442.21079517539863]
[null,null,null,null,424,828.57979825459529,0.91429338593581078,0.43774595056892457,396.70794625504374]
[null,null,null,null,425,975.53310297606276,1.0058157925546682,0.41280888457503134,400.38020389670862]
[null,null,null,null,426,699.26622309129334,0.89227545580898826,0.44133087005371796,345.86603119801856]
[null,null,null,null,427,781.54777899011879,0.93274641643937906,0.42748342674746015,358.18816008421118]
[null,null,null,null,428,835.72693115416496,0.93011520533809711,0.39336727223324086,353.44828399023055]
[null,null,null,null,429,603.47619436100422,0.90244689712344528,0.3986274178790481,266.56655131331826]
[null,null,null,null,430,951.98598508277257,0.88149746298667297,0.40912994376039608,441.84582360333854]
[null,null,null,null,431,1218.0103444341084,0.99870000737716014,0.40125027642845484,489.36315588944939]
[null,null,null,null,432,879.62355157201728,0.8970796332042853,0.39335838803013179,385.70411088679185]
[null,null,null,null,433,1002.6345309038462,0.86650875862266663,0.43439185202044145,502.63343150883105]
[null,null,null,null,434,975.86920832018177,0.89978200198628222,0.35996275922125998,390.40186633045658]
[null,null,null,null,435,1187.6424520007336,0.8736071522165535,0.38300932593478171,520.6895729255375]
[null,null,null,null,436,723.9580223710966,0.9763550353521373,0.38451903199020837,285.11722466129265]
[null,null,null,null,437,887.67317066780993,0.93491632370736533,0.41730444889261631,396.21723772387423]
[null,null,null,null,438,1034.3688718283913,0.92372874034203678,0.40813144935748519,457.01562416827261]
[null,null,null,null,439,1036.7256951093557,0.8232251509396411,0.38798880680345632,488.61233766830679]
[null,null,null,null,440,1243.707055688496,0.90235563958072307,0.40605760977397642,559.66482852210584]
[null,null,null,null,441,825.30454988747636,0.98420663889513349,0.38161605688310751,320.00339726351336]
[null,null,null,null,442,1162.1172002511785,0.89094207226141198,0.37322889023687644,486.82818611766095]
[null,null,null,null,443,917.60342908851499,0.85984426983176432,0.43851560061141037,467.972437507282]
[null,null,null,null,444,1039.0174549949479,1.0194172049343853,0.3862437196335346,393.66999560032718]
[null,null,null,null,445,999.65334878501017,0.96507814267480141,0.38081821572609581,394.46153404098226]
[null,null,null,null,446,664.77009890819829,0.83075118338653442,0.39826389309256688,318.69220639981233]
[null,null,null,null,447,926.08882710306625,0.93304358803032605,0.40555293616204374,402.5300080260609]
[null,null,null,null,448,824.11623244757163,0.91649638928593125,0.41325641159329468,371.60137338066102]
[null,null,null,null,449,863.34194168310023,0.89426842039816767,0.40034853108818275,386.50328055390304]
[null,null,null,null,450,1172.2061621840721,0.89201541528498118,0.40390908201412895,530.78086632371833]
[null,null,null,null,451,1009.698705467183,0.8631818302633345,0.40379208874910322,472.33194095788383]
[null,null,null,null,452,961.09809705401801,0.84771317501761312,0.38105798259984219,432.02596436741959]
[null,null,null,null,453,801.22546584127986,0.89422090802482634,0.40146198478995454,359.71152418185892]
[null,null,null,null,454,1107.4499555004847,0.98392487366405867,0.4077783865139567,458.972191969535]
[null,null,null,null,455,1047.8941428925446,0.95334700663732308,0.38165274803712124,419.5027377256846]
[null,null,null,null,456,1058.9399986633398,1.0200822826773392,0.37871145666053263,393.13760881850931]
[null,null,null,null,457,1228.8234025045026,0.98463659418328342,0.41710370968536759,520.5441304545061]
[null,null,null,null,458,997.90956514037271,0.8732376338320611,0.42132737194885922,481.48018160665009]
[null,null,null,null,459,737.3320630115179,0.8059122635899798,0.35980226995434617,329.18440625273496]
[null,null,null,null,460,980.29049887344866,0.8508147101776653,0.40638499688899732,468.22809545901265]
[null,null,null,null,461,1086.8988437931841,1.1005942093897092,0.42669626050550458,421.38661846265444]
[null,null,null,null,462,1032.4321662918017,0.90879338055257686,0.37705149747020367,428.34829419645945]
[null,null,null,null,463,1026.5600494495195,0.85447615068459271,0.38901371521596567,467.35761835914718]
[null,null,null,null,464,925.23134320869349,0.93730067076558665,0.43106353592901908,425.51286561027234]
[null,null,null,null,465,973.19087787083276,0.83316342789671038,0.41432599700493972,483.96060994642392]
[null,null,null,null,466,994.28821771080652,0.96420919457385978,0.44689424460011462,460.835350325658]
[null,null,null,null,467,878.78357712915408,0.82729998697337037,0.40326787118360802,428.36357785582453]
[null,null,null,null,468,1071.9165471751205,0.93700625501164536,0.39493749538366829,451.8006514229624]
[null,null,null,null,469,902.71535539961224,0.98617890271913033,0.38831304060342436,355.44883741490776]
[null,null,null,null,470,944.9271961961565,1.0005034002847708,0.41555929882850812,392.47571071072554]
[null,null,null,null,471,993.23176319222148,0.97868178625580393,0.39519284123265108,401.06813880753566]
[null,null,null,null,472,1093.8670666988771,0.99889098713216828,0.40307142944861518,441.39607612931798]
[null,null,null,null,473,821.83383508371219,0.9184271957150778,0.42563930272900363,380.87371776026282]
[null,null,null,null,474,919.96276735794754,0.98081442259553542,0.41237825446027992,386.7934967428219]
[null,null,null,null,475,709.33202896806688,0.90517489604956736,0.36610903088516589,286.89799378515534]
[null,null,null,null,476,1148.2206015514289,0.98238195237524517,0.38544723194108527,450.5156588592053]
[null,null,null,null,477,867.23333946755838,0.93994783162602558,0.42415888955977166,391.34590014579169]
[null,null,null,null,478,874.1176637168312,0.97201541665095381,0.40406896813385851,363.37265474923322]
[null,null,null,null,479,978.15393557955417,0.85167483507762332,0.38322455068740918,440.13582065205765]
[null,null,null,null,480,791.84900393387488,0.99012754402259839,0.37534909710693826,300.1833556352662]
[null,null,null,null,481,892.03056991876167,0.93365834080447574,0.40717073784807167,389.01676283843136]
[null,null,null,null,482,1118.5462400572492,0.93326010420068539,0.41911280663545036,502.32196995438608]
[null,null,null,null,483,902.92243591916588,0.96199087838375674,0.40536911767627309,380.47852573572146]
[null,null,null,null,484,1028.4898342411827,0.94282648144583192,0.43315862019983231,472.51455729827228]
[null,null,null,null,485,1126.9627302856979,0.94390490177494624,0.36670827702956998,437.82648053049604]
[null,null,null,null,486,919.97561837435603,0.92551614239955082,0.35213797483193232,350.02993066029705]
[null,null,null,null,487,1088.2925727973832,0.90788396707822383,0.38588104907922077,462.56074005544713]
[null,null,null,null,488,965.62988477587191,0.88500577199821051,0.38243370957811562,417.27345809341426]
[null,null,null,null,489,1000.4339705684871,0.85528260343784823,0.40802219051227617,477.26828359827755]
[null,null,null,null,490,903.923440281892,0.93179961888868579,0.42965733723708216,416.80349567098989]
[null,null,null,null,491,1180.1241242251067,0.86462233719995218,0.39191243875377874,534.92178452737585]
[null,null,null,null,492,855.5596837132025,0.95272143326079317,0.36500827841085215,327.78350137569072]
[null,null,null,null,493,1311.9723659085316,0.86909147825253785,0.40990683523308136,618.79152411451457]
[null,null,null,null,494,1000.8412617723479,0.88950922627019779,0.36778913776474353,413.82206483692619]
[null,null,null,null,495,847.55011520051312,0.95391429984272902,0.39071942572197715,347.1530873751837]
[null,null,null,null,496,952.07144953607133,0.87595324428701737,0.37352115984506901,405.97923965170719]
[null,null,null,null,497,1057.3893748220705,0.84447526037924758,0.38435133293158991,481.25627204051909]
[null,null,null,null,498,1138.0550154453906,0.9120922038816095,0.44008227358484203,549.10878147013443]
[null,null,null,null,499,956.78306608924026,0.89244147666478879,0.39405402784055366,422.46380386880469]
[null,null,null,null,500,1060.8302245037723,0.98703267158177566,0.43691859419900686,469.5857226602497]
[null,null,null,null,501,1135.4198962925786,0.83459397485023668,0.42434589343511686,577.29960296291415]
[null,null,null,null,502,809.86360491502853,0.94736899390791163,0.39815889560342987,340.36832595950904]
[null,null,null,null,503,784.50237329842912,0.8736090284591691,0.42418914271396352,380.92256186210398]
[null,null,null,null,504,1014.4480927034194,0.9073299273108244,0.40525852008322172,453.10280238270951]
[null,null,null,null,505,974.98743569261842,1.0192454851029698,0.35138879766139597,336.13066505601006]
[null,null,null,null,506,911.35513197084697,1.0442184666887868,0.42822998757996961,373.74324367424845]
[null,null,null,null,507,1093.0219609395042,0.84772832015816402,0.4401301562722163,567.48360888487571]
[null,null,null,null,508,1105.0769389796274,0.94490331791956728,0.40688221310794298,475.85413455480779]
[null,null,null,null,509,1194.3723607646002,0.91510183744769791,0.40920368779356636,534.08435501203553]
[null,null,null,null,510,772.84969990726245,0.96197535123475786,0.40038429292334093,321.66820099517435]
[null,null,null,null,511,1029.8641206445416,0.92956634230358559,0.43357527963829107,480.356918895489]
[null,null,null,null,512,1145.1746128633372,0.89296107987024231,0.38071955165155247,488.25237180037499]
[null,null,null,null,513,1115.7785026814995,1.0378204416618142,0.39799103800643532,427.88697027050995]
[null,null,null,null,514,794.70298159041715,0.96954503027111905,0.40951891982747823,335.66868628430569]
[null,null,null,null,515,1292.6029154401742,0.93051460660208352,0.3785549326204205,525.86085816131947]
[null,null,null,null,516,993.44702468707635,0.89070223349914479,0.4048775594486973,451.58122621599944]
[null,null,null,null,517,1255.0364433313537,0.93442993622373116,0.42132094913173967,565.87778815840954]
[null,null,null,null,518,963.48441951555105,0.91948482002124521,0.40466775699140689,424.03209977138835]
[null,null,null,null,519,893.84474223230859,0.89857324142898864,0.40763088559697852,405.48583806359989]
[null,null,null,null,520,777.24492147886997,0.9173494377757142,0.37641049516350644,318.92224893771817]
[null,null,null,null,521,940.31745007980271,0.96757617567074616,0.42665611074213272,414.63628001784201]
[null,null,null,null,522,1031.1521589451481,0.89087776021968734,0.42026386154615702,486.43709329221622]
[null,null,null,null,523,1241.9908061547067,0.85071694379146168,0.41346753804885616,603.6354214498657]
[null,null,null,null,524,1113.726201797012,0.99410948495015838,0.42224732797750958,473.05444714764667]
[null,null,null,null,525,1024.3560570508803,0.97446491384282419,0.41160773196085287,432.68143098180536]
[null,null,null,null,526,990.62356688643285,0.87932127002407368,0.38836397864070549,437.52212403633695]
[null,null,null,null,527,1112.1409927765328,1.0149844045030421,0.4067490682336089,445.68400317218834]
[null,null,null,null,528,998.12358954981949,0.90953166746228253,0.41487883647303481,455.28964884105091]
[null,null,null,null,529,1115.2883654743223,0.94741681667982869,0.37723764670467219,444.07989280056796]
[null,null,null,null,530,566.13770726945518,0.85190752973517192,0.36567664683169243,243.01151382431485]
[null,null,null,null,531,937.97615274738939,0.91114181370073566,0.39545008818339866,407.09661958254679]
[null,null,null,null,532,900.29744929837909,0.94957028590758297,0.41158997838859446,390.23273284700349]
[null,null,null,null,533,813.56854553853907,0.9998772393544646,0.40815854153104353,332.10572049517646]
[null,null,null,null,534,1080.4286674813909,0.92305447075891744,0.39256675719905437,459.49658640334093]
[null,null,null,null,535,1017.6958040300024,0.98191071798857132,0.40468192444694145,419.43028926305317]
[null,null,null,null,536,1143.7500582895125,0.99282218103052655,0.40235429482962648,463.51980944538474]
[null,null,null,null,537,788.46176473915784,0.92171751805822488,0.37989920146048084,324.97591608930003]
[null,null,null,null,538,1220.0050026862198,0.87183851393253176,0.41311134579050879,578.08630896278578]
[null,null,null,null,539,853.01205315809079,0.91655824338985514,0.43120068483762863,401.30497341462416]
[null,null,null,null,540,911.14234803194552,0.88545172605441758,0.3537425567573404,364.00609347606445]
[null,null,null,null,541,788.17966982549729,0.91617702442077964,0.42553741497068093,366.08638973677779]
[null,null,null,null,542,931.00478016191437,0.98819951085632074,0.40296207696728481,379.63955229589436]
[null,null,null,null,543,997.95390695353547,0.86606308729289538,0.41026400328774493,472.74219507861227]
[null,null,null,null,544,978.16152146528805,1.007864614647159,0.44024882728813935,427.27411644889929]
[null,null,null,null,545,1137.6829279116016,0.87953305957707262,0.40129658742136393,519.08029103306762]
[null,null,null,null,546,1019.3173508484645,0.94918500966999386,0.41135982502284829,441.75392870306615]
[null,null,null,null,547,1162.5953348463509,0.83809520213289923,0.37712079054574271,523.1373126182433]
[null,null,null,null,548,1018.1193762549293,0.88936563587269146,0.39030292015140977,446.80719558621797]
[null,null,null,null,549,1053.2898854188425,0.9143097455918282,0.38622168242943294,444.92951496327777]
[null,null,null,null,550,1121.4586515054139,0.94377673631399928,0.43476452501729118,516.61629195537409]
[null,null,null,null,551,901.25273260099493,0.94471069599328672,0.40951991101886864,390.68144398663014]
[null,null,null,null,552,875.57151341716303,0.9342533254482891,0.3922010465459379,367.56632760525213]
[null,null,null,null,553,950.34939088084434,0.8708265448063468,0.37196371230091341,405.9309968480124]
[null,null,null,null,554,1091.1688172901504,0.8768104214144975,0.3584079581551301,446.02981243836382]
[null,null,null,null,555,1378.0749891848477,1.0535172028321309,0.41183819798940746,538.71348157813918]
[null,null,null,null,556,1006.5434998819958,0.86844900738483433,0.44539571473342954,516.21932632547794]
[null,null,null,null,557,998.47454393071098,0.9202696672588252,0.37865964141052827,410.83828600862546]
[null,null,null,null,558,1040.372949475156,0.96770607750577908,0.41127289840830278,442.15615495469171]
[null,null,null,null,559,1070.8644080627182,0.95813443505878182,0.38725414653079188,432.81680234056904]
[null,null,null,null,560,980.05132254403247,0.92055762746951542,0.38812165312300634,413.20513577926431]
[null,null,null,null,561,1001.1955062832797,0.87961922419877636,0.43164567879251564,491.30544447491826]
[null,null,null,null,562,1130.4370465556501,0.87098756894313822,0.39907141311118521,517.94666845773236]
[null,null,null,null,563,901.90112672796442,1.0498302926982976,0.40630303859651723,349.0518142330879]
[null,null,null,null,564,769.20373538512456,0.91488911057893096,0.40501475862096831,340.52090205797214]
[null,null,null,null,565,1178.5301928936881,0.93938106606761318,0.43704926489761908,548.31396231991152]
[null,null,null,null,566,1156.313012302332,0.8480647156264226,0.36124868356791762,492.55268588568106]
[null,null,null,null,567,763.75767727471123,0.96663034805578563,0.39833312914949132,314.73249946340968]
[null,null,null,null,568,1245.2843217853258,0.96030078748933956,0.43261258118311247,560.99679576738026]
[null,null,null,null,569,1077.5087093346938,0.92912152755650812,0.37031448959631286,429.45629382006882]
[null,null,null,null,570,1316.5017628772623,0.98628603068795095,0.40100694190679331,535.26698089607521]
[null,null,null,null,571,801.62474109285631,0.95563403770565691,0.39654383759078948,332.63711692801144]
[null,null,null,null,572,1093.9675536611853,0.9768933393056165,0.42040300813119186,470.78553190258111]
[null,null,null,null,573,780.93870174359654,0.90359761019338958,0.42519452663079793,367.47647168353217]
[null,null,null,null,574,1082.8682608721535,0.91308969012501551,0.40513819635899045,480.46900413920446]
[null,null,null,null,575,1281.7158105609212,0.84017734279428624,0.38839318124136446,592.50548158735194]
[null,null,null,null,576,785.52508153098904,0.95589863189666491,0.390742942966889,321.09930058452568]
[null,null,null,null,577,1050.4558759144027,0.90790275524843345,0.39375125977292208,455.57558018863386]
[null,null,null,null,578,1191.1797591072245,0.92650140168788853,0.39453048140951563,507.23800627789973]
[null,null,null,null,579,812.61223924418516,0.84488290082428952,0.45566251507141597,438.25829159350826]
[null,null,null,null,580,1214.5162223257537,0.91063297197032356,0.39306067290485375,524.22718954303241]
[null,null,null,null,581,903.11133740654225,0.90549418517708635,0.36045179352559936,359.50324877881769]
[null,null,null,null,582,1096.2429988103956,0.99473419197102853,0.39078101752543193,430.6587206793572]
[null,null,null,null,583,924.07104845114554,0.90518027031190051,0.39126423641932884,399.4297766177159]
[null,null,null,null,584,980.02231506974033,0.98204197333507937,0.43990716920026551,439.00246026278501]
[null,null,null,null,585,900.32578866524773,1.0041654398759292,0.39294861033383516,352.3142237871034]
[null,null,null,null,586,1244.8922049711814,1.0210046830756467,0.37107786850396429,452.44841046794687]
[null,null,null,null,587,870.14687569316834,0.91062195906370935,0.41254223831882242,394.20567030217552]
[null,null,null,null,588,1208.1486980654988,0.90770102869940861,0.38621533172219108,514.05202312227357]
[null,null,null,null,589,638.03218307504233,0.95890880590245919,0.37176225769320892,247.3606284569174]
[null,null,null,null,590,778.36462161285567,1.0303798517023388,0.40907558702591462,309.02192427425945]
[null,null,null,null,591,1166.8946511517065,0.91728099312926292,0.40763004341710629,518.55573251274075]
[null,null,null,null,592,894.9796252521104,0.87832980071466238,0.38245335074309972,389.70322565164827]
[null,null,null,null,593,778.85630179925579,0.97538990737469622,0.42261873057240479,337.46428897410425]
[null,null,null,null,594,998.94085170567621,0.92378532696048687,0.41595109916937978,449.79123736390005]
[null,null,null,null,595,969.34424671546026,0.84789582701189803,0.39157054888543796,447.65718458947896]
[null,null,null,null,596,1061.9015208127068,0.87339662053394573,0.38486997250889476,467.93632985720438]
[null,null,null,null,597,837.80283078756702,0.85507165554094466,0.39544824692381059,387.46186773452791]
[null,null,null,null,598,906.3185030739063,0.9246049926533475,0.4011088711043635,393.17589080471964]
[null,null,null,null,599,974.62750909515546,0.91458877461196053,0.37879592395854839,403.66221199222002]
[null,null,null,null,600,1120.6691793185296,0.86889100294981447,0.37716236946625803,486.45254885208692]
[null,null,null,null,601,988.18992958701631,0.90301178202939136,0.37258039907696544,407.72468937441317]
[null,null,null,null,602,1412.325208368999,0.91854232401943758,0.37939595300432871,583.34869757166962]
[null,null,null,null,603,708.21815825520139,0.93567464164382197,0.39825982615464472,301.44542561371179]
[null,null,null,null,604,899.6379677768532,0.95318242591927427,0.43025940742075419,406.0898400802684]
[null,null,null,null,605,731.9833523706377,0.82973061591895381,0.37797736492356193,333.44935499402317]
[null,null,null,null,606,1346.3654619031729,0.91788255386132966,0.42189122437657289,618.83709499774852]
[null,null,null,null,607,1004.6652942772014,1.0073963085767346,0.3511741713135339,350.22215106557513]
[null,null,null,null,608,703.94672727050738,0.84147206892955329,0.37133766528781964,310.64837900581091]
[null,null,null,null,609,934.72943989831811,0.84535357486633489,0.39486681115883754,436.61450569638305]
[null,null,null,null,610,1195.2814977641278,0.91639888509234491,0.38905496218917929,507.45391060922947]
[null,null,null,null,611,631.86968669788018,0.85565625020859104,0.40615241685365844,299.92815494112932]
[null,null,null,null,612,1104.1639581255977,0.89561291052306502,0.42625461191893782,525.51160656095078]
[null,null,null,null,613,1247.313307611427,0.87190887621343438,0.36431518490647219,521.17278616570047]
[null,null,null,null,614,886.46573425559086,0.92289424396807396,0.42367165421900649,406.94847377715865]
[null,null,null,null,615,830.22296417078974,0.89047915194520388,0.35560933169384279,331.54626113450342]
[null,null,null,null,616,1035.4114474355777,0.97652372893991635,0.41219889741574633,437.05589977614056]
[null,null,null,null,617,1226.0501490070658,0.87262693893835663,0.40756598630394952,572.63455428742861]
[null,null,null,null,618,1091.0092480256374,0.98333554252494182,0.37773584536928395,419.09733024647369]
[null,null,null,null,619,549.77900885568954,0.89980132457222384,0.3927132813185934,239.94798926356981]
[null,null,null,null,620,752.02652829118915,1.0226818845390246,0.39735127656337499,292.19125276744296]
[null,null,null,null,621,1060.7378448578588,1.0254799107742649,0.39889717613280218,412.61201363908077]
[null,null,null,null,622,1061.4060998281077,0.94810162116193286,0.39896991404760568,446.64948457639781]
[null,null,null,null,623,1029.0021855924122,0.9222948636127426,0.39988259930708919,446.14806489927901]
[null,null,null,null,624,794.60036069562011,0.91738643322099034,0.36385216026111938,315.1529686004418]
[null,null,null,null,625,1017.0084400956662,0.97702021299534769,0.38118641141814091,396.78789906864938]
[null,null,null,null,626,1219.4370178120064,0.87787529455482016,0.4072972574029467,565.7675480915849]
[null,null,null,null,627,1292.2769798204563,0.96835633119223574,0.41354487734548157,551.87796878270149]
[null,null,null,null,628,939.12049262513437,0.89245681358730855,0.39432965050332114,414.94787198590592]
[null,null,null,null,629,742.18259000768376,0.96778603974874577,0.39099435646110564,299.84851221043562]
[null,null,null,null,630,830.18171851395346,0.93495048941403214,0.42909417113856124,381.01069568228286]
[null,null,null,null,631,1021.7128912068707,0.94553466076269033,0.36830989880482323,397.98326511314553]
[null,null,null,null,632,1283.9647799993097,0.95749936887423948,0.39375394605792968,528.00682189330212]
[null,null,null,null,633,1322.3620965356331,0.94643360880231142,0.38058993853422179,531.76229622420828]
[null,null,null,null,634,1313.6060649033143,0.83250222694556941,0.35210163116539578,555.58150259633396]
[null,null,null,null,635,727.55595931888615,0.94504339112081948,0.41370471543914689,318.49683722892121]
[null,null,null,null,636,982.67323614582608,0.87554255666907199,0.4017291207889615,450.88437126525253]
[null,null,null,null,637,760.33798581215331,1.0137293119992183,0.38366076203618815,287.76108926598357]
[null,null,null,null,638,984.15800025635986,0.92315960830925958,0.40589928402925873,432.71935219018047]
[null,null,null,null,639,860.91164073966809,1.0057812296943978,0.42457448347328203,363.42010010888976]
[null,null,null,null,640,982.23025928786944,0.96172503542289411,0.37531450572809311,383.3166972862478]
[null,null,null,null,641,1157.1885840191037,1.0000810829223732,0.42917053141724198,496.59097450600746]
[null,null,null,null,642,1349.88768025631,0.91876793890052999,0.4078987724193055,599.29989322375036]
[null,null,null,null,643,923.0082471578537,0.88581180856884201,0.42813498184225623,446.11295008094157]
[null,null,null,null,644,1240.745994147873,1.028075127519597,0.41947262611507891,506.24605787581584]
[null,null,null,null,645,974.34158507360348,0.89007103776139607,0.36188105832368939,396.14339644397916]
[null,null,null,null,646,1446.3076908516446,0.87631035748210162,0.3899858908339382,643.65277486552475]
[null,null,null,null,647,798.11545764664129,0.92417691209871655,0.3955956862080417,341.63484069730072]
[null,null,null,null,648,862.28867084688136,0.96727030479030784,0.39753647920093171,354.39028838751869]
[null,null,null,null,649,943.82594526571347,0.85949375435280795,0.40712165421915275,447.06779797471768]
[null,null,null,null,650,1007.5507939176297,0.97817920349209031,0.37752493738127862,388.86080283068139]
[null,null,null,null,651,1132.7596539056467,1.0305730301724323,0.43303796096082503,475.97590507867011]
[null,null,null,null,652,1123.0273124912919,0.94575813778824303,0.41774592144686928,496.04656911946898]
[null,null,null,null,653,1327.0064956315075,0.90413728844259422,0.39943261218679971,586.24909924019585]
[null,null,null,null,654,884.64010303573116,0.85120738551369113,0.41593405165551511,432.27061768331635]
[null,null,null,null,655,1047.4600581029529,0.97646712550087655,0.38393046786330981,411.8436961913219]
[null,null,null,null,656,945.13896620153821,0.87489576538659208,0.40292374218010352,435.27348537786651]
[null,null,null,null,657,516.27420625765171,0.9747298043882876,0.41004364243804819,217.1832184443702]
[null,null,null,null,658,1106.7808281878267,0.88715517302991831,0.39203399666320954,489.08660479631578]
[null,null,null,null,659,651.2423897661613,0.83276269522504109,0.41204905143639242,322.23322501952418]
[null,null,null,null,660,1076.3157927609091,0.88881853503077446,0.42694911510617506,517.01450541663223]
[null,null,null,null,661,1245.0537128254743,0.88915273533388539,0.39001028141126809,546.11961434147315]
[null,null,null,null,662,1105.8835848993074,0.983343665533156,0.40405620514050994,454.40789451704745]
[null,null,null,null,663,997.20351935808606,0.84984776005081197,0.40733769023478827,477.96628686182373]
[null,null,null,null,664,954.28328530618944,1.0438934661889596,0.42328666773796753,386.95078089719459]
[null,null,null,null,665,787.49978808854928,0.85534280272830465,0.40173529234770555,369.87095300549544]
[null,null,null,null,666,1112.8338953772939,0.83358982064897091,0.348810824428057,465.65888747998497]
[null,null,null,null,667,1321.4212615235742,0.8887396126097723,0.40013902820777297,594.94615963663239]
[null,null,null,null,668,1081.8878895866465,0.88937009581544624,0.38442184692060544,467.63584994906176]
[null,null,null,null,669,793.18246680500135,0.92798309255681477,0.40632288753097306,347.29963599139234]
[null,null,null,null,670,892.04216205722969,0.8473475808252382,0.38201726733241426,402.16732401893171]
[null,null,null,null,671,828.58660196954611,0.92895522250166629,0.42013406034707068,374.7408324990854]
[null,null,null,null,672,1056.6466921100146,0.91392654519200989,0.42178142258419599,487.64744531346741]
[null,null,null,null,673,996.32073904073684,0.85542871866977588,0.40224564723185496,468.4968738823348]
[null,null,null,null,674,928.27792063926211,0.8620009906925693,0.34471748282601872,371.22187981320104]
[null,null,null,null,675,877.91591177467876,0.96487374585934171,0.40385593697323302,367.45901176707861]
[null,null,null,null,676,1162.8439734930191,0.97540003896885452,0.43583000969378893,519.58404756226309]
[null,null,null,null,677,855.12078959513462,0.93539690878529713,0.42802711536279198,391.2936652019344]
[null,null,null,null,678,1152.7202321629825,0.90346557845013575,0.40800962620784037,520.57428889969776]
[null,null,null,null,679,1245.7717849187063,0.96165788444270017,0.43371759800588394,561.85588966658986]
[null,null,null,null,680,1025.450027434626,0.91860083222591649,0.38763693168912466,432.72582419947906]
[null,null,null,null,681,1304.5545154862837,0.93639987821537796,0.40936714779206579,570.31378748326495]
[null,null,null,null,682,1076.3910422254085,0.90359134850786083,0.40879374014362313,486.97004540276356]
[null,null,null,null,683,960.38353803859172,0.85259487848034465,0.42380920721272303,477.38896414877871]
[null,null,null,null,684,1101.9835871779267,0.88414712655846095,0.38105218287195519,474.93594535303993]
[null,null,null,null,685,1040.860959662343,0.93712543688923533,0.38377646576563251,426.25877468295954]
[null,null,null,null,686,1049.7959539968881,0.87822483172972232,0.38722995183585363,462.87968868181014]
[null,null,null,null,687,1179.1818645070364,0.87616329002168414,0.38015291492182934,511.62771611238509]
[null,null,null,null,688,1164.2088074996379,0.94105751156113016,0.39849135799191143,492.98490579716105]
[null,null,null,null,689,1364.0756211317953,0.98546224877463429,0.41061047712623888,568.36651259411906]
[null,null,null,null,690,881.43058057010023,0.91458270227994665,0.38784287566904563,373.78420805328597]
[null,null,null,null,691,818.9495561578143,0.85386629522250868,0.40315315886172493,386.66721284202185]
[null,null,null,null,692,1040.0989612993387,0.87931490792293521,0.41955601688533095,496.27246557221537]
[null,null,null,null,693,726.55627270000491,0.86525250419028332,0.38482515297974351,323.13934653309434]
[null,null,null,null,694,916.16474319871509,0.91726567581701146,0.38457700111798115,384.11541907480671]
[null,null,null,null,695,1025.3525616861793,0.9386558992129298,0.38967599667933578,425.66746957836438]
[null,null,null,null,696,801.40243804955367,0.94344172490146794,0.37383704602038809,317.55424018931478]
[null,null,null,null,697,1214.3814583512174,0.90942086166089009,0.38546297422013298,514.72218035436947]
[null,null,null,null,698,1192.758590229733,0.90569672197462803,0.40612338557057065,534.84477207376949]
[null,null,null,null,699,928.37384045010708,0.85060866811278557,0.37746324219858057,411.97205357209066]
[null,null,null,null,700,1389.3940222965914,0.95250253410499941,0.36576244514078615,533.52945180004417]
[null,null,null,null,701,1219.633732365704,0.88444526655683064,0.43387625257803797,598.30736092542031]
[null,null,null,null,702,1057.3628338362716,0.89151358407121495,0.40609111783639334,481.63669384641531]
[null,null,null,null,703,991.50676027194754,0.93528183719212599,0.39086996700730925,414.36730540872196]
[null,null,null,null,704,1001.1803097474893,0.92383100812102581,0.42029704748245428,455.48712317016441]
[null,null,null,null,705,1356.9954597941557,0.90897135859464262,0.42948026746074502,641.16736738160807]
[null,null,null,null,706,1129.0676132770127,0.92788217270806062,0.39209903477343616,477.11480442372135]
[null,null,null,null,707,1068.4240886754899,0.93547691740851435,0.40449923061838255,461.98544699596744]
[null,null,null,null,708,976.43681792442953,0.97974590547970686,0.4114847331487263,410.09494524348122]
[null,null,null,null,709,1042.6646071308464,0.92060785247248134,0.38396350819880659,434.8704601568204]
[null,null,null,null,710,1065.6220340204204,0.80301265918737708,0.3703224206638992,491.42902871615564]
[null,null,null,null,711,809.79099314105292,0.94033534010824338,0.38619455595373076,332.58015483650757]
[null,null,null,null,712,1406.1232567758725,1.0019609790240995,0.39211475431049442,550.28258275882615]
[null,null,null,null,713,1029.8379410251989,0.86929938786299132,0.39298420002172568,465.55886850525945]
[null,null,null,null,714,1005.9435908789194,0.83194874559546661,0.41264595698775525,498.94727040765497]
[null,null,null,null,715,1042.9719991362228,0.93246385325331571,0.3661150432990718,409.50406526883768]
[null,null,null,null,716,859.52893146669635,0.94518072957733756,0.40266451406796594,366.17526012317649]
[null,null,null,null,717,1092.9477159211001,0.94564223808743941,0.40755245201513679,471.03809834983298]
[null,null,null,null,718,1104.1941882875487,0.94737714687913066,0.39161993652761173,456.44383480837513]
[null,null,null,null,719,1303.7933243060677,0.89993036708026397,0.40565605325765641,587.70286407560218]
[null,null,null,null,720,1134.2781575741571,0.89692013363107437,0.3873235733447169,489.82362273427668]
[null,null,null,null,721,926.1435592643237,0.98687682630737572,0.39189118027173314,367.77385268961103]
[null,null,null,null,722,902.02003608662619,0.84104756886618015,0.38392359448177821,411.75646582727597]
[null,null,null,null,723,1191.6483535190869,0.94207730172646664,0.39632264680843304,501.31473146215569]
[null,null,null,null,724,992.48483283159067,0.99718236688891626,0.40832491846525443,406.40137842419904]
[null,null,null,null,725,1531.3330967495749,0.85696210056383149,0.4238359404895149,757.36605252035133]
[null,null,null,null,726,1095.5726020906454,0.98022675581127983,0.38999531772910678,435.88708685473409]
[null,null,null,null,727,976.06467293644062,0.8717610933321509,0.38644496625729574,432.68193830043469]
[null,null,null,null,728,1135.8234322407204,0.95161147920539912,0.37478615592732967,447.33686728657341]
[null,null,null,null,729,718.54869984639527,0.92695966818102504,0.36613184776047319,283.81338715296619]
[null,null,null,null,730,1020.0096661503935,0.9788783296524628,0.39745321052885113,414.15373525111062]
[null,null,null,null,731,925.69457577660967,0.9173070738351814,0.42284942226946121,426.71579423080311]
[null,null,null,null,732,1162.8113948466394,0.97827211412747761,0.40368186489866392,479.83159860973018]
[null,null,null,null,733,860.32606470967835,0.92276464994290752,0.40764360908629932,380.06053009395725]
[null,null,null,null,734,1052.1262893483104,0.9537409825960107,0.39561971001079116,436.43075539621816]
[null,null,null,null,735,1216.4354453421779,0.99433350691992639,0.38975209402927946,476.81010322398083]
[null,null,null,null,736,727.91872099542468,0.91162702095210135,0.40998852649235284,327.36888767889292]
[null,null,null,null,737,806.46014309038117,0.96623143516550369,0.40035026564033965,334.15030888461763]
[null,null,null,null,738,811.40030354411419,0.94123805916007619,0.42695985738515158,368.06348246543388]
[null,null,null,null,739,851.67386529346754,0.96581412772276998,0.40600989452466801,358.02749855453868]
[null,null,null,null,740,832.15374808116633,0.92522227440599081,0.43027970944708838,386.9976792004386]
[null,null,null,null,741,1146.1301719415169,0.897370346379748,0.36406032804483368,464.98140713303059]
[null,null,null,null,742,942.18822929201508,0.95254008517015398,0.35500698788367396,351.14890229597131]
[null,null,null,null,743,994.43087153170529,0.94014005593826888,0.4437869422132254,469.41456534266183]
[null,null,null,null,744,915.29463097424173,0.95964826661967717,0.40041191947364063,381.9054259987123]
[null,null,null,null,745,810.20155534866558,0.88626159146752881,0.39010176425965409,356.62276148521346]
[null,null,null,null,746,962.40377436888173,0.89149832555470809,0.38484201583902211,415.45048146753396]
[null,null,null,null,747,729.19866917575052,0.9685924974345228,0.38617597114520003,290.73011093168111]
[null,null,null,null,748,856.11102720889687,0.93101647908192142,0.38251878479537377,351.74302188592208]
[null,null,null,null,749,1167.3242034524615,0.83922828136608951,0.39619251721816978,551.08380501988779]
[null,null,null,null,750,1005.8948896177537,1.0046462682688313,0.405034890326256,405.53828662313498]
[null,null,null,null,751,595.90183448972175,0.85385037009658671,0.39157656035290622,273.2811260959889]
[null,null,null,null,752,861.79305942876567,0.96686070308305005,0.42706140440357165,380.65313140902998]
[null,null,null,null,753,1136.6811214637953,0.92174427228704103,0.42348229262690928,522.23197016331699]
[null,null,null,null,754,1013.5215157622057,0.85480637514610791,0.42601677265924454,505.11692205374447]
[null,null,null,null,755,848.39342543268754,0.90245765558229785,0.41495229302246006,390.09342442922997]
[null,null,null,null,756,1017.4660730567622,0.96757680559377635,0.42117291279554286,442.88902667213284]
[null,null,null,null,757,1087.2410225260171,1.0175231685329473,0.40728500542634444,435.19103982438196]
[null,null,null,null,758,870.83748758998274,0.91941862482584547,0.35212184785823608,333.51609053220108]
[null,null,null,null,759,727.91524633658207,0.92253984697184488,0.40310455804071205,318.06317594708628]
[null,null,null,null,760,758.89008901865134,0.90408987700350729,0.40374292331547701,338.90049076873385]
[null,null,null,null,761,1153.0970472222878,0.9692506157199785,0.4155985659732031,494.42886234076775]
[null,null,null,null,762,673.90165651588336,0.93322631757081731,0.39236090095271353,283.33176650264505]
[null,null,null,null,763,1085.0656096948214,0.90532293713069945,0.40586250706338373,486.44238494028292]
[null,null,null,null,764,1019.873854709573,0.89944869917597137,0.4343818339250558,492.54023691048479]
[null,null,null,null,765,1047.0976817300618,0.99195750587482612,0.37580851213944005,396.69866854688405]
[null,null,null,null,766,607.17385022125268,0.95866122400278098,0.39587156175668636,250.72763383638261]
[null,null,null,null,767,889.73712990893898,0.92081496652361594,0.38029139556110791,367.45642405555679]
[null,null,null,null,768,1224.0994183868395,0.93688615463254832,0.3720200478782677,486.06708721684316]
[null,null,null,null,769,916.45983056496289,0.90929216713388794,0.44156425544855693,445.04496723806301]
[null,null,null,null,770,915.39234487959129,0.94239947830632886,0.37819577406942034,367.35750010297295]
[null,null,null,null,771,1156.3558548748215,0.87384200618535224,0.41387298958233659,547.67847195545266]
[null,null,null,null,772,943.82447581221447,0.87170702789047705,0.38739039427675609,419.43970177430378]
[null,null,null,null,773,1082.7563916913123,0.91560215968217584,0.37370840132812699,441.93338327994849]
[null,null,null,null,774,692.31255781296272,0.95290853967945399,0.42301165197538959,307.32884276835404]
[null,null,null,null,775,995.63075925922351,0.97284955092197456,0.44179098031989211,452.13639534798841]
[null,null,null,null,776,1117.784223415722,0.94463922570523839,0.36507571184627857,431.99124062350631]
[null,null,null,null,777,1045.3210339648469,0.89021986175357015,0.40814153078308429,479.25118871395267]
[null,null,null,null,778,1054.3727572100377,0.93480432519437218,0.39621266902045388,446.89121885457774]
[null,null,null,null,779,742.17363907948834,0.89744627782107222,0.35038420379176605,289.76210167752299]
[null,null,null,null,780,899.85952067678261,0.90198622023766739,0.40251279478711982,401.56375170340317]
[null,null,null,null,781,1062.8666108636814,0.90590791256478964,0.37350627999041208,438.22042885768303]
[null,null,null,null,782,1084.736856421579,0.90901721875560926,0.38792222568474077,462.91041241371579]
[null,null,null,null,783,1024.1327612692471,0.9905869165342478,0.42180342902893642,436.08763983640449]
[null,null,null,null,784,911.74945351343274,0.82657000598460395,0.42223150967411133,465.74318619624978]
[null,null,null,null,785,858.11667171449676,0.93382950275864673,0.43604135932615967,400.68809015936228]
[null,null,null,null,786,914.94977466294642,0.80164348546812114,0.4323394910286732,493.44743276193941]
[null,null,null,null,787,1070.6059185268537,0.9258427982169396,0.36881713984395664,426.48472670688182]
[null,null,null,null,788,1114.0991969442273,0.88068542638145042,0.40242112521319923,509.07740607851252]
[null,null,null,null,789,1078.781153052068,0.948066727065214,0.42312595588343305,481.46432476032902]
[null,null,null,null,790,1043.8932108794531,0.81124817437752517,0.420027516889591,540.48056699792812]
[null,null,null,null,791,1044.895752742689,0.89947826197314396,0.38971575661376501,452.7206004615872]
[null,null,null,null,792,1335.7135983015128,0.96443728998344869,0.39617804990376376,548.69343408954478]
[null,null,null,null,793,1215.6375917438677,0.96387281170736328,0.39534351007335561,498.60772776216919]
[null,null,null,null,794,715.1577360146232,0.92723950503682939,0.39770514272735996,306.74050008576188]
[null,null,null,null,795,924.39951261338695,0.88994060848119694,0.41358135261242113,429.5954102301032]
[null,null,null,null,796,1330.3584760779631,0.87245311594192199,0.39166235721008424,597.22560118611136]
[null,null,null,null,797,1011.392156874845,0.85831373877145434,0.41820616650530013,492.79234113807144]
[null,null,null,null,798,1077.4323330376596,0.95750815636822706,0.40157981890316041,451.87613108465257]
[null,null,null,null,799,1033.3695691605817,0.87363075731976636,0.46218963076205699,546.69858588353168]
[null,null,null,null,800,870.20041465955569,0.89851631449089731,0.35859721365474073,347.29635843610271]
[null,null,null,null,801,1105.740380731298,0.84350588238360813,0.41913051437890103,549.43248674899462]
[null,null,null,null,802,1215.3870824271596,0.84903970769369241,0.39202300067177798,561.17480338470193]
[null,null,null,null,803,785.66759150246185,0.9443845819016059,0.40098536459458656,333.59418574411785]
[null,null,null,null,804,1505.6338014690352,0.9342470476852992,0.3887824917764684,626.5623878483882]
[null,null,null,null,805,1195.0384952835996,0.93776656093159572,0.41739952017419601,531.9111549739431]
[null,null,null,null,806,706.12980753798786,0.8902158470374848,0.41646670104846789,330.3463451431374]
[null,null,null,null,807,739.38138727438422,0.88516280932008851,0.42080741199556487,351.50275721097557]
[null,null,null,null,808,1185.9384773798843,0.8700825167619175,0.37277143911034644,508.09432943726284]
[null,null,null,null,809,926.91232883220437,0.94857472723288372,0.41071324243980345,401.33387186336017]
[null,null,null,null,810,1145.2065504770128,0.92804600151608641,0.41247787129821567,508.9967085315252]
[null,null,null,null,811,1088.6672918089623,0.97918704235535936,0.40447500557063076,449.69825975208221]
[null,null,null,null,812,736.43094341912411,0.90835811656223198,0.40959411487408454,332.06923011512259]
[null,null,null,null,813,852.27847970644996,0.92537283949456361,0.39859582501983748,367.11110296990836]
[null,null,null,null,814,1237.0398083964899,0.9721767622887838,0.40367373856114702,513.6519443529362]
[null,null,null,null,815,909.10280996330789,0.90072183987389354,0.39675412736280352,400.44581588092018]
[null,null,null,null,816,1083.9189528430577,0.98165756430403417,0.41750495845059649,460.99735164919065]
[null,null,null,null,817,1019.013879940858,0.92276311289181978,0.3713349590836732,410.06784095182485]
[null,null,null,null,818,970.64975322690623,0.86051255216964417,0.41281986192043479,465.65677175762983]
[null,null,null,null,819,1418.5784012122315,0.96073940758335075,0.40278869855679689,594.73707804109677]
[null,null,null,null,820,957.94269812560321,0.92346697956039947,0.41271794653250576,428.12591247649306]
[null,null,null,null,821,1293.5021243755789,0.91148332625286077,0.41201502706991194,584.69781886250939]
[null,null,null,null,822,724.91484688303797,0.93612865546496715,0.3721725761639274,288.20122585600706]
[null,null,null,null,823,1130.0137686150629,0.9070388644014431,0.39660453962575626,494.10075803983364]
[null,null,null,null,824,1132.4449759290976,0.88959239834972292,0.3903612102999699,496.92712327788581]
[null,null,null,null,825,1030.233675978762,0.88683217863746833,0.38540760040390243,447.72832840178421]
[null,null,null,null,826,810.47611769619891,0.8863223794697751,0.39817489182090871,364.10142399898524]
[null,null,null,null,827,813.70132036082475,0.89365525259094403,0.41543865760652049,378.2700132330425]
[null,null,null,null,828,870.95115877368937,0.87343973634716998,0.39310666413699197,391.98663674683871]
[null,null,null,null,829,967.45266291810253,0.90152521181219214,0.42490795152270466,455.98095739262976]
[null,null,null,null,830,1232.0122875043735,0.99623555341435077,0.40287767415435294,498.22578929072387]
[null,null,null,null,831,1153.2559154277315,0.97220890557916584,0.43698675059927422,518.36344246603812]
[null,null,null,null,832,955.66819110434312,0.8870795797843265,0.39996937256170667,430.89483230593351]
[null,null,null,null,833,1055.9827239000767,0.97219067166253237,0.38858520465082186,422.07693905633454]
[null,null,null,null,834,985.9977516971295,0.85518000830555807,0.40237286569451858,463.9242464341736]
[null,null,null,null,835,1153.8974060786604,0.91698816965719576,0.40556790573408541,510.34873720373679]
[null,null,null,null,836,1174.1602918312196,0.84324455429529377,0.44608068249914862,621.13680032145464]
[null,null,null,null,837,1075.5359891013766,0.83960062609909425,0.41087544856738656,526.33516249931802]
[null,null,null,null,838,1229.4452972946451,0.93170466788008544,0.41872907488663724,552.54042370663649]
[null,null,null,null,839,1135.4956697180437,0.8793534313850897,0.38106819899749356,492.06755143645711]
[null,null,null,null,840,1352.5150003540004,0.91385136311679493,0.39563336395639537,585.54386521514641]
[null,null,null,null,841,730.7908910074384,0.92028741568197669,0.38946638153940455,309.2712984363788]
[null,null,null,null,842,1074.0341285052004,0.95725740641546575,0.39259440228963816,440.48735887885533]
[null,null,null,null,843,858.16150397985416,0.94629853087859495,0.37005054242541879,335.58451130798579]
[null,null,null,null,844,961.40604506134048,0.96543049882682819,0.35576973939855211,354.28669233394317]
[null,null,null,null,845,840.3624422610153,0.96876601599753931,0.40335100288984438,349.88947617852898]
[null,null,null,null,846,980.38677139550566,0.89901613897285071,0.40519518583516256,441.86970934671217]
[null,null,null,null,847,1147.0552483001773,0.98834270067390417,0.40752262336282818,472.9644521183348]
[null,null,null,null,848,1009.8327246178169,0.84438438208847177,0.39227132696649214,469.13281593419418]
[null,null,null,null,849,850.54847376032558,0.86156542224451127,0.39422838002400495,389.18733074139357]
[null,null,null,null,850,969.46272913276903,0.95893045225986262,0.40337320112299579,407.80359357463385]
[null,null,null,null,851,1186.1084340259142,0.93365963116874151,0.39103280538611573,496.76273126288919]
[null,null,null,null,852,929.17344173675747,0.89110996548843024,0.39945821744817794,416.52094703363815]
[null,null,null,null,853,973.19423880054796,0.98125579851243194,0.39811373306731168,394.8430083122492]
[null,null,null,null,854,819.04015267396369,0.91731980000828894,0.4068791264342228,363.28698217516239]
[null,null,null,null,855,1151.5938145804312,0.99654780089164297,0.45574782942925335,526.65449756609553]
[null,null,null,null,856,613.41315188115618,0.84937159415601204,0.3719059052913225,268.58912534583982]
[null,null,null,null,857,558.28615987506419,0.9775360199405988,0.36532491990525279,208.6427942092227]
[null,null,null,null,858,934.63018051021663,0.97368390746339195,0.38734035055531951,371.80442131526132]
[null,null,null,null,859,940.89301725288931,0.90467835862700119,0.39008349419512373,405.69870201252934]
[null,null,null,null,860,923.16288919007263,0.89370151159130129,0.42357979314229316,437.54334144910354]
[null,null,null,null,861,1242.4399137484243,0.94190756610091586,0.43666496965575013,575.99068821783089]
[null,null,null,null,862,793.48834632417754,0.96237610139842911,0.40187141942244869,331.34684825309324]
[null,null,null,null,863,998.1741106200293,0.89594658062352084,0.39812561005802705,443.55175334020913]
[null,null,null,null,864,950.49499409746488,0.88665834249148279,0.40114442170166736,430.02557632983633]
[null,null,null,null,865,1029.9844699561258,0.93014468794645166,0.41367109837833277,458.0736873744363]
[null,null,null,null,866,667.97971102167867,0.93082187081688472,0.41585937753643781,298.43048980860493]
[null,null,null,null,867,965.03978082825051,0.86813661966448208,0.40542033008845152,450.67416536706571]
[null,null,null,null,868,1082.7616640495651,0.96512701388063282,0.4184197977879186,469.41895730644472]
[null,null,null,null,869,1043.711194416217,0.90498715803475205,0.4283806822419568,494.04647298919747]
[null,null,null,null,870,665.3694217842733,0.94789877376853671,0.3867322430049443,271.46338410220233]
[null,null,null,null,871,1087.8606163237066,0.98262688933665643,0.39049666655716053,432.31662899027731]
[null,null,null,null,872,854.00934781450962,0.90304038344485205,0.41732267503721254,394.66392873503349]
[null,null,null,null,873,871.14967419534003,0.98296135560239917,0.40779802739921356,361.41107346851243]
[null,null,null,null,874,950.63166797243332,0.82444324642264077,0.37570441454330333,433.20933952901237]
[null,null,null,null,875,866.55534305655885,0.97286817767231559,0.42029904778337751,374.36971821782095]
[null,null,null,null,876,952.83223532222883,0.91468114931613265,0.42710742832002779,444.92195553955418]
[null,null,null,null,877,815.50211529291073,1.0080068419966302,0.40915876392541334,331.01941729967223]
[null,null,null,null,878,1104.7051291888299,0.89551119173475946,0.41216396647878012,508.44663030273108]
[null,null,null,null,879,1022.9708331739218,0.97717240757151957,0.37475164799790689,392.31562681804525]
[null,null,null,null,880,1155.8185401270625,0.99676326354135891,0.41249525427165085,478.31785143014372]
[null,null,null,null,881,1169.291084942671,0.90925773939320043,0.40661761508535704,522.90382770594431]
[null,null,null,null,882,986.23270401686818,0.89904455843108999,0.36924720483507956,405.05630767697187]
[null,null,null,null,883,1099.3937618792343,0.98692095878220121,0.38401655768840676,427.78036500706395]
[null,null,null,null,884,1199.6864731107353,0.79578336628651525,0.38223669643760905,576.24249722961872]
[null,null,null,null,885,938.49982470725308,0.92552831002787883,0.40102489910340727,406.64536506771441]
[null,null,null,null,886,1081.9780631937758,0.83952974573512307,0.35679287760878919,459.83131465873078]
[null,null,null,null,887,1150.1920596900788,0.93512070958127413,0.3683829529645179,453.10850576146527]
[null,null,null,null,888,975.10949904026165,0.90521499752551138,0.40913962636608053,440.73058576573681]
[null,null,null,null,889,757.3683845889957,0.83734309220263559,0.43124816446680697,390.05961680538371]
[null,null,null,null,890,1061.6084414769964,0.81974718098465171,0.38262773005861356,495.51964019625098]
[null,null,null,null,891,1044.4890193188514,0.98509806632348107,0.37038066862406038,392.71069000227925]
[null,null,null,null,892,1376.069696692919,0.86061869091164689,0.40516623878626884,647.83276171499028]
[null,null,null,null,893,759.96773460952204,0.8669003470970863,0.39099168982875937,342.76265982049904]
[null,null,null,null,894,883.96332198084133,0.95203310767028837,0.41747203478187273,387.62303929002582]
[null,null,null,null,895,1071.9122139660949,0.95675987520440398,0.40858880863555874,457.76515698125598]
[null,null,null,null,896,1010.9538878721222,0.87991760855643941,0.42783488639363593,491.54754668059508]
[null,null,null,null,897,810.82093087721864,0.87367821456059636,0.39318985945957058,364.90158795916744]
[null,null,null,null,898,994.48739767302027,0.87783988853429396,0.38451322587940767,435.60740673808152]
[null,null,null,null,899,1360.8506111224931,0.85681719365003073,0.41802362252469799,663.93124040030546]
[null,null,null,null,900,1131.4735823685523,0.90931240032534144,0.3973736399115943,494.45908329055527]
[null,null,null,null,901,1050.1740894152226,0.96808219288241049,0.44940067919825727,487.50917280526653]
[null,null,null,null,902,1257.5810100114736,0.89858115093521929,0.4372968673896438,612.00508779241886]
[null,null,null,null,903,899.08632558500187,0.97880968461011031,0.39764346569543463,365.25568564169191]
[null,null,null,null,904,1124.9208828566993,0.84844776345046558,0.39930775435462595,529.42520554638327]
[null,null,null,null,905,1083.7091355181615,1.0052702193728704,0.40268988426971941,434.11084696818125]
[null,null,null,null,906,1001.268079168647,0.91813863538802298,0.39077178814280578,426.15276454594192]
[null,null,null,null,907,864.69023458248796,0.96402280488808023,0.39835133278905388,357.30535175005872]
[null,null,null,null,908,746.63284645794806,0.92047387672228409,0.4162120738521875,337.60611060142344]
[null,null,null,null,909,1022.5585189172455,1.0003180647206331,0.39918663423395689,408.06190337853604]
[null,null,null,null,910,820.08391986904167,0.95371896351029894,0.40887350084457041,351.58217056839754]
[null,null,null,null,911,837.63563450557081,0.8869693436697319,0.37459500870384344,353.75983402093692]
[null,null,null,null,912,1103.8789879352071,0.84627668974472281,0.42567152395014368,555.24375980704724]
[null,null,null,null,913,1230.851535364257,0.86000984648658041,0.41592861404425813,595.27966486636149]
[null,null,null,null,914,933.75830793174009,0.9445440854088889,0.41027489144614954,405.58995005277467]
[null,null,null,null,915,1063.5061107564804,0.79712434389919617,0.42953766831991164,573.07989469216989]
[null,null,null,null,916,1015.1632387226141,0.85853259685680428,0.39489408181744845,466.93853735766481]
[null,null,null,null,917,708.72440333154213,0.97684496268857057,0.38191208075756516,277.08635648286179]
[null,null,null,null,918,846.4127724440358,0.90102873905482828,0.42926372469636837,403.24385181214217]
[null,null,null,null,919,1031.6294539011778,0.90444706402393626,0.41030122143807396,467.99734538797105]
[null,null,null,null,920,1135.8034410065602,0.97575167015475739,0.4001520097828003,465.78862587538396]
[null,null,null,null,921,915.90335959276854,0.91451478912824236,0.37817782049779713,378.75203379442701]
[null,null,null,null,922,1218.7839150708596,0.96659609830682214,0.38065203503214096,479.9652909305442]
[null,null,null,null,923,1031.8054206869292,0.97192500139145199,0.42026448832301977,446.15703531970507]
[null,null,null,null,924,1089.1073202469199,0.84702387494598363,0.40733439670609839,523.75250139113939]
[null,null,null,null,925,1248.7934549261818,0.97548300892520245,0.40953144222303545,524.27380072780011]
[null,null,null,null,926,1109.8670104377834,0.93726817161782616,0.38190166606262715,452.22922662839215]
[null,null,null,null,927,1275.4286974449442,0.93860300478575776,0.3984705116323109,541.46505288188746]
[null,null,null,null,928,830.04011420157917,0.98099833610077891,0.38956222932750006,329.61552065915191]
[null,null,null,null,929,762.10120661789733,0.94897484713792135,0.37842312266335926,303.90343776092084]
[null,null,null,null,930,1158.0038347368163,0.91518973889887179,0.41802130082671574,528.92886445757972]
[null,null,null,null,931,818.01492298509663,0.94203261578058395,0.38397280262258005,333.42315043457046]
[null,null,null,null,932,663.31411153352565,0.93295876984597825,0.38280137610692883,272.16374709473774]
[null,null,null,null,933,1215.1778102795286,1.0188583849353596,0.43564403087427944,519.58639917631001]
[null,null,null,null,934,1241.3284274575508,0.90000338468885033,0.43911259248711298,605.64543776386211]
[null,null,null,null,935,1281.8590467759821,0.96780995812799386,0.38599107639878283,511.24308972148748]
[null,null,null,null,936,1142.2051355285705,0.82771732432887068,0.39596839486740149,546.41496659655627]
[null,null,null,null,937,1120.0366083790152,0.94528755700645439,0.39868040915430958,472.38181650295655]
[null,null,null,null,938,983.10304321068463,0.99869339519877887,0.39728599091932426,391.08405900693964]
[null,null,null,null,939,1168.6514579245163,0.85812317807425686,0.38634141185772969,526.14643883337908]
[null,null,null,null,940,868.32240120604865,0.89959006007083642,0.40821356549717425,394.02501109169395]
[null,null,null,null,941,1124.9636121092146,0.92505852544796319,0.39597896515375397,481.54999354545623]
[null,null,null,null,942,1083.1375717176165,0.9119173463728637,0.39535896284116301,469.59096531263833]
[null,null,null,null,943,998.14560180292676,0.98037136708159101,0.4016947910558295,408.97755934374715]
[null,null,null,null,944,834.99196646230382,0.8331413263473737,0.38906196981032032,389.92618535905723]
[null,null,null,null,945,988.70915481879354,0.92930241492832077,0.41115901956931983,437.44283906317145]
[null,null,null,null,946,748.70008134801765,0.92036819750462384,0.39075087613679865,317.86758119590564]
[null,null,null,null,947,1196.1485910388735,0.75589100305080503,0.39643377756770065,627.33079579457797]
[null,null,null,null,948,887.34597850411876,0.84297648254261481,0.3819236056649018,402.02589585933225]
[null,null,null,null,949,1072.6844291179839,0.82830526734178389,0.38915770131702537,503.97289880069104]
[null,null,null,null,950,952.60364530238064,0.84118212459638031,0.42259529579487493,478.57153342981053]
[null,null,null,null,951,784.80338550764623,0.9083291669945367,0.38133368521542865,329.47523655482865]
[null,null,null,null,952,1055.2275204301698,0.95385003063670326,0.40029930257790397,442.84408127265834]
[null,null,null,null,953,1082.1970662934791,0.99649083766201452,0.37972056673422783,412.3795902581665]
[null,null,null,null,954,1005.992211931473,0.97675406049990821,0.40466577461871311,416.77903800398929]
[null,null,null,null,955,975.10632327539861,0.96831588560129311,0.38671080045130163,389.42265887210755]
[null,null,null,null,956,1155.8960258667039,0.96096859877738428,0.40635296989078157,488.7795330601607]
[null,null,null,null,957,936.63344865176248,0.89690866790426571,0.37523082997289453,391.85009454662645]
[null,null,null,null,958,1061.2282749146871,0.90060341873782845,0.40489972721590706,477.11459904179014]
[null,null,null,null,959,1012.7431885812725,0.8720462531117289,0.41763949312022275,485.02192450318324]
[null,null,null,null,960,1120.5554969577656,0.8797130975529508,0.41702167069291518,531.19127900369836]
[null,null,null,null,961,744.16463598572318,0.90405196795638698,0.40668644151363359,334.76136155473995]
[null,null,null,null,962,895.75894164488329,0.91199678306443277,0.4244251071976603,416.86833976916819]
[null,null,null,null,963,1321.5071087574081,0.87503080428523738,0.42243013595316042,637.97117185086734]
[null,null,null,null,964,867.75876382722163,0.95323272557393313,0.37972041919354804,345.67185191943037]
[null,null,null,null,965,1117.9591059751062,0.88566806886873961,0.4237705924891062,534.91619419314929]
[null,null,null,null,966,863.0949874188392,0.83727895889117188,0.39580655994351438,408.01056117205565]
[null,null,null,null,967,1071.609539426328,0.96432043860859218,0.36746869396369264,408.35280693647042]
[null,null,null,null,968,940.64303820289831,0.88942244324279773,0.39610207049392154,418.91303492343945]
[null,null,null,null,969,1241.2306816571029,0.83110749822164764,0.39781857154700118,594.12845846501079]
[null,null,null,null,970,941.99063725850954,0.92283647626012266,0.45014084795477671,459.48385778964786]
[null,null,null,null,971,885.46412201015426,0.83913241491959156,0.41336910444467678,436.19279225234442]
[null,null,null,null,972,1240.6057554923023,0.92074548766388797,0.37103832185625946,499.93432905219373]
[null,null,null,null,973,1269.7785623935031,0.99520073660013364,0.41052841813074087,523.79401001707527]
[null,null,null,null,974,1165.8068345244199,0.89063957400881821,0.38491264216300503,503.83320259250092]
[null,null,null,null,975,1104.307884561438,0.88694176602456276,0.40656042793834246,506.19770465353224]
[null,null,null,null,976,1224.1224102896492,0.85798556264605852,0.42135888754968109,601.16962275396668]
[null,null,null,null,977,890.13700811675972,0.92226739778564337,0.38764217034629483,374.13730829086188]
[null,null,null,null,978,1366.3302720819395,0.97043015187559634,0.38327763679066529,539.64093834776668]
[null,null,null,null,979,1118.3960805054699,0.85817062425065627,0.3918729276779403,510.70164135937762]
[null,null,null,null,980,1013.4589520315643,0.91694027236838882,0.41504081113668273,458.72870696197577]
[null,null,null,null,981,1028.2475981677158,0.94249445438762147,0.40231482144970826,438.91955749672911]
[null,null,null,null,982,861.12670597233478,1.0039514181854357,0.38398413055485736,329.35756003810997]
[null,null,null,null,983,829.71165637311219,0.88281539312633273,0.41607663890405783,391.04850224767307]
[null,null,null,null,984,923.78985430861064,0.90926436373363762,0.40765569454712347,414.16799084416931]
[null,null,null,null,985,1362.9878039295188,0.89129468281569979,0.39603399392754485,605.62405910409473]
[null,null,null,null,986,1233.0038457027545,0.96241306276510807,0.42785118224595514,548.14525436931615]
[null,null,null,null,987,962.69116775413136,0.91504232496126381,0.3754112804908129,394.96000801828882]
[null,null,null,null,988,909.7816389997854,0.92157381064268518,0.37556890341344268,370.76324062046638]
[null,null,null,null,989,798.89935567393263,0.86860583806580105,0.42747290341181937,393.16777776238808]
[null,null,null,null,990,1027.6515345132143,0.86993173413981451,0.36872866021915401,435.5796651882053]
[null,null,null,null,991,865.142580368214,0.95037551627975969,0.39993170402909528,364.06445712027136]
[null,null,null,null,992,981.01517665214965,0.95469412376821927,0.41146477569235113,422.80891812629181]
[null,null,null,null,993,798.37628891178724,0.94577740308370772,0.38885518571285838,328.25140364033263]
[null,null,null,null,994,929.19543551701418,0.91284186729503491,0.42333868207821262,430.92279742875371]
[null,null,null,null,995,866.58874548585527,0.8519136577717864,0.42872272209091572,436.10791129912064]
[null,null,null,null,996,1270.6768651976859,1.0217948425881398,0.40271920199148076,500.81087887004776]
[null,null,null,null,997,770.841531828916,0.87694650512856365,0.43562003227406909,382.91276720953073]
[null,null,null,null,998,1047.9423942275751,0.99653803873595193,0.396171078834202,416.60674529177629]
[null,null,null,null,999,1101.7440187783566,0.95993858122324782,0.40618399053856435,466.18689034159434]
[null,null,null,null,1000,906.68193549116131,0.98975127508376937,0.37892066051913986,347.1180351326197]
[]
[]
[null,null,"Chart Data"]
[]
[null,null,null,null,null,{"$f":"F30","v":981.30219924482799},{"$f":"G30","v":0.90705444085923148},{"$f":"H30","v":0.38324165872954002},{"$f":"I30","v":414.61224995192737}]
[null,null,null,null,"MIN",{"$f":"MIN(F$31:F$1030)","v":512.4415844993664},{"$f":"MIN(G$31:G$1030)","v":0.75589100305080503},{"$f":"MIN(H$31:H$1030)","v":0.34471748282601872},{"$f":"MIN(I$31:I$1030)","v":208.6427942092227}]
[null,null,null,null,"MAX",{"$f":"MAX(F$31:F$1030)","v":1566.0758793121699},{"$f":"MAX(G$31:G$1030)","v":1.1069886827867901},{"$f":"MAX(H$31:H$1030)","v":0.46218963076205699},{"$f":"MAX(I$31:I$1030)","v":757.36605252035133}]
[]
[null,null,null,null,"Chart Min",{"$f":"IF(MROUND(F1036,50)>F1036,MROUND(F1036,50)-50,MROUND(F1036,50))","v":500},{"$f":"IF(MROUND(G1036,0.02)>G1036,MROUND(G1036,0.02)-0.02,MROUND(G1036,0.02))","v":0.74},{"$f":"IF(MROUND(H1036,0.01)>H1036,MROUND(H1036,0.01)-0.01,MROUND(H1036,0.01))","v":0.34},{"$f":"IF(MROUND(I1036,50)>I1036,MROUND(I1036,50)-50,MROUND(I1036,50))","v":200}]
[null,null,null,null,"Chart Max",{"$f":"IF(MROUND(F1037,50)<F1037,MROUND(F1037,50)+50,MROUND(F1037,50))","v":1600},{"$f":"IF(MROUND(G1037,0.02)<G1037,MROUND(G1037,0.02)+0.02,MROUND(G1037,0.02))","v":1.1200000000000001},{"$f":"IF(MROUND(H1037,0.01)<H1037,MROUND(H1037,0.01)+0.01,MROUND(H1037,0.01))","v":0.47000000000000003},{"$f":"IF(MROUND(I1037,50)<I1037,MROUND(I1037,50)+50,MROUND(I1037,50))","v":800}]
[null,null,null,null,"Interval",50,0.01,5.0000000000000001E-3,25]
[null,null,null,null,"No. Reqd",{"$f":"(F1040-F1039)/F1041+1","v":23},{"$f":"(G1040-G1039)/G1041+1","v":39.000000000000014},{"$f":"(H1040-H1039)/H1041+1","v":27},{"$f":"(I1040-I1039)/I1041+1","v":25}]
[null,null,null,null,null,null,null,null,null,null,null,null,null,null,1]
[]
[null,null,null,null,null,{"$f":"D11","v":"Sales (US$)"},null,{"$f":"D12","v":"Foreign Exchange (US$:A$)"},null,{"$f":"D13","v":"Gross Margin (%)"},null,"Gross Profit (A$)",null,null,{"$f":"INDEX(LU_Simulation_Outputs,DD_Simulations_Outputs)","v":"Sales (US$)"}]
[null,null,null,null,null,"Stratification","Count",{"$f":"F1046","v":"Stratification"},"Count","Stratification","Count","Stratification","Count",null,{"$f":"J1046","v":"Stratification"},{"$f":"M1046","v":"Count"}]
[null,null,null,null,{"$f":"N(E1046)+1","v":1},{"$f":"F$1039+IF($E1047<=F$1042,($E1047-1)*F$1041,-F$1039)","v":500},{"$f":"IF(F1047,SUMPRODUCT(--(F$31:F$1030<=F1047))-SUM(G$1046:G1046),)","v":0},{"$f":"G$1039+IF($E1047<=G$1042,($E1047-1)*G$1041,-G$1039)","v":0.74},{"$f":"IF(H1047,SUMPRODUCT(--(G$31:G$1030<=H1047))-SUM(I$1046:I1046),)","v":0},{"$f":"H$1039+IF($E1047<=H$1042,($E1047-1)*H$1041,-H$1039)","v":0.34},{"$f":"IF(J1047,SUMPRODUCT(--(H$31:H$1030<=J1047))-SUM(K$1046:K1046),)","v":0},{"$f":"I$1039+IF($E1047<=I$1042,($E1047-1)*I$1041,-I$1039)","v":200},{"$f":"IF(L1047,SUMPRODUCT(--(I$31:I$1030<=L1047))-SUM(M$1046:M1046),)","v":0},null,{"$f":"OFFSET(D1047,,2*DD_Simulations_Outputs)","v":500},{"$f":"OFFSET(E1047,,2*DD_Simulations_Outputs)","v":0},null,{"$f":"OFFSET(E1047,,2*DD_Simulations_Outputs)","v":0}]
[null,null,null,null,{"$f":"N(E1047)+1","v":2},{"$f":"F$1039+IF($E1048<=F$1042,($E1048-1)*F$1041,-F$1039)","v":550},{"$f":"IF(F1048,SUMPRODUCT(--(F$31:F$1030<=F1048))-SUM(G$1046:G1047),)","v":5},0.75,{"$f":"IF(H1048,SUMPRODUCT(--(G$31:G$1030<=H1048))-SUM(I$1046:I1047),)","v":0},0.34500000000000003,{"$f":"IF(J1048,SUMPRODUCT(--(H$31:H$1030<=J1048))-SUM(K$1046:K1047),)","v":1},225,{"$f":"IF(L1048,SUMPRODUCT(--(I$31:I$1030<=L1048))-SUM(M$1046:M1047),)","v":4},null,550,5]
[null,null,null,null,3,600,{"$f":"IF(F1049,SUMPRODUCT(--(F$31:F$1030<=F1049))-SUM(G$1046:G1048),)","v":6},0.76,{"$f":"IF(H1049,SUMPRODUCT(--(G$31:G$1030<=H1049))-SUM(I$1046:I1048),)","v":1},0.35000000000000003,{"$f":"IF(J1049,SUMPRODUCT(--(H$31:H$1030<=J1049))-SUM(K$1046:K1048),)","v":2},250,{"$f":"IF(L1049,SUMPRODUCT(--(I$31:I$1030<=L1049))-SUM(M$1046:M1048),)","v":4},null,600,6]
[null,null,null,null,4,650,{"$f":"IF(F1050,SUMPRODUCT(--(F$31:F$1030<=F1050))-SUM(G$1046:G1049),)","v":11},0.77,{"$f":"IF(H1050,SUMPRODUCT(--(G$31:G$1030<=H1050))-SUM(I$1046:I1049),)","v":1},0.35500000000000004,{"$f":"IF(J1050,SUMPRODUCT(--(H$31:H$1030<=J1050))-SUM(K$1046:K1049),)","v":11},275,{"$f":"IF(L1050,SUMPRODUCT(--(I$31:I$1030<=L1050))-SUM(M$1046:M1049),)","v":15},null,650,11]
[null,null,null,null,5,700,{"$f":"IF(F1051,SUMPRODUCT(--(F$31:F$1030<=F1051))-SUM(G$1046:G1050),)","v":13},0.78,{"$f":"IF(H1051,SUMPRODUCT(--(G$31:G$1030<=H1051))-SUM(I$1046:I1050),)","v":0},0.36000000000000004,{"$f":"IF(J1051,SUMPRODUCT(--(H$31:H$1030<=J1051))-SUM(K$1046:K1050),)","v":13},300,{"$f":"IF(L1051,SUMPRODUCT(--(I$31:I$1030<=L1051))-SUM(M$1046:M1050),)","v":20},null,700,13]
[null,null,null,null,6,750,{"$f":"IF(F1052,SUMPRODUCT(--(F$31:F$1030<=F1052))-SUM(G$1046:G1051),)","v":36},0.79,{"$f":"IF(H1052,SUMPRODUCT(--(G$31:G$1030<=H1052))-SUM(I$1046:I1051),)","v":0},0.36500000000000005,{"$f":"IF(J1052,SUMPRODUCT(--(H$31:H$1030<=J1052))-SUM(K$1046:K1051),)","v":15},325,{"$f":"IF(L1052,SUMPRODUCT(--(I$31:I$1030<=L1052))-SUM(M$1046:M1051),)","v":38},null,750,36]
[null,null,null,null,7,800,{"$f":"IF(F1053,SUMPRODUCT(--(F$31:F$1030<=F1053))-SUM(G$1046:G1052),)","v":46},0.8,{"$f":"IF(H1053,SUMPRODUCT(--(G$31:G$1030<=H1053))-SUM(I$1046:I1052),)","v":5},0.37,{"$f":"IF(J1053,SUMPRODUCT(--(H$31:H$1030<=J1053))-SUM(K$1046:K1052),)","v":27},350,{"$f":"IF(L1053,SUMPRODUCT(--(I$31:I$1030<=L1053))-SUM(M$1046:M1052),)","v":51},null,800,46]
[null,null,null,null,8,850,{"$f":"IF(F1054,SUMPRODUCT(--(F$31:F$1030<=F1054))-SUM(G$1046:G1053),)","v":56},0.81,{"$f":"IF(H1054,SUMPRODUCT(--(G$31:G$1030<=H1054))-SUM(I$1046:I1053),)","v":9},0.375,{"$f":"IF(J1054,SUMPRODUCT(--(H$31:H$1030<=J1054))-SUM(K$1046:K1053),)","v":41},375,{"$f":"IF(L1054,SUMPRODUCT(--(I$31:I$1030<=L1054))-SUM(M$1046:M1053),)","v":79},null,850,56]
[null,null,null,null,9,900,{"$f":"IF(F1055,SUMPRODUCT(--(F$31:F$1030<=F1055))-SUM(G$1046:G1054),)","v":100},0.82,{"$f":"IF(H1055,SUMPRODUCT(--(G$31:G$1030<=H1055))-SUM(I$1046:I1054),)","v":4},0.38,{"$f":"IF(J1055,SUMPRODUCT(--(H$31:H$1030<=J1055))-SUM(K$1046:K1054),)","v":56},400,{"$f":"IF(L1055,SUMPRODUCT(--(I$31:I$1030<=L1055))-SUM(M$1046:M1054),)","v":103},null,900,100]
[null,null,null,null,10,950,{"$f":"IF(F1056,SUMPRODUCT(--(F$31:F$1030<=F1056))-SUM(G$1046:G1055),)","v":99},0.83,{"$f":"IF(H1056,SUMPRODUCT(--(G$31:G$1030<=H1056))-SUM(I$1046:I1055),)","v":11},0.38500000000000001,{"$f":"IF(J1056,SUMPRODUCT(--(H$31:H$1030<=J1056))-SUM(K$1046:K1055),)","v":74},425,{"$f":"IF(L1056,SUMPRODUCT(--(I$31:I$1030<=L1056))-SUM(M$1046:M1055),)","v":120},null,950,99]
[null,null,null,null,11,1000,{"$f":"IF(F1057,SUMPRODUCT(--(F$31:F$1030<=F1057))-SUM(G$1046:G1056),)","v":109},0.84,{"$f":"IF(H1057,SUMPRODUCT(--(G$31:G$1030<=H1057))-SUM(I$1046:I1056),)","v":28},0.39,{"$f":"IF(J1057,SUMPRODUCT(--(H$31:H$1030<=J1057))-SUM(K$1046:K1056),)","v":74},450,{"$f":"IF(L1057,SUMPRODUCT(--(I$31:I$1030<=L1057))-SUM(M$1046:M1056),)","v":130},null,1000,109]
[null,null,null,null,12,1050,{"$f":"IF(F1058,SUMPRODUCT(--(F$31:F$1030<=F1058))-SUM(G$1046:G1057),)","v":109},0.85,{"$f":"IF(H1058,SUMPRODUCT(--(G$31:G$1030<=H1058))-SUM(I$1046:I1057),)","v":35},0.39500000000000002,{"$f":"IF(J1058,SUMPRODUCT(--(H$31:H$1030<=J1058))-SUM(K$1046:K1057),)","v":90},475,{"$f":"IF(L1058,SUMPRODUCT(--(I$31:I$1030<=L1058))-SUM(M$1046:M1057),)","v":108},null,1050,109]
[null,null,null,null,13,1100,{"$f":"IF(F1059,SUMPRODUCT(--(F$31:F$1030<=F1059))-SUM(G$1046:G1058),)","v":104},0.86,{"$f":"IF(H1059,SUMPRODUCT(--(G$31:G$1030<=H1059))-SUM(I$1046:I1058),)","v":43},0.4,{"$f":"IF(J1059,SUMPRODUCT(--(H$31:H$1030<=J1059))-SUM(K$1046:K1058),)","v":93},500,{"$f":"IF(L1059,SUMPRODUCT(--(I$31:I$1030<=L1059))-SUM(M$1046:M1058),)","v":99},null,1100,104]
[null,null,null,null,14,1150,{"$f":"IF(F1060,SUMPRODUCT(--(F$31:F$1030<=F1060))-SUM(G$1046:G1059),)","v":99},0.87,{"$f":"IF(H1060,SUMPRODUCT(--(G$31:G$1030<=H1060))-SUM(I$1046:I1059),)","v":43},0.40500000000000003,{"$f":"IF(J1060,SUMPRODUCT(--(H$31:H$1030<=J1060))-SUM(K$1046:K1059),)","v":95},525,{"$f":"IF(L1060,SUMPRODUCT(--(I$31:I$1030<=L1060))-SUM(M$1046:M1059),)","v":78},null,1150,99]
[null,null,null,null,15,1200,{"$f":"IF(F1061,SUMPRODUCT(--(F$31:F$1030<=F1061))-SUM(G$1046:G1060),)","v":69},0.88,{"$f":"IF(H1061,SUMPRODUCT(--(G$31:G$1030<=H1061))-SUM(I$1046:I1060),)","v":64},0.41000000000000003,{"$f":"IF(J1061,SUMPRODUCT(--(H$31:H$1030<=J1061))-SUM(K$1046:K1060),)","v":99},550,{"$f":"IF(L1061,SUMPRODUCT(--(I$31:I$1030<=L1061))-SUM(M$1046:M1060),)","v":55},null,1200,69]
[null,null,null,null,16,1250,{"$f":"IF(F1062,SUMPRODUCT(--(F$31:F$1030<=F1062))-SUM(G$1046:G1061),)","v":64},0.89,{"$f":"IF(H1062,SUMPRODUCT(--(G$31:G$1030<=H1062))-SUM(I$1046:I1061),)","v":59},0.41500000000000004,{"$f":"IF(J1062,SUMPRODUCT(--(H$31:H$1030<=J1062))-SUM(K$1046:K1061),)","v":70},575,{"$f":"IF(L1062,SUMPRODUCT(--(I$31:I$1030<=L1062))-SUM(M$1046:M1061),)","v":37},null,1250,64]
[null,null,null,null,17,1300,{"$f":"IF(F1063,SUMPRODUCT(--(F$31:F$1030<=F1063))-SUM(G$1046:G1062),)","v":27},0.9,{"$f":"IF(H1063,SUMPRODUCT(--(G$31:G$1030<=H1063))-SUM(I$1046:I1062),)","v":62},0.42000000000000004,{"$f":"IF(J1063,SUMPRODUCT(--(H$31:H$1030<=J1063))-SUM(K$1046:K1062),)","v":65},600,{"$f":"IF(L1063,SUMPRODUCT(--(I$31:I$1030<=L1063))-SUM(M$1046:M1062),)","v":31},null,1300,27]
[null,null,null,null,18,1350,{"$f":"IF(F1064,SUMPRODUCT(--(F$31:F$1030<=F1064))-SUM(G$1046:G1063),)","v":24},0.91,{"$f":"IF(H1064,SUMPRODUCT(--(G$31:G$1030<=H1064))-SUM(I$1046:I1063),)","v":80},0.42500000000000004,{"$f":"IF(J1064,SUMPRODUCT(--(H$31:H$1030<=J1064))-SUM(K$1046:K1063),)","v":57},625,{"$f":"IF(L1064,SUMPRODUCT(--(I$31:I$1030<=L1064))-SUM(M$1046:M1063),)","v":12},null,1350,24]
[null,null,null,null,19,1400,{"$f":"IF(F1065,SUMPRODUCT(--(F$31:F$1030<=F1065))-SUM(G$1046:G1064),)","v":13},0.91999999999999993,{"$f":"IF(H1065,SUMPRODUCT(--(G$31:G$1030<=H1065))-SUM(I$1046:I1064),)","v":76},0.43000000000000005,{"$f":"IF(J1065,SUMPRODUCT(--(H$31:H$1030<=J1065))-SUM(K$1046:K1064),)","v":51},650,{"$f":"IF(L1065,SUMPRODUCT(--(I$31:I$1030<=L1065))-SUM(M$1046:M1064),)","v":10},null,1400,13]
[null,null,null,null,20,1450,{"$f":"IF(F1066,SUMPRODUCT(--(F$31:F$1030<=F1066))-SUM(G$1046:G1065),)","v":6},0.92999999999999994,{"$f":"IF(H1066,SUMPRODUCT(--(G$31:G$1030<=H1066))-SUM(I$1046:I1065),)","v":74},0.43500000000000005,{"$f":"IF(J1066,SUMPRODUCT(--(H$31:H$1030<=J1066))-SUM(K$1046:K1065),)","v":28},675,{"$f":"IF(L1066,SUMPRODUCT(--(I$31:I$1030<=L1066))-SUM(M$1046:M1065),)","v":3},null,1450,6]
[null,null,null,null,21,1500,{"$f":"IF(F1067,SUMPRODUCT(--(F$31:F$1030<=F1067))-SUM(G$1046:G1066),)","v":1},0.94,{"$f":"IF(H1067,SUMPRODUCT(--(G$31:G$1030<=H1067))-SUM(I$1046:I1066),)","v":71},0.44000000000000006,{"$f":"IF(J1067,SUMPRODUCT(--(H$31:H$1030<=J1067))-SUM(K$1046:K1066),)","v":18},700,{"$f":"IF(L1067,SUMPRODUCT(--(I$31:I$1030<=L1067))-SUM(M$1046:M1066),)","v":0},null,1500,1]
[null,null,null,null,22,1550,{"$f":"IF(F1068,SUMPRODUCT(--(F$31:F$1030<=F1068))-SUM(G$1046:G1067),)","v":2},0.95,{"$f":"IF(H1068,SUMPRODUCT(--(G$31:G$1030<=H1068))-SUM(I$1046:I1067),)","v":65},0.44500000000000001,{"$f":"IF(J1068,SUMPRODUCT(--(H$31:H$1030<=J1068))-SUM(K$1046:K1067),)","v":10},725,{"$f":"IF(L1068,SUMPRODUCT(--(I$31:I$1030<=L1068))-SUM(M$1046:M1067),)","v":1},null,1550,2]
[null,null,null,null,23,1600,{"$f":"IF(F1069,SUMPRODUCT(--(F$31:F$1030<=F1069))-SUM(G$1046:G1068),)","v":1},0.96,{"$f":"IF(H1069,SUMPRODUCT(--(G$31:G$1030<=H1069))-SUM(I$1046:I1068),)","v":48},0.45,{"$f":"IF(J1069,SUMPRODUCT(--(H$31:H$1030<=J1069))-SUM(K$1046:K1068),)","v":5},750,{"$f":"IF(L1069,SUMPRODUCT(--(I$31:I$1030<=L1069))-SUM(M$1046:M1068),)","v":1},null,1600,1]
[null,null,null,null,24,0,{"$f":"IF(F1070,SUMPRODUCT(--(F$31:F$1030<=F1070))-SUM(G$1046:G1069),)","v":0},0.97,{"$f":"IF(H1070,SUMPRODUCT(--(G$31:G$1030<=H1070))-SUM(I$1046:I1069),)","v":60},0.45500000000000002,{"$f":"IF(J1070,SUMPRODUCT(--(H$31:H$1030<=J1070))-SUM(K$1046:K1069),)","v":2},775,{"$f":"IF(L1070,SUMPRODUCT(--(I$31:I$1030<=L1070))-SUM(M$1046:M1069),)","v":1},null,0,0]
[null,null,null,null,25,0,{"$f":"IF(F1071,SUMPRODUCT(--(F$31:F$1030<=F1071))-SUM(G$1046:G1070),)","v":0},0.98,{"$f":"IF(H1071,SUMPRODUCT(--(G$31:G$1030<=H1071))-SUM(I$1046:I1070),)","v":47},0.46,{"$f":"IF(J1071,SUMPRODUCT(--(H$31:H$1030<=J1071))-SUM(K$1046:K1070),)","v":2},800,{"$f":"IF(L1071,SUMPRODUCT(--(I$31:I$1030<=L1071))-SUM(M$1046:M1070),)","v":0},null,0,0]
[null,null,null,null,26,0,{"$f":"IF(F1072,SUMPRODUCT(--(F$31:F$1030<=F1072))-SUM(G$1046:G1071),)","v":0},0.99,{"$f":"IF(H1072,SUMPRODUCT(--(G$31:G$1030<=H1072))-SUM(I$1046:I1071),)","v":34},0.46500000000000002,{"$f":"IF(J1072,SUMPRODUCT(--(H$31:H$1030<=J1072))-SUM(K$1046:K1071),)","v":1},0,{"$f":"IF(L1072,SUMPRODUCT(--(I$31:I$1030<=L1072))-SUM(M$1046:M1071),)","v":0},null,0,0]
[null,null,null,null,27,0,{"$f":"IF(F1073,SUMPRODUCT(--(F$31:F$1030<=F1073))-SUM(G$1046:G1072),)","v":0},1,{"$f":"IF(H1073,SUMPRODUCT(--(G$31:G$1030<=H1073))-SUM(I$1046:I1072),)","v":26},0.47000000000000003,{"$f":"IF(J1073,SUMPRODUCT(--(H$31:H$1030<=J1073))-SUM(K$1046:K1072),)","v":0},0,{"$f":"IF(L1073,SUMPRODUCT(--(I$31:I$1030<=L1073))-SUM(M$1046:M1072),)","v":0},null,0,0]
[null,null,null,null,28,0,{"$f":"IF(F1074,SUMPRODUCT(--(F$31:F$1030<=F1074))-SUM(G$1046:G1073),)","v":0},1.01,{"$f":"IF(H1074,SUMPRODUCT(--(G$31:G$1030<=H1074))-SUM(I$1046:I1073),)","v":26},0,{"$f":"IF(J1074,SUMPRODUCT(--(H$31:H$1030<=J1074))-SUM(K$1046:K1073),)","v":0},0,{"$f":"IF(L1074,SUMPRODUCT(--(I$31:I$1030<=L1074))-SUM(M$1046:M1073),)","v":0},null,0,0]
[null,null,null,null,29,0,{"$f":"IF(F1075,SUMPRODUCT(--(F$31:F$1030<=F1075))-SUM(G$1046:G1074),)","v":0},1.02,{"$f":"IF(H1075,SUMPRODUCT(--(G$31:G$1030<=H1075))-SUM(I$1046:I1074),)","v":7},0,{"$f":"IF(J1075,SUMPRODUCT(--(H$31:H$1030<=J1075))-SUM(K$1046:K1074),)","v":0},0,{"$f":"IF(L1075,SUMPRODUCT(--(I$31:I$1030<=L1075))-SUM(M$1046:M1074),)","v":0},null,0,0]
[null,null,null,null,30,0,{"$f":"IF(F1076,SUMPRODUCT(--(F$31:F$1030<=F1076))-SUM(G$1046:G1075),)","v":0},1.03,{"$f":"IF(H1076,SUMPRODUCT(--(G$31:G$1030<=H1076))-SUM(I$1046:I1075),)","v":10},0,{"$f":"IF(J1076,SUMPRODUCT(--(H$31:H$1030<=J1076))-SUM(K$1046:K1075),)","v":0},0,{"$f":"IF(L1076,SUMPRODUCT(--(I$31:I$1030<=L1076))-SUM(M$1046:M1075),)","v":0},null,0,0]
[null,null,null,null,31,0,{"$f":"IF(F1077,SUMPRODUCT(--(F$31:F$1030<=F1077))-SUM(G$1046:G1076),)","v":0},1.04,{"$f":"IF(H1077,SUMPRODUCT(--(G$31:G$1030<=H1077))-SUM(I$1046:I1076),)","v":4},0,{"$f":"IF(J1077,SUMPRODUCT(--(H$31:H$1030<=J1077))-SUM(K$1046:K1076),)","v":0},0,{"$f":"IF(L1077,SUMPRODUCT(--(I$31:I$1030<=L1077))-SUM(M$1046:M1076),)","v":0},null,0,0]
[null,null,null,null,32,0,{"$f":"IF(F1078,SUMPRODUCT(--(F$31:F$1030<=F1078))-SUM(G$1046:G1077),)","v":0},1.05,{"$f":"IF(H1078,SUMPRODUCT(--(G$31:G$1030<=H1078))-SUM(I$1046:I1077),)","v":3},0,{"$f":"IF(J1078,SUMPRODUCT(--(H$31:H$1030<=J1078))-SUM(K$1046:K1077),)","v":0},0,{"$f":"IF(L1078,SUMPRODUCT(--(I$31:I$1030<=L1078))-SUM(M$1046:M1077),)","v":0},null,0,0]
[null,null,null,null,33,0,{"$f":"IF(F1079,SUMPRODUCT(--(F$31:F$1030<=F1079))-SUM(G$1046:G1078),)","v":0},{"$f":"G$1039+IF($E1079<=G$1042,($E1079-1)*G$1041,-G$1039)","v":1.06},{"$f":"IF(H1079,SUMPRODUCT(--(G$31:G$1030<=H1079))-SUM(I$1046:I1078),)","v":1},{"$f":"H$1039+IF($E1079<=H$1042,($E1079-1)*H$1041,-H$1039)","v":0},{"$f":"IF(J1079,SUMPRODUCT(--(H$31:H$1030<=J1079))-SUM(K$1046:K1078),)","v":0},{"$f":"I$1039+IF($E1079<=I$1042,($E1079-1)*I$1041,-I$1039)","v":0},{"$f":"IF(L1079,SUMPRODUCT(--(I$31:I$1030<=L1079))-SUM(M$1046:M1078),)","v":0},null,{"$f":"OFFSET(D1079,,2*DD_Simulations_Outputs)","v":0},{"$f":"OFFSET(E1079,,2*DD_Simulations_Outputs)","v":0}]
[null,null,null,null,34,0,{"$f":"IF(F1080,SUMPRODUCT(--(F$31:F$1030<=F1080))-SUM(G$1046:G1079),)","v":0},1.07,{"$f":"IF(H1080,SUMPRODUCT(--(G$31:G$1030<=H1080))-SUM(I$1046:I1079),)","v":1},0,{"$f":"IF(J1080,SUMPRODUCT(--(H$31:H$1030<=J1080))-SUM(K$1046:K1079),)","v":0},0,{"$f":"IF(L1080,SUMPRODUCT(--(I$31:I$1030<=L1080))-SUM(M$1046:M1079),)","v":0},null,0,0]
[null,null,null,null,35,0,{"$f":"IF(F1081,SUMPRODUCT(--(F$31:F$1030<=F1081))-SUM(G$1046:G1080),)","v":0},1.08,{"$f":"IF(H1081,SUMPRODUCT(--(G$31:G$1030<=H1081))-SUM(I$1046:I1080),)","v":0},0,{"$f":"IF(J1081,SUMPRODUCT(--(H$31:H$1030<=J1081))-SUM(K$1046:K1080),)","v":0},0,{"$f":"IF(L1081,SUMPRODUCT(--(I$31:I$1030<=L1081))-SUM(M$1046:M1080),)","v":0},null,0,0]
[null,null,null,null,36,0,{"$f":"IF(F1082,SUMPRODUCT(--(F$31:F$1030<=F1082))-SUM(G$1046:G1081),)","v":0},1.0900000000000001,{"$f":"IF(H1082,SUMPRODUCT(--(G$31:G$1030<=H1082))-SUM(I$1046:I1081),)","v":0},0,{"$f":"IF(J1082,SUMPRODUCT(--(H$31:H$1030<=J1082))-SUM(K$1046:K1081),)","v":0},0,{"$f":"IF(L1082,SUMPRODUCT(--(I$31:I$1030<=L1082))-SUM(M$1046:M1081),)","v":0},null,0,0]
[null,null,null,null,37,0,{"$f":"IF(F1083,SUMPRODUCT(--(F$31:F$1030<=F1083))-SUM(G$1046:G1082),)","v":0},1.1000000000000001,{"$f":"IF(H1083,SUMPRODUCT(--(G$31:G$1030<=H1083))-SUM(I$1046:I1082),)","v":0},0,{"$f":"IF(J1083,SUMPRODUCT(--(H$31:H$1030<=J1083))-SUM(K$1046:K1082),)","v":0},0,{"$f":"IF(L1083,SUMPRODUCT(--(I$31:I$1030<=L1083))-SUM(M$1046:M1082),)","v":0},null,0,0]
[null,null,null,null,38,0,{"$f":"IF(F1084,SUMPRODUCT(--(F$31:F$1030<=F1084))-SUM(G$1046:G1083),)","v":0},1.1099999999999999,{"$f":"IF(H1084,SUMPRODUCT(--(G$31:G$1030<=H1084))-SUM(I$1046:I1083),)","v":2},0,{"$f":"IF(J1084,SUMPRODUCT(--(H$31:H$1030<=J1084))-SUM(K$1046:K1083),)","v":0},0,{"$f":"IF(L1084,SUMPRODUCT(--(I$31:I$1030<=L1084))-SUM(M$1046:M1083),)","v":0},null,0,0]
[null,null,null,null,39,0,{"$f":"IF(F1085,SUMPRODUCT(--(F$31:F$1030<=F1085))-SUM(G$1046:G1084),)","v":0},1.1200000000000001,{"$f":"IF(H1085,SUMPRODUCT(--(G$31:G$1030<=H1085))-SUM(I$1046:I1084),)","v":0},0,{"$f":"IF(J1085,SUMPRODUCT(--(H$31:H$1030<=J1085))-SUM(K$1046:K1084),)","v":0},0,{"$f":"IF(L1085,SUMPRODUCT(--(I$31:I$1030<=L1085))-SUM(M$1046:M1084),)","v":0},null,0,0]
[null,null,null,null,40,0,{"$f":"IF(F1086,SUMPRODUCT(--(F$31:F$1030<=F1086))-SUM(G$1046:G1085),)","v":0},0,{"$f":"IF(H1086,SUMPRODUCT(--(G$31:G$1030<=H1086))-SUM(I$1046:I1085),)","v":0},0,{"$f":"IF(J1086,SUMPRODUCT(--(H$31:H$1030<=J1086))-SUM(K$1046:K1085),)","v":0},0,{"$f":"IF(L1086,SUMPRODUCT(--(I$31:I$1030<=L1086))-SUM(M$1046:M1085),)","v":0},null,0,0]
[null,null,null,null,41,0,{"$f":"IF(F1087,SUMPRODUCT(--(F$31:F$1030<=F1087))-SUM(G$1046:G1086),)","v":0},0,{"$f":"IF(H1087,SUMPRODUCT(--(G$31:G$1030<=H1087))-SUM(I$1046:I1086),)","v":0},0,{"$f":"IF(J1087,SUMPRODUCT(--(H$31:H$1030<=J1087))-SUM(K$1046:K1086),)","v":0},0,{"$f":"IF(L1087,SUMPRODUCT(--(I$31:I$1030<=L1087))-SUM(M$1046:M1086),)","v":0},null,0,0]
[null,null,null,null,42,0,{"$f":"IF(F1088,SUMPRODUCT(--(F$31:F$1030<=F1088))-SUM(G$1046:G1087),)","v":0},0,{"$f":"IF(H1088,SUMPRODUCT(--(G$31:G$1030<=H1088))-SUM(I$1046:I1087),)","v":0},0,{"$f":"IF(J1088,SUMPRODUCT(--(H$31:H$1030<=J1088))-SUM(K$1046:K1087),)","v":0},0,{"$f":"IF(L1088,SUMPRODUCT(--(I$31:I$1030<=L1088))-SUM(M$1046:M1087),)","v":0},null,0,0]
[null,null,null,null,43,0,{"$f":"IF(F1089,SUMPRODUCT(--(F$31:F$1030<=F1089))-SUM(G$1046:G1088),)","v":0},0,{"$f":"IF(H1089,SUMPRODUCT(--(G$31:G$1030<=H1089))-SUM(I$1046:I1088),)","v":0},0,{"$f":"IF(J1089,SUMPRODUCT(--(H$31:H$1030<=J1089))-SUM(K$1046:K1088),)","v":0},0,{"$f":"IF(L1089,SUMPRODUCT(--(I$31:I$1030<=L1089))-SUM(M$1046:M1088),)","v":0},null,0,0]
[null,null,null,null,44,0,{"$f":"IF(F1090,SUMPRODUCT(--(F$31:F$1030<=F1090))-SUM(G$1046:G1089),)","v":0},0,{"$f":"IF(H1090,SUMPRODUCT(--(G$31:G$1030<=H1090))-SUM(I$1046:I1089),)","v":0},0,{"$f":"IF(J1090,SUMPRODUCT(--(H$31:H$1030<=J1090))-SUM(K$1046:K1089),)","v":0},0,{"$f":"IF(L1090,SUMPRODUCT(--(I$31:I$1030<=L1090))-SUM(M$1046:M1089),)","v":0},null,0,0]
[null,null,null,null,45,0,{"$f":"IF(F1091,SUMPRODUCT(--(F$31:F$1030<=F1091))-SUM(G$1046:G1090),)","v":0},0,{"$f":"IF(H1091,SUMPRODUCT(--(G$31:G$1030<=H1091))-SUM(I$1046:I1090),)","v":0},0,{"$f":"IF(J1091,SUMPRODUCT(--(H$31:H$1030<=J1091))-SUM(K$1046:K1090),)","v":0},0,{"$f":"IF(L1091,SUMPRODUCT(--(I$31:I$1030<=L1091))-SUM(M$1046:M1090),)","v":0},null,0,0]
[null,null,null,null,46,0,{"$f":"IF(F1092,SUMPRODUCT(--(F$31:F$1030<=F1092))-SUM(G$1046:G1091),)","v":0},0,{"$f":"IF(H1092,SUMPRODUCT(--(G$31:G$1030<=H1092))-SUM(I$1046:I1091),)","v":0},0,{"$f":"IF(J1092,SUMPRODUCT(--(H$31:H$1030<=J1092))-SUM(K$1046:K1091),)","v":0},0,{"$f":"IF(L1092,SUMPRODUCT(--(I$31:I$1030<=L1092))-SUM(M$1046:M1091),)","v":0},null,0,0]
[null,null,null,null,47,0,{"$f":"IF(F1093,SUMPRODUCT(--(F$31:F$1030<=F1093))-SUM(G$1046:G1092),)","v":0},0,{"$f":"IF(H1093,SUMPRODUCT(--(G$31:G$1030<=H1093))-SUM(I$1046:I1092),)","v":0},0,{"$f":"IF(J1093,SUMPRODUCT(--(H$31:H$1030<=J1093))-SUM(K$1046:K1092),)","v":0},0,{"$f":"IF(L1093,SUMPRODUCT(--(I$31:I$1030<=L1093))-SUM(M$1046:M1092),)","v":0},null,0,0]
[null,null,null,null,48,0,{"$f":"IF(F1094,SUMPRODUCT(--(F$31:F$1030<=F1094))-SUM(G$1046:G1093),)","v":0},0,{"$f":"IF(H1094,SUMPRODUCT(--(G$31:G$1030<=H1094))-SUM(I$1046:I1093),)","v":0},0,{"$f":"IF(J1094,SUMPRODUCT(--(H$31:H$1030<=J1094))-SUM(K$1046:K1093),)","v":0},0,{"$f":"IF(L1094,SUMPRODUCT(--(I$31:I$1030<=L1094))-SUM(M$1046:M1093),)","v":0},null,0,0]
[null,null,null,null,49,0,{"$f":"IF(F1095,SUMPRODUCT(--(F$31:F$1030<=F1095))-SUM(G$1046:G1094),)","v":0},0,{"$f":"IF(H1095,SUMPRODUCT(--(G$31:G$1030<=H1095))-SUM(I$1046:I1094),)","v":0},0,{"$f":"IF(J1095,SUMPRODUCT(--(H$31:H$1030<=J1095))-SUM(K$1046:K1094),)","v":0},0,{"$f":"IF(L1095,SUMPRODUCT(--(I$31:I$1030<=L1095))-SUM(M$1046:M1094),)","v":0},null,0,0]
[null,null,null,null,50,0,{"$f":"IF(F1096,SUMPRODUCT(--(F$31:F$1030<=F1096))-SUM(G$1046:G1095),)","v":0},0,{"$f":"IF(H1096,SUMPRODUCT(--(G$31:G$1030<=H1096))-SUM(I$1046:I1095),)","v":0},0,{"$f":"IF(J1096,SUMPRODUCT(--(H$31:H$1030<=J1096))-SUM(K$1046:K1095),)","v":0},0,{"$f":"IF(L1096,SUMPRODUCT(--(I$31:I$1030<=L1096))-SUM(M$1046:M1095),)","v":0},null,0,0]
[null,null,null,null,51,0,{"$f":"IF(F1097,SUMPRODUCT(--(F$31:F$1030<=F1097))-SUM(G$1046:G1096),)","v":0},0,{"$f":"IF(H1097,SUMPRODUCT(--(G$31:G$1030<=H1097))-SUM(I$1046:I1096),)","v":0},0,{"$f":"IF(J1097,SUMPRODUCT(--(H$31:H$1030<=J1097))-SUM(K$1046:K1096),)","v":0},0,{"$f":"IF(L1097,SUMPRODUCT(--(I$31:I$1030<=L1097))-SUM(M$1046:M1096),)","v":0},null,0,0]
[null,null,null,null,52,0,{"$f":"IF(F1098,SUMPRODUCT(--(F$31:F$1030<=F1098))-SUM(G$1046:G1097),)","v":0},0,{"$f":"IF(H1098,SUMPRODUCT(--(G$31:G$1030<=H1098))-SUM(I$1046:I1097),)","v":0},0,{"$f":"IF(J1098,SUMPRODUCT(--(H$31:H$1030<=J1098))-SUM(K$1046:K1097),)","v":0},0,{"$f":"IF(L1098,SUMPRODUCT(--(I$31:I$1030<=L1098))-SUM(M$1046:M1097),)","v":0},null,0,0]
[null,null,null,null,53,0,{"$f":"IF(F1099,SUMPRODUCT(--(F$31:F$1030<=F1099))-SUM(G$1046:G1098),)","v":0},0,{"$f":"IF(H1099,SUMPRODUCT(--(G$31:G$1030<=H1099))-SUM(I$1046:I1098),)","v":0},0,{"$f":"IF(J1099,SUMPRODUCT(--(H$31:H$1030<=J1099))-SUM(K$1046:K1098),)","v":0},0,{"$f":"IF(L1099,SUMPRODUCT(--(I$31:I$1030<=L1099))-SUM(M$1046:M1098),)","v":0},null,0,0]
[null,null,null,null,54,0,{"$f":"IF(F1100,SUMPRODUCT(--(F$31:F$1030<=F1100))-SUM(G$1046:G1099),)","v":0},0,{"$f":"IF(H1100,SUMPRODUCT(--(G$31:G$1030<=H1100))-SUM(I$1046:I1099),)","v":0},0,{"$f":"IF(J1100,SUMPRODUCT(--(H$31:H$1030<=J1100))-SUM(K$1046:K1099),)","v":0},0,{"$f":"IF(L1100,SUMPRODUCT(--(I$31:I$1030<=L1100))-SUM(M$1046:M1099),)","v":0},null,0,0]
[null,null,null,null,55,0,{"$f":"IF(F1101,SUMPRODUCT(--(F$31:F$1030<=F1101))-SUM(G$1046:G1100),)","v":0},0,{"$f":"IF(H1101,SUMPRODUCT(--(G$31:G$1030<=H1101))-SUM(I$1046:I1100),)","v":0},0,{"$f":"IF(J1101,SUMPRODUCT(--(H$31:H$1030<=J1101))-SUM(K$1046:K1100),)","v":0},0,{"$f":"IF(L1101,SUMPRODUCT(--(I$31:I$1030<=L1101))-SUM(M$1046:M1100),)","v":0},null,0,0]
[null,null,null,null,56,0,{"$f":"IF(F1102,SUMPRODUCT(--(F$31:F$1030<=F1102))-SUM(G$1046:G1101),)","v":0},0,{"$f":"IF(H1102,SUMPRODUCT(--(G$31:G$1030<=H1102))-SUM(I$1046:I1101),)","v":0},0,{"$f":"IF(J1102,SUMPRODUCT(--(H$31:H$1030<=J1102))-SUM(K$1046:K1101),)","v":0},0,{"$f":"IF(L1102,SUMPRODUCT(--(I$31:I$1030<=L1102))-SUM(M$1046:M1101),)","v":0},null,0,0]
[null,null,null,null,57,0,{"$f":"IF(F1103,SUMPRODUCT(--(F$31:F$1030<=F1103))-SUM(G$1046:G1102),)","v":0},0,{"$f":"IF(H1103,SUMPRODUCT(--(G$31:G$1030<=H1103))-SUM(I$1046:I1102),)","v":0},0,{"$f":"IF(J1103,SUMPRODUCT(--(H$31:H$1030<=J1103))-SUM(K$1046:K1102),)","v":0},0,{"$f":"IF(L1103,SUMPRODUCT(--(I$31:I$1030<=L1103))-SUM(M$1046:M1102),)","v":0},null,0,0]
[null,null,null,null,58,0,{"$f":"IF(F1104,SUMPRODUCT(--(F$31:F$1030<=F1104))-SUM(G$1046:G1103),)","v":0},0,{"$f":"IF(H1104,SUMPRODUCT(--(G$31:G$1030<=H1104))-SUM(I$1046:I1103),)","v":0},0,{"$f":"IF(J1104,SUMPRODUCT(--(H$31:H$1030<=J1104))-SUM(K$1046:K1103),)","v":0},0,{"$f":"IF(L1104,SUMPRODUCT(--(I$31:I$1030<=L1104))-SUM(M$1046:M1103),)","v":0},null,0,0]
[null,null,null,null,59,0,{"$f":"IF(F1105,SUMPRODUCT(--(F$31:F$1030<=F1105))-SUM(G$1046:G1104),)","v":0},0,{"$f":"IF(H1105,SUMPRODUCT(--(G$31:G$1030<=H1105))-SUM(I$1046:I1104),)","v":0},0,{"$f":"IF(J1105,SUMPRODUCT(--(H$31:H$1030<=J1105))-SUM(K$1046:K1104),)","v":0},0,{"$f":"IF(L1105,SUMPRODUCT(--(I$31:I$1030<=L1105))-SUM(M$1046:M1104),)","v":0},null,0,0]
[null,null,null,null,60,0,{"$f":"IF(F1106,SUMPRODUCT(--(F$31:F$1030<=F1106))-SUM(G$1046:G1105),)","v":0},0,{"$f":"IF(H1106,SUMPRODUCT(--(G$31:G$1030<=H1106))-SUM(I$1046:I1105),)","v":0},0,{"$f":"IF(J1106,SUMPRODUCT(--(H$31:H$1030<=J1106))-SUM(K$1046:K1105),)","v":0},0,{"$f":"IF(L1106,SUMPRODUCT(--(I$31:I$1030<=L1106))-SUM(M$1046:M1105),)","v":0},null,0,0]
[null,null,null,null,61,0,{"$f":"IF(F1107,SUMPRODUCT(--(F$31:F$1030<=F1107))-SUM(G$1046:G1106),)","v":0},0,{"$f":"IF(H1107,SUMPRODUCT(--(G$31:G$1030<=H1107))-SUM(I$1046:I1106),)","v":0},0,{"$f":"IF(J1107,SUMPRODUCT(--(H$31:H$1030<=J1107))-SUM(K$1046:K1106),)","v":0},0,{"$f":"IF(L1107,SUMPRODUCT(--(I$31:I$1030<=L1107))-SUM(M$1046:M1106),)","v":0},null,0,0]
[null,null,null,null,62,0,{"$f":"IF(F1108,SUMPRODUCT(--(F$31:F$1030<=F1108))-SUM(G$1046:G1107),)","v":0},0,{"$f":"IF(H1108,SUMPRODUCT(--(G$31:G$1030<=H1108))-SUM(I$1046:I1107),)","v":0},0,{"$f":"IF(J1108,SUMPRODUCT(--(H$31:H$1030<=J1108))-SUM(K$1046:K1107),)","v":0},0,{"$f":"IF(L1108,SUMPRODUCT(--(I$31:I$1030<=L1108))-SUM(M$1046:M1107),)","v":0},null,0,0]
[null,null,null,null,63,0,{"$f":"IF(F1109,SUMPRODUCT(--(F$31:F$1030<=F1109))-SUM(G$1046:G1108),)","v":0},0,{"$f":"IF(H1109,SUMPRODUCT(--(G$31:G$1030<=H1109))-SUM(I$1046:I1108),)","v":0},0,{"$f":"IF(J1109,SUMPRODUCT(--(H$31:H$1030<=J1109))-SUM(K$1046:K1108),)","v":0},0,{"$f":"IF(L1109,SUMPRODUCT(--(I$31:I$1030<=L1109))-SUM(M$1046:M1108),)","v":0},null,0,0]
[null,null,null,null,64,0,{"$f":"IF(F1110,SUMPRODUCT(--(F$31:F$1030<=F1110))-SUM(G$1046:G1109),)","v":0},0,{"$f":"IF(H1110,SUMPRODUCT(--(G$31:G$1030<=H1110))-SUM(I$1046:I1109),)","v":0},0,{"$f":"IF(J1110,SUMPRODUCT(--(H$31:H$1030<=J1110))-SUM(K$1046:K1109),)","v":0},0,{"$f":"IF(L1110,SUMPRODUCT(--(I$31:I$1030<=L1110))-SUM(M$1046:M1109),)","v":0},null,0,0]
[null,null,null,null,65,0,{"$f":"IF(F1111,SUMPRODUCT(--(F$31:F$1030<=F1111))-SUM(G$1046:G1110),)","v":0},{"$f":"G$1039+IF($E1111<=G$1042,($E1111-1)*G$1041,-G$1039)","v":0},{"$f":"IF(H1111,SUMPRODUCT(--(G$31:G$1030<=H1111))-SUM(I$1046:I1110),)","v":0},{"$f":"H$1039+IF($E1111<=H$1042,($E1111-1)*H$1041,-H$1039)","v":0},{"$f":"IF(J1111,SUMPRODUCT(--(H$31:H$1030<=J1111))-SUM(K$1046:K1110),)","v":0},{"$f":"I$1039+IF($E1111<=I$1042,($E1111-1)*I$1041,-I$1039)","v":0},{"$f":"IF(L1111,SUMPRODUCT(--(I$31:I$1030<=L1111))-SUM(M$1046:M1110),)","v":0},null,{"$f":"OFFSET(D1111,,2*DD_Simulations_Outputs)","v":0},{"$f":"OFFSET(E1111,,2*DD_Simulations_Outputs)","v":0}]
[null,null,null,null,{"$f":"N(E1111)+1","v":66},{"$f":"F$1039+IF($E1112<=F$1042,($E1112-1)*F$1041,-F$1039)","v":0},{"$f":"IF(F1112,SUMPRODUCT(--(F$31:F$1030<=F1112))-SUM(G$1046:G1111),)","v":0},0,{"$f":"IF(H1112,SUMPRODUCT(--(G$31:G$1030<=H1112))-SUM(I$1046:I1111),)","v":0},0,{"$f":"IF(J1112,SUMPRODUCT(--(H$31:H$1030<=J1112))-SUM(K$1046:K1111),)","v":0},0,{"$f":"IF(L1112,SUMPRODUCT(--(I$31:I$1030<=L1112))-SUM(M$1046:M1111),)","v":0},null,0,0]
[null,null,null,null,67,0,{"$f":"IF(F1113,SUMPRODUCT(--(F$31:F$1030<=F1113))-SUM(G$1046:G1112),)","v":0},0,{"$f":"IF(H1113,SUMPRODUCT(--(G$31:G$1030<=H1113))-SUM(I$1046:I1112),)","v":0},0,{"$f":"IF(J1113,SUMPRODUCT(--(H$31:H$1030<=J1113))-SUM(K$1046:K1112),)","v":0},0,{"$f":"IF(L1113,SUMPRODUCT(--(I$31:I$1030<=L1113))-SUM(M$1046:M1112),)","v":0},null,0,0]
[null,null,null,null,68,0,{"$f":"IF(F1114,SUMPRODUCT(--(F$31:F$1030<=F1114))-SUM(G$1046:G1113),)","v":0},0,{"$f":"IF(H1114,SUMPRODUCT(--(G$31:G$1030<=H1114))-SUM(I$1046:I1113),)","v":0},0,{"$f":"IF(J1114,SUMPRODUCT(--(H$31:H$1030<=J1114))-SUM(K$1046:K1113),)","v":0},0,{"$f":"IF(L1114,SUMPRODUCT(--(I$31:I$1030<=L1114))-SUM(M$1046:M1113),)","v":0},null,0,0]
[null,null,null,null,69,0,{"$f":"IF(F1115,SUMPRODUCT(--(F$31:F$1030<=F1115))-SUM(G$1046:G1114),)","v":0},0,{"$f":"IF(H1115,SUMPRODUCT(--(G$31:G$1030<=H1115))-SUM(I$1046:I1114),)","v":0},0,{"$f":"IF(J1115,SUMPRODUCT(--(H$31:H$1030<=J1115))-SUM(K$1046:K1114),)","v":0},0,{"$f":"IF(L1115,SUMPRODUCT(--(I$31:I$1030<=L1115))-SUM(M$1046:M1114),)","v":0},null,0,0]
[null,null,null,null,70,0,{"$f":"IF(F1116,SUMPRODUCT(--(F$31:F$1030<=F1116))-SUM(G$1046:G1115),)","v":0},0,{"$f":"IF(H1116,SUMPRODUCT(--(G$31:G$1030<=H1116))-SUM(I$1046:I1115),)","v":0},0,{"$f":"IF(J1116,SUMPRODUCT(--(H$31:H$1030<=J1116))-SUM(K$1046:K1115),)","v":0},0,{"$f":"IF(L1116,SUMPRODUCT(--(I$31:I$1030<=L1116))-SUM(M$1046:M1115),)","v":0},null,0,0]
[null,null,null,null,71,0,{"$f":"IF(F1117,SUMPRODUCT(--(F$31:F$1030<=F1117))-SUM(G$1046:G1116),)","v":0},0,{"$f":"IF(H1117,SUMPRODUCT(--(G$31:G$1030<=H1117))-SUM(I$1046:I1116),)","v":0},0,{"$f":"IF(J1117,SUMPRODUCT(--(H$31:H$1030<=J1117))-SUM(K$1046:K1116),)","v":0},0,{"$f":"IF(L1117,SUMPRODUCT(--(I$31:I$1030<=L1117))-SUM(M$1046:M1116),)","v":0},null,0,0]
[null,null,null,null,72,0,{"$f":"IF(F1118,SUMPRODUCT(--(F$31:F$1030<=F1118))-SUM(G$1046:G1117),)","v":0},0,{"$f":"IF(H1118,SUMPRODUCT(--(G$31:G$1030<=H1118))-SUM(I$1046:I1117),)","v":0},0,{"$f":"IF(J1118,SUMPRODUCT(--(H$31:H$1030<=J1118))-SUM(K$1046:K1117),)","v":0},0,{"$f":"IF(L1118,SUMPRODUCT(--(I$31:I$1030<=L1118))-SUM(M$1046:M1117),)","v":0},null,0,0]
[null,null,null,null,73,0,{"$f":"IF(F1119,SUMPRODUCT(--(F$31:F$1030<=F1119))-SUM(G$1046:G1118),)","v":0},0,{"$f":"IF(H1119,SUMPRODUCT(--(G$31:G$1030<=H1119))-SUM(I$1046:I1118),)","v":0},0,{"$f":"IF(J1119,SUMPRODUCT(--(H$31:H$1030<=J1119))-SUM(K$1046:K1118),)","v":0},0,{"$f":"IF(L1119,SUMPRODUCT(--(I$31:I$1030<=L1119))-SUM(M$1046:M1118),)","v":0},null,0,0]
[null,null,null,null,74,0,{"$f":"IF(F1120,SUMPRODUCT(--(F$31:F$1030<=F1120))-SUM(G$1046:G1119),)","v":0},0,{"$f":"IF(H1120,SUMPRODUCT(--(G$31:G$1030<=H1120))-SUM(I$1046:I1119),)","v":0},0,{"$f":"IF(J1120,SUMPRODUCT(--(H$31:H$1030<=J1120))-SUM(K$1046:K1119),)","v":0},0,{"$f":"IF(L1120,SUMPRODUCT(--(I$31:I$1030<=L1120))-SUM(M$1046:M1119),)","v":0},null,0,0]
[null,null,null,null,75,0,{"$f":"IF(F1121,SUMPRODUCT(--(F$31:F$1030<=F1121))-SUM(G$1046:G1120),)","v":0},0,{"$f":"IF(H1121,SUMPRODUCT(--(G$31:G$1030<=H1121))-SUM(I$1046:I1120),)","v":0},0,{"$f":"IF(J1121,SUMPRODUCT(--(H$31:H$1030<=J1121))-SUM(K$1046:K1120),)","v":0},0,{"$f":"IF(L1121,SUMPRODUCT(--(I$31:I$1030<=L1121))-SUM(M$1046:M1120),)","v":0},null,0,0]
[null,null,null,null,76,0,{"$f":"IF(F1122,SUMPRODUCT(--(F$31:F$1030<=F1122))-SUM(G$1046:G1121),)","v":0},0,{"$f":"IF(H1122,SUMPRODUCT(--(G$31:G$1030<=H1122))-SUM(I$1046:I1121),)","v":0},0,{"$f":"IF(J1122,SUMPRODUCT(--(H$31:H$1030<=J1122))-SUM(K$1046:K1121),)","v":0},0,{"$f":"IF(L1122,SUMPRODUCT(--(I$31:I$1030<=L1122))-SUM(M$1046:M1121),)","v":0},null,0,0]
[null,null,null,null,77,0,{"$f":"IF(F1123,SUMPRODUCT(--(F$31:F$1030<=F1123))-SUM(G$1046:G1122),)","v":0},0,{"$f":"IF(H1123,SUMPRODUCT(--(G$31:G$1030<=H1123))-SUM(I$1046:I1122),)","v":0},0,{"$f":"IF(J1123,SUMPRODUCT(--(H$31:H$1030<=J1123))-SUM(K$1046:K1122),)","v":0},0,{"$f":"IF(L1123,SUMPRODUCT(--(I$31:I$1030<=L1123))-SUM(M$1046:M1122),)","v":0},null,0,0]
[null,null,null,null,78,0,{"$f":"IF(F1124,SUMPRODUCT(--(F$31:F$1030<=F1124))-SUM(G$1046:G1123),)","v":0},0,{"$f":"IF(H1124,SUMPRODUCT(--(G$31:G$1030<=H1124))-SUM(I$1046:I1123),)","v":0},0,{"$f":"IF(J1124,SUMPRODUCT(--(H$31:H$1030<=J1124))-SUM(K$1046:K1123),)","v":0},0,{"$f":"IF(L1124,SUMPRODUCT(--(I$31:I$1030<=L1124))-SUM(M$1046:M1123),)","v":0},null,0,0]
[null,null,null,null,79,0,{"$f":"IF(F1125,SUMPRODUCT(--(F$31:F$1030<=F1125))-SUM(G$1046:G1124),)","v":0},0,{"$f":"IF(H1125,SUMPRODUCT(--(G$31:G$1030<=H1125))-SUM(I$1046:I1124),)","v":0},0,{"$f":"IF(J1125,SUMPRODUCT(--(H$31:H$1030<=J1125))-SUM(K$1046:K1124),)","v":0},0,{"$f":"IF(L1125,SUMPRODUCT(--(I$31:I$1030<=L1125))-SUM(M$1046:M1124),)","v":0},null,0,0]
[null,null,null,null,80,0,{"$f":"IF(F1126,SUMPRODUCT(--(F$31:F$1030<=F1126))-SUM(G$1046:G1125),)","v":0},0,{"$f":"IF(H1126,SUMPRODUCT(--(G$31:G$1030<=H1126))-SUM(I$1046:I1125),)","v":0},0,{"$f":"IF(J1126,SUMPRODUCT(--(H$31:H$1030<=J1126))-SUM(K$1046:K1125),)","v":0},0,{"$f":"IF(L1126,SUMPRODUCT(--(I$31:I$1030<=L1126))-SUM(M$1046:M1125),)","v":0},null,0,0]
[null,null,null,null,81,0,{"$f":"IF(F1127,SUMPRODUCT(--(F$31:F$1030<=F1127))-SUM(G$1046:G1126),)","v":0},0,{"$f":"IF(H1127,SUMPRODUCT(--(G$31:G$1030<=H1127))-SUM(I$1046:I1126),)","v":0},0,{"$f":"IF(J1127,SUMPRODUCT(--(H$31:H$1030<=J1127))-SUM(K$1046:K1126),)","v":0},0,{"$f":"IF(L1127,SUMPRODUCT(--(I$31:I$1030<=L1127))-SUM(M$1046:M1126),)","v":0},null,0,0]
[null,null,null,null,82,0,{"$f":"IF(F1128,SUMPRODUCT(--(F$31:F$1030<=F1128))-SUM(G$1046:G1127),)","v":0},0,{"$f":"IF(H1128,SUMPRODUCT(--(G$31:G$1030<=H1128))-SUM(I$1046:I1127),)","v":0},0,{"$f":"IF(J1128,SUMPRODUCT(--(H$31:H$1030<=J1128))-SUM(K$1046:K1127),)","v":0},0,{"$f":"IF(L1128,SUMPRODUCT(--(I$31:I$1030<=L1128))-SUM(M$1046:M1127),)","v":0},null,0,0]
[null,null,null,null,83,0,{"$f":"IF(F1129,SUMPRODUCT(--(F$31:F$1030<=F1129))-SUM(G$1046:G1128),)","v":0},0,{"$f":"IF(H1129,SUMPRODUCT(--(G$31:G$1030<=H1129))-SUM(I$1046:I1128),)","v":0},0,{"$f":"IF(J1129,SUMPRODUCT(--(H$31:H$1030<=J1129))-SUM(K$1046:K1128),)","v":0},0,{"$f":"IF(L1129,SUMPRODUCT(--(I$31:I$1030<=L1129))-SUM(M$1046:M1128),)","v":0},null,0,0]
[null,null,null,null,84,0,{"$f":"IF(F1130,SUMPRODUCT(--(F$31:F$1030<=F1130))-SUM(G$1046:G1129),)","v":0},0,{"$f":"IF(H1130,SUMPRODUCT(--(G$31:G$1030<=H1130))-SUM(I$1046:I1129),)","v":0},0,{"$f":"IF(J1130,SUMPRODUCT(--(H$31:H$1030<=J1130))-SUM(K$1046:K1129),)","v":0},0,{"$f":"IF(L1130,SUMPRODUCT(--(I$31:I$1030<=L1130))-SUM(M$1046:M1129),)","v":0},null,0,0]
[null,null,null,null,85,0,{"$f":"IF(F1131,SUMPRODUCT(--(F$31:F$1030<=F1131))-SUM(G$1046:G1130),)","v":0},0,{"$f":"IF(H1131,SUMPRODUCT(--(G$31:G$1030<=H1131))-SUM(I$1046:I1130),)","v":0},0,{"$f":"IF(J1131,SUMPRODUCT(--(H$31:H$1030<=J1131))-SUM(K$1046:K1130),)","v":0},0,{"$f":"IF(L1131,SUMPRODUCT(--(I$31:I$1030<=L1131))-SUM(M$1046:M1130),)","v":0},null,0,0]
[null,null,null,null,86,0,{"$f":"IF(F1132,SUMPRODUCT(--(F$31:F$1030<=F1132))-SUM(G$1046:G1131),)","v":0},0,{"$f":"IF(H1132,SUMPRODUCT(--(G$31:G$1030<=H1132))-SUM(I$1046:I1131),)","v":0},0,{"$f":"IF(J1132,SUMPRODUCT(--(H$31:H$1030<=J1132))-SUM(K$1046:K1131),)","v":0},0,{"$f":"IF(L1132,SUMPRODUCT(--(I$31:I$1030<=L1132))-SUM(M$1046:M1131),)","v":0},null,0,0]
[null,null,null,null,87,0,{"$f":"IF(F1133,SUMPRODUCT(--(F$31:F$1030<=F1133))-SUM(G$1046:G1132),)","v":0},0,{"$f":"IF(H1133,SUMPRODUCT(--(G$31:G$1030<=H1133))-SUM(I$1046:I1132),)","v":0},0,{"$f":"IF(J1133,SUMPRODUCT(--(H$31:H$1030<=J1133))-SUM(K$1046:K1132),)","v":0},0,{"$f":"IF(L1133,SUMPRODUCT(--(I$31:I$1030<=L1133))-SUM(M$1046:M1132),)","v":0},null,0,0]
[null,null,null,null,88,0,{"$f":"IF(F1134,SUMPRODUCT(--(F$31:F$1030<=F1134))-SUM(G$1046:G1133),)","v":0},0,{"$f":"IF(H1134,SUMPRODUCT(--(G$31:G$1030<=H1134))-SUM(I$1046:I1133),)","v":0},0,{"$f":"IF(J1134,SUMPRODUCT(--(H$31:H$1030<=J1134))-SUM(K$1046:K1133),)","v":0},0,{"$f":"IF(L1134,SUMPRODUCT(--(I$31:I$1030<=L1134))-SUM(M$1046:M1133),)","v":0},null,0,0]
[null,null,null,null,89,0,{"$f":"IF(F1135,SUMPRODUCT(--(F$31:F$1030<=F1135))-SUM(G$1046:G1134),)","v":0},0,{"$f":"IF(H1135,SUMPRODUCT(--(G$31:G$1030<=H1135))-SUM(I$1046:I1134),)","v":0},0,{"$f":"IF(J1135,SUMPRODUCT(--(H$31:H$1030<=J1135))-SUM(K$1046:K1134),)","v":0},0,{"$f":"IF(L1135,SUMPRODUCT(--(I$31:I$1030<=L1135))-SUM(M$1046:M1134),)","v":0},null,0,0]
[null,null,null,null,90,0,{"$f":"IF(F1136,SUMPRODUCT(--(F$31:F$1030<=F1136))-SUM(G$1046:G1135),)","v":0},0,{"$f":"IF(H1136,SUMPRODUCT(--(G$31:G$1030<=H1136))-SUM(I$1046:I1135),)","v":0},0,{"$f":"IF(J1136,SUMPRODUCT(--(H$31:H$1030<=J1136))-SUM(K$1046:K1135),)","v":0},0,{"$f":"IF(L1136,SUMPRODUCT(--(I$31:I$1030<=L1136))-SUM(M$1046:M1135),)","v":0},null,0,0]
[null,null,null,null,91,0,{"$f":"IF(F1137,SUMPRODUCT(--(F$31:F$1030<=F1137))-SUM(G$1046:G1136),)","v":0},0,{"$f":"IF(H1137,SUMPRODUCT(--(G$31:G$1030<=H1137))-SUM(I$1046:I1136),)","v":0},0,{"$f":"IF(J1137,SUMPRODUCT(--(H$31:H$1030<=J1137))-SUM(K$1046:K1136),)","v":0},0,{"$f":"IF(L1137,SUMPRODUCT(--(I$31:I$1030<=L1137))-SUM(M$1046:M1136),)","v":0},null,0,0]
[null,null,null,null,92,0,{"$f":"IF(F1138,SUMPRODUCT(--(F$31:F$1030<=F1138))-SUM(G$1046:G1137),)","v":0},0,{"$f":"IF(H1138,SUMPRODUCT(--(G$31:G$1030<=H1138))-SUM(I$1046:I1137),)","v":0},0,{"$f":"IF(J1138,SUMPRODUCT(--(H$31:H$1030<=J1138))-SUM(K$1046:K1137),)","v":0},0,{"$f":"IF(L1138,SUMPRODUCT(--(I$31:I$1030<=L1138))-SUM(M$1046:M1137),)","v":0},null,0,0]
[null,null,null,null,93,0,{"$f":"IF(F1139,SUMPRODUCT(--(F$31:F$1030<=F1139))-SUM(G$1046:G1138),)","v":0},0,{"$f":"IF(H1139,SUMPRODUCT(--(G$31:G$1030<=H1139))-SUM(I$1046:I1138),)","v":0},0,{"$f":"IF(J1139,SUMPRODUCT(--(H$31:H$1030<=J1139))-SUM(K$1046:K1138),)","v":0},0,{"$f":"IF(L1139,SUMPRODUCT(--(I$31:I$1030<=L1139))-SUM(M$1046:M1138),)","v":0},null,0,0]
[null,null,null,null,94,0,{"$f":"IF(F1140,SUMPRODUCT(--(F$31:F$1030<=F1140))-SUM(G$1046:G1139),)","v":0},0,{"$f":"IF(H1140,SUMPRODUCT(--(G$31:G$1030<=H1140))-SUM(I$1046:I1139),)","v":0},0,{"$f":"IF(J1140,SUMPRODUCT(--(H$31:H$1030<=J1140))-SUM(K$1046:K1139),)","v":0},0,{"$f":"IF(L1140,SUMPRODUCT(--(I$31:I$1030<=L1140))-SUM(M$1046:M1139),)","v":0},null,0,0]
[null,null,null,null,95,0,{"$f":"IF(F1141,SUMPRODUCT(--(F$31:F$1030<=F1141))-SUM(G$1046:G1140),)","v":0},0,{"$f":"IF(H1141,SUMPRODUCT(--(G$31:G$1030<=H1141))-SUM(I$1046:I1140),)","v":0},0,{"$f":"IF(J1141,SUMPRODUCT(--(H$31:H$1030<=J1141))-SUM(K$1046:K1140),)","v":0},0,{"$f":"IF(L1141,SUMPRODUCT(--(I$31:I$1030<=L1141))-SUM(M$1046:M1140),)","v":0},null,0,0]
[null,null,null,null,96,0,{"$f":"IF(F1142,SUMPRODUCT(--(F$31:F$1030<=F1142))-SUM(G$1046:G1141),)","v":0},0,{"$f":"IF(H1142,SUMPRODUCT(--(G$31:G$1030<=H1142))-SUM(I$1046:I1141),)","v":0},0,{"$f":"IF(J1142,SUMPRODUCT(--(H$31:H$1030<=J1142))-SUM(K$1046:K1141),)","v":0},0,{"$f":"IF(L1142,SUMPRODUCT(--(I$31:I$1030<=L1142))-SUM(M$1046:M1141),)","v":0},null,0,0]
[null,null,null,null,97,0,{"$f":"IF(F1143,SUMPRODUCT(--(F$31:F$1030<=F1143))-SUM(G$1046:G1142),)","v":0},{"$f":"G$1039+IF($E1143<=G$1042,($E1143-1)*G$1041,-G$1039)","v":0},{"$f":"IF(H1143,SUMPRODUCT(--(G$31:G$1030<=H1143))-SUM(I$1046:I1142),)","v":0},0,{"$f":"IF(J1143,SUMPRODUCT(--(H$31:H$1030<=J1143))-SUM(K$1046:K1142),)","v":0},0,{"$f":"IF(L1143,SUMPRODUCT(--(I$31:I$1030<=L1143))-SUM(M$1046:M1142),)","v":0},null,0,0]
[null,null,null,null,98,0,{"$f":"IF(F1144,SUMPRODUCT(--(F$31:F$1030<=F1144))-SUM(G$1046:G1143),)","v":0},{"$f":"G$1039+IF($E1144<=G$1042,($E1144-1)*G$1041,-G$1039)","v":0},{"$f":"IF(H1144,SUMPRODUCT(--(G$31:G$1030<=H1144))-SUM(I$1046:I1143),)","v":0},0,{"$f":"IF(J1144,SUMPRODUCT(--(H$31:H$1030<=J1144))-SUM(K$1046:K1143),)","v":0},0,{"$f":"IF(L1144,SUMPRODUCT(--(I$31:I$1030<=L1144))-SUM(M$1046:M1143),)","v":0},null,0,0]
[null,null,null,null,99,0,{"$f":"IF(F1145,SUMPRODUCT(--(F$31:F$1030<=F1145))-SUM(G$1046:G1144),)","v":0},{"$f":"G$1039+IF($E1145<=G$1042,($E1145-1)*G$1041,-G$1039)","v":0},{"$f":"IF(H1145,SUMPRODUCT(--(G$31:G$1030<=H1145))-SUM(I$1046:I1144),)","v":0},0,{"$f":"IF(J1145,SUMPRODUCT(--(H$31:H$1030<=J1145))-SUM(K$1046:K1144),)","v":0},0,{"$f":"IF(L1145,SUMPRODUCT(--(I$31:I$1030<=L1145))-SUM(M$1046:M1144),)","v":0},null,0,0]
[null,null,null,null,100,0,{"$f":"IF(F1146,SUMPRODUCT(--(F$31:F$1030<=F1146))-SUM(G$1046:G1145),)","v":0},{"$f":"G$1039+IF($E1146<=G$1042,($E1146-1)*G$1041,-G$1039)","v":0},{"$f":"IF(H1146,SUMPRODUCT(--(G$31:G$1030<=H1146))-SUM(I$1046:I1145),)","v":0},0,{"$f":"IF(J1146,SUMPRODUCT(--(H$31:H$1030<=J1146))-SUM(K$1046:K1145),)","v":0},0,{"$f":"IF(L1146,SUMPRODUCT(--(I$31:I$1030<=L1146))-SUM(M$1046:M1145),)","v":0},null,0,0]

{"sheet":"Required_List_SC","index":5,"n_rows":18,"n_cols":4,"rows_kept":18,"cut":false,"hidden":false,"merged":[[11,2,11,5]]}
["SC"]
[]
[]
[]
[]
[]
[]
[]
[null,null,"Required List"]
[null,null,"Section 2."]
[null,null,{"$f":"Model_Name","v":"Simulation Example"}]
[null,null,"Go to Table of Contents"]
[null,null,"ç","è"]
[]
[]
[]
[null,null,"Section Cover Notes:"]
[null,null,"Look Up list for the simulations outputs."]

{"sheet":"Lookups","index":6,"n_rows":13,"n_cols":8,"rows_kept":13,"cut":false,"hidden":false,"merged":[[2,1,2,5]]}
[null,"Lookups"]
[null,{"$f":"Model_Name","v":"Simulation Example"}]
[null,"Go to Table of Contents"]
["é","ç"]
[]
[]
[null,"Simulation Outputs"]
[]
[null,null,null,null,null,"List"]
[null,null,null,null,null,{"$f":"'Simulation Example'!D11","v":"Sales (US$)"},null,"LU_Simulation_Outputs"]
[null,null,null,null,null,{"$f":"'Simulation Example'!D12","v":"Foreign Exchange (US$:A$)"}]
[null,null,null,null,null,{"$f":"'Simulation Example'!D13","v":"Gross Margin (%)"}]
[null,null,null,null,null,{"$f":"'Simulation Example'!L1045","v":"Gross Profit (A$)"}]